Workbook

Sheet Resumen
A1: MES | B1: (Todas)
A2: FECHA | B2: (Todas)
A4: Etiquetas de fila | B4: VENTANILLA | C4: PORTAL WEB | D4: CORREO | E4: WEB MASTER | F4: FAX | G4: RADICACIONES | H4: FOLIOS
A5: ADRIANA ROJAS | B5: 12159 | C5: 8030 | D5: 10425 | E5: 10365 | F5: 110
A6: ADRIANA SIACHOQUE | B6: 14987 | C6: 10036 | D6: 10297 | E6: 10892 | F6: 95
A7: GINNA ROJAS | B7: 10197 | C7: 10487 | D7: 10288 | E7: 10972 | F7: 74
A8: HELLEN BRAVO | B8: 11283 | C8: 7614 | D8: 9906 | E8: 11235 | F8: 81
A9: HUGO MORA | G9: 367027 | H9: 2257717
A10: MARTHA BERNAL | G10: 242603 | H10: 4111928
A11: XIMENA RUBIO | B11: 9987 | C11: 10036 | D11: 10297 | E11: 10892 | F11: 95
A12: Total general | B12: 58613 | C12: 46203 | D12: 51213 | E12: 54356 | F12: 455 | G12: 609630 | H12: 6369645

Sheet TOTALES B
D1: RADICACION | I1: DIGITALIZACION
A2: NOMBRE | B2: MES | C2: FECHA | D2: R. VENTANILLA | E2: R. CORREO | F2: R. WEB MASTER | G2: R. PORTAL WEB | H2: R. FAX | I2: # RADICACIONES | J2: # FOLIOS | K2: TOTAL
A3: =#REF! -> #REF! | B3: Enero de 2016 | C3: 42373 | D3: =#REF! -> #REF! | E3: =#REF! -> #REF! | F3: =#REF! -> #REF! | G3: =#REF! -> #REF! | H3: =#REF! -> #REF! | K3: =SUM(D3:J3) -> #REF!
A4: =A3 -> #REF! | B4: Enero de 2016 | C4: 42374 | D4: =#REF! -> #REF! | E4: =#REF! -> #REF! | F4: =#REF! -> #REF! | G4: =#REF! -> #REF! | H4: =#REF! -> #REF! | K4: =SUM(D4:J4) -> #REF!
A5: =A4 -> #REF! | B5: Enero de 2016 | C5: 42375 | D5: =#REF! -> #REF! | E5: =#REF! -> #REF! | F5: =#REF! -> #REF! | G5: =#REF! -> #REF! | H5: =#REF! -> #REF! | K5: =SUM(D5:J5) -> #REF!
A6: =A5 -> #REF! | B6: Enero de 2016 | C6: 42376 | D6: =#REF! -> #REF! | E6: =#REF! -> #REF! | F6: =#REF! -> #REF! | G6: =#REF! -> #REF! | H6: =#REF! -> #REF! | K6: =SUM(D6:J6) -> #REF!
A7: =A6 -> #REF! | B7: Enero de 2016 | C7: 42377 | D7: =#REF! -> #REF! | E7: =#REF! -> #REF! | F7: =#REF! -> #REF! | G7: =#REF! -> #REF! | H7: =#REF! -> #REF! | K7: =SUM(D7:J7) -> #REF!
A8: =A7 -> #REF! | B8: Enero de 2016 | C8: 42381 | D8: =#REF! -> #REF! | E8: =#REF! -> #REF! | F8: =#REF! -> #REF! | G8: =#REF! -> #REF! | H8: =#REF! -> #REF! | K8: =SUM(D8:J8) -> #REF!
A9: =A8 -> #REF! | B9: Enero de 2016 | C9: 42382 | D9: =#REF! -> #REF! | E9: =#REF! -> #REF! | F9: =#REF! -> #REF! | G9: =#REF! -> #REF! | H9: =#REF! -> #REF! | K9: =SUM(D9:J9) -> #REF!
A10: =A9 -> #REF! | B10: Enero de 2016 | C10: 42383 | D10: =#REF! -> #REF! | E10: =#REF! -> #REF! | F10: =#REF! -> #REF! | G10: =#REF! -> #REF! | H10: =#REF! -> #REF! | K10: =SUM(D10:J10) -> #REF!
A11: =A10 -> #REF! | B11: Enero de 2016 | C11: 42384 | D11: =#REF! -> #REF! | E11: =#REF! -> #REF! | F11: =#REF! -> #REF! | G11: =#REF! -> #REF! | H11: =#REF! -> #REF! | K11: =SUM(D11:J11) -> #REF!
A12: =A11 -> #REF! | B12: Enero de 2016 | C12: 42387 | D12: =#REF! -> #REF! | E12: =#REF! -> #REF! | F12: =#REF! -> #REF! | G12: =#REF! -> #REF! | H12: =#REF! -> #REF! | K12: =SUM(D12:J12) -> #REF!
A13: =A12 -> #REF! | B13: Enero de 2016 | C13: 42388 | D13: =#REF! -> #REF! | E13: =#REF! -> #REF! | F13: =#REF! -> #REF! | G13: =#REF! -> #REF! | H13: =#REF! -> #REF! | K13: =SUM(D13:J13) -> #REF!
A14: =A13 -> #REF! | B14: Enero de 2016 | C14: 42389 | D14: =#REF! -> #REF! | E14: =#REF! -> #REF! | F14: =#REF! -> #REF! | G14: =#REF! -> #REF! | H14: =#REF! -> #REF! | K14: =SUM(D14:J14) -> #REF!
A15: =A14 -> #REF! | B15: Enero de 2016 | C15: 42390 | D15: =#REF! -> #REF! | E15: =#REF! -> #REF! | F15: =#REF! -> #REF! | G15: =#REF! -> #REF! | H15: =#REF! -> #REF! | K15: =SUM(D15:J15) -> #REF!
... A307: =A306 -> #REF! | B307: Diciembre de 2016 | C307: 42734 | D307: =#REF! -> #REF! | E307: =#REF! -> #REF! | F307: =#REF! -> #REF! | G307: =#REF! -> #REF! | H307: =#REF! -> #REF! | K307: =SUM(D307:J307) -> #REF!
A308: =A307 -> #REF! | B308: Diciembre de 2016 | C308: 42735 | D308: =#REF! -> #REF! | E308: =#REF! -> #REF! | F308: =#REF! -> #REF! | G308: =#REF! -> #REF! | H308: =#REF! -> #REF! | I308: =#REF! -> #REF! | J308: =#REF! -> #REF! | K308: =SUM(D308:J308) -> #REF!
A309: =#REF! -> #REF! | B309: Enero de 2016 | C309: 42373 | D309: =#REF! -> #REF! | E309: =#REF! -> #REF! | F309: =#REF! -> #REF! | G309: =#REF! -> #REF! | H309: =#REF! -> #REF! | K309: =SUM(D309:J309) -> #REF!
A310: =A309 -> #REF! | B310: Enero de 2016 | C310: 42374 | D310: =#REF! -> #REF! | E310: =#REF! -> #REF! | F310: =#REF! -> #REF! | G310: =#REF! -> #REF! | H310: =#REF! -> #REF! | K310: =SUM(D310:J310) -> #REF!
A311: =A310 -> #REF! | B311: Enero de 2016 | C311: 42375 | D311: =#REF! -> #REF! | E311: =#REF! -> #REF! | F311: =#REF! -> #REF! | G311: =#REF! -> #REF! | H311: =#REF! -> #REF! | K311: =SUM(D311:J311) -> #REF!
A312: =A311 -> #REF! | B312: Enero de 2016 | C312: 42376 | D312: =#REF! -> #REF! | E312: =#REF! -> #REF! | F312: =#REF! -> #REF! | G312: =#REF! -> #REF! | H312: =#REF! -> #REF! | K312: =SUM(D312:J312) -> #REF!
A313: =A312 -> #REF! | B313: Enero de 2016 | C313: 42377 | D313: =#REF! -> #REF! | E313: =#REF! -> #REF! | F313: =#REF! -> #REF! | G313: =#REF! -> #REF! | H313: =#REF! -> #REF! | K313: =SUM(D313:J313) -> #REF!
A314: =A313 -> #REF! | B314: Enero de 2016 | C314: 42381 | D314: =#REF! -> #REF! | E314: =#REF! -> #REF! | F314: =#REF! -> #REF! | G314: =#REF! -> #REF! | H314: =#REF! -> #REF! | K314: =SUM(D314:J314) -> #REF!
A315: =A314 -> #REF! | B315: Enero de 2016 | C315: 42382 | D315: =#REF! -> #REF! | E315: =#REF! -> #REF! | F315: =#REF! -> #REF! | G315: =#REF! -> #REF! | H315: =#REF! -> #REF! | K315: =SUM(D315:J315) -> #REF!
A316: =A315 -> #REF! | B316: Enero de 2016 | C316: 42383 | D316: =#REF! -> #REF! | E316: =#REF! -> #REF! | F316: =#REF! -> #REF! | G316: =#REF! -> #REF! | H316: =#REF! -> #REF! | K316: =SUM(D316:J316) -> #REF!
A317: =A316 -> #REF! | B317: Enero de 2016 | C317: 42384 | D317: =#REF! -> #REF! | E317: =#REF! -> #REF! | F317: =#REF! -> #REF! | G317: =#REF! -> #REF! | H317: =#REF! -> #REF! | K317: =SUM(D317:J317) -> #REF!
A318: =A317 -> #REF! | B318: Enero de 2016 | C318: 42387 | D318: =#REF! -> #REF! | E318: =#REF! -> #REF! | F318: =#REF! -> #REF! | G318: =#REF! -> #REF! | H318: =#REF! -> #REF! | K318: =SUM(D318:J318) -> #REF!
A319: =A318 -> #REF! | B319: Enero de 2016 | C319: 42388 | D319: =#REF! -> #REF! | E319: =#REF! -> #REF! | F319: =#REF! -> #REF! | G319: =#REF! -> #REF! | H319: =#REF! -> #REF! | K319: =SUM(D319:J319) -> #REF!
A320: =A319 -> #REF! | B320: Enero de 2016 | C320: 42389 | D320: =#REF! -> #REF! | E320: =#REF! -> #REF! | F320: =#REF! -> #REF! | G320: =#REF! -> #REF! | H320: =#REF! -> #REF! | K320: =SUM(D320:J320) -> #REF!
A321: =A320 -> #REF! | B321: Enero de 2016 | C321: 42390 | D321: =#REF! -> #REF! | E321: =#REF! -> #REF! | F321: =#REF! -> #REF! | G321: =#REF! -> #REF! | H321: =#REF! -> #REF! | K321: =SUM(D321:J321) -> #REF!
... A615: =A614 -> #REF! | B615: Diciembre de 2016 | C615: 42735 | D615: =#REF! -> #REF! | E615: =#REF! -> #REF! | F615: =#REF! -> #REF! | G615: =#REF! -> #REF! | H615: =#REF! -> #REF! | K615: =SUM(D615:J615) -> #REF!
A616: =#REF! -> #REF! | B616: Enero de 2016 | C616: 42373 | D616: =#REF! -> #REF! | E616: =#REF! -> #REF! | F616: =#REF! -> #REF! | G616: =#REF! -> #REF! | H616: =#REF! -> #REF! | K616: =SUM(D616:J616) -> #REF!
A617: =A616 -> #REF! | B617: Enero de 2016 | C617: 42374 | D617: =#REF! -> #REF! | E617: =#REF! -> #REF! | F617: =#REF! -> #REF! | G617: =#REF! -> #REF! | H617: =#REF! -> #REF! | K617: =SUM(D617:J617) -> #REF!
A618: =A617 -> #REF! | B618: Enero de 2016 | C618: 42375 | D618: =#REF! -> #REF! | E618: =#REF! -> #REF! | F618: =#REF! -> #REF! | G618: =#REF! -> #REF! | H618: =#REF! -> #REF! | K618: =SUM(D618:J618) -> #REF!
A619: =A618 -> #REF! | B619: Enero de 2016 | C619: 42376 | D619: =#REF! -> #REF! | E619: =#REF! -> #REF! | F619: =#REF! -> #REF! | G619: =#REF! -> #REF! | H619: =#REF! -> #REF! | K619: =SUM(D619:J619) -> #REF!
A620: =A619 -> #REF! | B620: Enero de 2016 | C620: 42377 | D620: =#REF! -> #REF! | E620: =#REF! -> #REF! | F620: =#REF! -> #REF! | G620: =#REF! -> #REF! | H620: =#REF! -> #REF! | K620: =SUM(D620:J620) -> #REF!
A621: =A620 -> #REF! | B621: Enero de 2016 | C621: 42381 | D621: =#REF! -> #REF! | E621: =#REF! -> #REF! | F621: =#REF! -> #REF! | G621: =#REF! -> #REF! | H621: =#REF! -> #REF! | K621: =SUM(D621:J621) -> #REF!
A622: =A621 -> #REF! | B622: Enero de 2016 | C622: 42382 | D622: =#REF! -> #REF! | E622: =#REF! -> #REF! | F622: =#REF! -> #REF! | G622: =#REF! -> #REF! | H622: =#REF! -> #REF! | K622: =SUM(D622:J622) -> #REF!
A623: =A622 -> #REF! | B623: Enero de 2016 | C623: 42383 | D623: =#REF! -> #REF! | E623: =#REF! -> #REF! | F623: =#REF! -> #REF! | G623: =#REF! -> #REF! | H623: =#REF! -> #REF! | K623: =SUM(D623:J623) -> #REF!
A624: =A623 -> #REF! | B624: Enero de 2016 | C624: 42384 | D624: =#REF! -> #REF! | E624: =#REF! -> #REF! | F624: =#REF! -> #REF! | G624: =#REF! -> #REF! | H624: =#REF! -> #REF! | K624: =SUM(D624:J624) -> #REF!
...

Sheet TOTALES
A1: TOTAL RADICACIÓN Y REPARTO
B2: RADICACIÓN | H2: DIGITALIZACIÓN
A3: FECHA | B3: VENTANILLA | C3: CORREO | D3: WEB MASTER | E3: PORTAL WEB | F3: FAX | G3: TOTAL | H3: # RADICACIONES | I3: # FOLIOS
A4: 42373 | B4: =+#REF!+#REF!+#REF!+#REF!+'GDO-FM-020'!C10 -> #REF! | C4: =+#REF!+#REF!+#REF!+#REF!+'GDO-FM-020'!D10 -> #REF! | D4: =+#REF!+#REF!+#REF!+#REF!+'GDO-FM-020'!E10 -> #REF! | E4: =+#REF!+#REF!+#REF!+#REF!+'GDO-FM-020'!H10 -> #REF! | F4: =+#REF!+#REF!+#REF!+#REF!+'GDO-FM-020'!I10 -> #REF! | G4: =+SUM(B4:F4) -> #REF! | H4: =+#REF!+#REF! -> #REF! | I4: =+#REF!+#REF! -> #REF!
A5: 42374 | B5: =+#REF!+#REF!+#REF!+#REF!+'GDO-FM-020'!C11 -> #REF! | C5: =+#REF!+#REF!+#REF!+#REF!+'GDO-FM-020'!D11 -> #REF! | D5: =+#REF!+#REF!+#REF!+#REF!+'GDO-FM-020'!E11 -> #REF! | E5: =+#REF!+#REF!+#REF!+#REF!+'GDO-FM-020'!H11 -> #REF! | F5: =+#REF!+#REF!+#REF!+#REF!+'GDO-FM-020'!I11 -> #REF! | G5: =+SUM(B5:F5) -> #REF! | H5: =+#REF!+#REF! -> #REF! | I5: =+#REF!+#REF! -> #REF!
A6: 42375 | B6: =+#REF!+#REF!+#REF!+#REF!+'GDO-FM-020'!C12 -> #REF! | C6: =+#REF!+#REF!+#REF!+#REF!+'GDO-FM-020'!D12 -> #REF! | D6: =+#REF!+#REF!+#REF!+#REF!+'GDO-FM-020'!E12 -> #REF! | E6: =+#REF!+#REF!+#REF!+#REF!+'GDO-FM-020'!H12 -> #REF! | F6: =+#REF!+#REF!+#REF!+#REF!+'GDO-FM-020'!I12 -> #REF! | G6: =+SUM(B6:F6) -> #REF! | H6: =+#REF!+#REF! -> #REF! | I6: =+#REF!+#REF! -> #REF!
A7: 42376 | B7: =+#REF!+#REF!+#REF!+#REF!+'GDO-FM-020'!C13 -> #REF! | C7: =+#REF!+#REF!+#REF!+#REF!+'GDO-FM-020'!D13 -> #REF! | D7: =+#REF!+#REF!+#REF!+#REF!+'GDO-FM-020'!E13 -> #REF! | E7: =+#REF!+#REF!+#REF!+#REF!+'GDO-FM-020'!H13 -> #REF! | F7: =+#REF!+#REF!+#REF!+#REF!+'GDO-FM-020'!I13 -> #REF! | G7: =+SUM(B7:F7) -> #REF! | H7: =+#REF!+#REF! -> #REF! | I7: =+#REF!+#REF! -> #REF!
A8: 42377 | B8: =+#REF!+#REF!+#REF!+#REF!+'GDO-FM-020'!C14 -> #REF! | C8: =+#REF!+#REF!+#REF!+#REF!+'GDO-FM-020'!D14 -> #REF! | D8: =+#REF!+#REF!+#REF!+#REF!+'GDO-FM-020'!E14 -> #REF! | E8: =+#REF!+#REF!+#REF!+#REF!+'GDO-FM-020'!H14 -> #REF! | F8: =+#REF!+#REF!+#REF!+#REF!+'GDO-FM-020'!I14 -> #REF! | G8: =+SUM(B8:F8) -> #REF! | H8: =+#REF!+#REF! -> #REF! | I8: =+#REF!+#REF! -> #REF!
A9: 42381 | B9: =+#REF!+#REF!+#REF!+#REF!+'GDO-FM-020'!C15 -> #REF! | C9: =+#REF!+#REF!+#REF!+#REF!+'GDO-FM-020'!D15 -> #REF! | D9: =+#REF!+#REF!+#REF!+#REF!+'GDO-FM-020'!E15 -> #REF! | E9: =+#REF!+#REF!+#REF!+#REF!+'GDO-FM-020'!H15 -> #REF! | F9: =+#REF!+#REF!+#REF!+#REF!+'GDO-FM-020'!I15 -> #REF! | G9: =+SUM(B9:F9) -> #REF! | H9: =+#REF!+#REF! -> #REF! | I9: =+#REF!+#REF! -> #REF!
A10: 42382 | B10: =+#REF!+#REF!+#REF!+#REF!+'GDO-FM-020'!C16 -> #REF! | C10: =+#REF!+#REF!+#REF!+#REF!+'GDO-FM-020'!D16 -> #REF! | D10: =+#REF!+#REF!+#REF!+#REF!+'GDO-FM-020'!E16 -> #REF! | E10: =+#REF!+#REF!+#REF!+#REF!+'GDO-FM-020'!H16 -> #REF! | F10: =+#REF!+#REF!+#REF!+#REF!+'GDO-FM-020'!I16 -> #REF! | G10: =+SUM(B10:F10) -> #REF! | H10: =+#REF!+#REF! -> #REF! | I10: =+#REF!+#REF! -> #REF!
A11: 42383 | B11: =+#REF!+#REF!+#REF!+#REF!+'GDO-FM-020'!C17 -> #REF! | C11: =+#REF!+#REF!+#REF!+#REF!+'GDO-FM-020'!D17 -> #REF! | D11: =+#REF!+#REF!+#REF!+#REF!+'GDO-FM-020'!E17 -> #REF! | E11: =+#REF!+#REF!+#REF!+#REF!+'GDO-FM-020'!H17 -> #REF! | F11: =+#REF!+#REF!+#REF!+#REF!+'GDO-FM-020'!I17 -> #REF! | G11: =+SUM(B11:F11) -> #REF! | H11: =+#REF!+#REF! -> #REF! | I11: =+#REF!+#REF! -> #REF!
A12: 42384 | B12: =+#REF!+#REF!+#REF!+#REF!+'GDO-FM-020'!C18 -> #REF! | C12: =+#REF!+#REF!+#REF!+#REF!+'GDO-FM-020'!D18 -> #REF! | D12: =+#REF!+#REF!+#REF!+#REF!+'GDO-FM-020'!E18 -> #REF! | E12: =+#REF!+#REF!+#REF!+#REF!+'GDO-FM-020'!H18 -> #REF! | F12: =+#REF!+#REF!+#REF!+#REF!+'GDO-FM-020'!I18 -> #REF! | G12: =+SUM(B12:F12) -> #REF! | H12: =+#REF!+#REF! -> #REF! | I12: =+#REF!+#REF! -> #REF!
A13: 42387 | B13: =+#REF!+#REF!+#REF!+#REF!+'GDO-FM-020'!C19 -> #REF! | C13: =+#REF!+#REF!+#REF!+#REF!+'GDO-FM-020'!D19 -> #REF! | D13: =+#REF!+#REF!+#REF!+#REF!+'GDO-FM-020'!E19 -> #REF! | E13: =+#REF!+#REF!+#REF!+#REF!+'GDO-FM-020'!H19 -> #REF! | F13: =+#REF!+#REF!+#REF!+#REF!+'GDO-FM-020'!I19 -> #REF! | G13: =+SUM(B13:F13) -> #REF! | H13: =+#REF!+#REF! -> #REF! | I13: =+#REF!+#REF! -> #REF!
A14: 42388 | B14: =+#REF!+#REF!+#REF!+#REF!+'GDO-FM-020'!C20 -> #REF! | C14: =+#REF!+#REF!+#REF!+#REF!+'GDO-FM-020'!D20 -> #REF! | D14: =+#REF!+#REF!+#REF!+#REF!+'GDO-FM-020'!E20 -> #REF! | E14: =+#REF!+#REF!+#REF!+#REF!+'GDO-FM-020'!H20 -> #REF! | F14: =+#REF!+#REF!+#REF!+#REF!+'GDO-FM-020'!I20 -> #REF! | G14: =+SUM(B14:F14) -> #REF! | H14: =+#REF!+#REF! -> #REF! | I14: =+#REF!+#REF! -> #REF!
A15: 42389 | B15: =+#REF!+#REF!+#REF!+#REF!+'GDO-FM-020'!C21 -> #REF! | C15: =+#REF!+#REF!+#REF!+#REF!+'GDO-FM-020'!D21 -> #REF! | D15: =+#REF!+#REF!+#REF!+#REF!+'GDO-FM-020'!E21 -> #REF! | E15: =+#REF!+#REF!+#REF!+#REF!+'GDO-FM-020'!H21 -> #REF! | F15: =+#REF!+#REF!+#REF!+#REF!+'GDO-FM-020'!I21 -> #REF! | G15: =+SUM(B15:F15) -> #REF! | H15: =+#REF!+#REF! -> #REF! | I15: =+#REF!+#REF! -> #REF!
A16: 42390 | B16: =+#REF!+#REF!+#REF!+#REF!+'GDO-FM-020'!C29 -> #REF! | C16: =+#REF!+#REF!+#REF!+#REF!+'GDO-FM-020'!D29 -> #REF! | D16: =+#REF!+#REF!+#REF!+#REF!+'GDO-FM-020'!E29 -> #REF! | E16: =+#REF!+#REF!+#REF!+#REF!+'GDO-FM-020'!H29 -> #REF! | F16: =+#REF!+#REF!+#REF!+#REF!+'GDO-FM-020'!I29 -> #REF! | G16: =+SUM(B16:F16) -> #REF! | H16: =+#REF!+#REF! -> #REF! | I16: =+#REF!+#REF! -> #REF!
A17: 42391 | B17: =+#REF!+#REF!+#REF!+#REF!+'GDO-FM-020'!C30 -> #REF! | C17: =+#REF!+#REF!+#REF!+#REF!+'GDO-FM-020'!D30 -> #REF! | D17: =+#REF!+#REF!+#REF!+#REF!+'GDO-FM-020'!E30 -> #REF! | E17: =+#REF!+#REF!+#REF!+#REF!+'GDO-FM-020'!H30 -> #REF! | F17: =+#REF!+#REF!+#REF!+#REF!+'GDO-FM-020'!I30 -> #REF! | G17: =+SUM(B17:F17) -> #REF! | H17: =+#REF!+#REF! -> #REF! | I17: =+#REF!+#REF! -> #REF!
A18: 42394 | B18: =+#REF!+#REF!+#REF!+#REF!+'GDO-FM-020'!C31 -> #REF! | C18: =+#REF!+#REF!+#REF!+#REF!+'GDO-FM-020'!D31 -> #REF! | D18: =+#REF!+#REF!+#REF!+#REF!+'GDO-FM-020'!E31 -> #REF! | E18: =+#REF!+#REF!+#REF!+#REF!+'GDO-FM-020'!H31 -> #REF! | F18: =+#REF!+#REF!+#REF!+#REF!+'GDO-FM-020'!I31 -> #REF! | G18: =+SUM(B18:F18) -> #REF! | H18: =+#REF!+#REF! -> #REF! | I18: =+#REF!+#REF! -> #REF!
A19: 42395 | B19: =+#REF!+#REF!+#REF!+#REF!+'GDO-FM-020'!C32 -> #REF! | C19: =+#REF!+#REF!+#REF!+#REF!+'GDO-FM-020'!D32 -> #REF! | D19: =+#REF!+#REF!+#REF!+#REF!+'GDO-FM-020'!E32 -> #REF! | E19: =+#REF!+#REF!+#REF!+#REF!+'GDO-FM-020'!H32 -> #REF! | F19: =+#REF!+#REF!+#REF!+#REF!+'GDO-FM-020'!I32 -> #REF! | G19: =+SUM(B19:F19) -> #REF! | H19: =+#REF!+#REF! -> #REF! | I19: =+#REF!+#REF! -> #REF!
A20: 42396 | B20: =+#REF!+#REF!+#REF!+#REF!+'GDO-FM-020'!C33 -> #REF! | C20: =+#REF!+#REF!+#REF!+#REF!+'GDO-FM-020'!D33 -> #REF! | D20: =+#REF!+#REF!+#REF!+#REF!+'GDO-FM-020'!E33 -> #REF! | E20: =+#REF!+#REF!+#REF!+#REF!+'GDO-FM-020'!H33 -> #REF! | F20: =+#REF!+#REF!+#REF!+#REF!+'GDO-FM-020'!I33 -> #REF! | G20: =+SUM(B20:F20) -> #REF! | H20: =+#REF!+#REF! -> #REF! | I20: =+#REF!+#REF! -> #REF!
A21: 42397 | B21: =+#REF!+#REF!+#REF!+#REF!+'GDO-FM-020'!C34 -> #REF! | C21: =+#REF!+#REF!+#REF!+#REF!+'GDO-FM-020'!D34 -> #REF! | D21: =+#REF!+#REF!+#REF!+#REF!+'GDO-FM-020'!E34 -> #REF! | E21: =+#REF!+#REF!+#REF!+#REF!+'GDO-FM-020'!H34 -> #REF! | F21: =+#REF!+#REF!+#REF!+#REF!+'GDO-FM-020'!I34 -> #REF! | G21: =+SUM(B21:F21) -> #REF! | H21: =+#REF!+#REF! -> #REF! | I21: =+#REF!+#REF! -> #REF!
A22: 42398 | B22: =+#REF!+#REF!+#REF!+#REF!+'GDO-FM-020'!C35 -> #REF! | C22: =+#REF!+#REF!+#REF!+#REF!+'GDO-FM-020'!D35 -> #REF! | D22: =+#REF!+#REF!+#REF!+#REF!+'GDO-FM-020'!E35 -> #REF! | E22: =+#REF!+#REF!+#REF!+#REF!+'GDO-FM-020'!H35 -> #REF! | F22: =+#REF!+#REF!+#REF!+#REF!+'GDO-FM-020'!I35 -> #REF! | G22: =+SUM(B22:F22) -> #REF! | H22: =+#REF!+#REF! -> #REF! | I22: =+#REF!+#REF! -> #REF!
A23: TOTAL ENE. | B23: =+SUM(B4:B22) -> #REF! | C23: =+SUM(C4:C22) -> #REF! | D23: =+SUM(D4:D22) -> #REF! | E23: =+SUM(E4:E22) -> #REF! | F23: =+SUM(F4:F22) -> #REF! | G23: =+SUM(G4:G22) -> #REF! | H23: =SUM(H4:H22) -> #REF! | I23: =SUM(I4:I22) -> #REF!
A24: 42401 | B24: =+#REF!+#REF!+#REF!+#REF!+'GDO-FM-020'!C37 -> #REF! | C24: =+#REF!+#REF!+#REF!+#REF!+'GDO-FM-020'!D37 -> #REF! | D24: =+#REF!+#REF!+#REF!+#REF!+'GDO-FM-020'!E37 -> #REF! | E24: =+#REF!+#REF!+#REF!+#REF!+'GDO-FM-020'!H37 -> #REF! | F24: =+#REF!+#REF!+#REF!+#REF!+'GDO-FM-020'!I37 -> #REF! | G24: =SUM(B24:F24) -> #REF! | H24: =+#REF!+#REF! -> #REF! | I24: =+#REF!+#REF! -> #REF!
A25: 42402 | B25: =+#REF!+#REF!+#REF!+#REF!+'GDO-FM-020'!C38 -> #REF! | C25: =+#REF!+#REF!+#REF!+#REF!+'GDO-FM-020'!D38 -> #REF! | D25: =+#REF!+#REF!+#REF!+#REF!+'GDO-FM-020'!E38 -> #REF! | E25: =+#REF!+#REF!+#REF!+#REF!+'GDO-FM-020'!H38 -> #REF! | F25: =+#REF!+#REF!+#REF!+#REF!+'GDO-FM-020'!I38 -> #REF! | G25: =SUM(B25:F25) -> #REF! | H25: =+#REF!+#REF! -> #REF! | I25: =+#REF!+#REF! -> #REF!
A26: 42403 | B26: =+#REF!+#REF!+#REF!+#REF!+'GDO-FM-020'!C39 -> #REF! | C26: =+#REF!+#REF!+#REF!+#REF!+'GDO-FM-020'!D39 -> #REF! | D26: =+#REF!+#REF!+#REF!+#REF!+'GDO-FM-020'!E39 -> #REF! | E26: =+#REF!+#REF!+#REF!+#REF!+'GDO-FM-020'!H39 -> #REF! | F26: =+#REF!+#REF!+#REF!+#REF!+'GDO-FM-020'!I39 -> #REF! | G26: =SUM(B26:F26) -> #REF! | H26: =+#REF!+#REF! -> #REF! | I26: =+#REF!+#REF! -> #REF!
A27: 42404 | B27: =+#REF!+#REF!+#REF!+#REF!+'GDO-FM-020'!C40 -> #REF! | C27: =+#REF!+#REF!+#REF!+#REF!+'GDO-FM-020'!D40 -> #REF! | D27: =+#REF!+#REF!+#REF!+#REF!+'GDO-FM-020'!E40 -> #REF! | E27: =+#REF!+#REF!+#REF!+#REF!+'GDO-FM-020'!H40 -> #REF! | F27: =+#REF!+#REF!+#REF!+#REF!+'GDO-FM-020'!I40 -> #REF! | G27: =SUM(B27:F27) -> #REF! | H27: =+#REF!+#REF! -> #REF! | I27: =+#REF!+#REF! -> #REF!
A28: 42405 | B28: =+#REF!+#REF!+#REF!+#REF!+'GDO-FM-020'!C41 -> #REF! | C28: =+#REF!+#REF!+#REF!+#REF!+'GDO-FM-020'!D41 -> #REF! | D28: =+#REF!+#REF!+#REF!+#REF!+'GDO-FM-020'!E41 -> #REF! | E28: =+#REF!+#REF!+#REF!+#REF!+'GDO-FM-020'!H41 -> #REF! | F28: =+#REF!+#REF!+#REF!+#REF!+'GDO-FM-020'!I41 -> #REF! | G28: =SUM(B28:F28) -> #REF! | H28: =+#REF!+#REF! -> #REF! | I28: =+#REF!+#REF! -> #REF!
A29: 42408 | B29: =+#REF!+#REF!+#REF!+#REF!+'GDO-FM-020'!C42 -> #REF! | C29: =+#REF!+#REF!+#REF!+#REF!+'GDO-FM-020'!D42 -> #REF! | D29: =+#REF!+#REF!+#REF!+#REF!+'GDO-FM-020'!E42 -> #REF! | E29: =+#REF!+#REF!+#REF!+#REF!+'GDO-FM-020'!H42 -> #REF! | F29: =+#REF!+#REF!+#REF!+#REF!+'GDO-FM-020'!I42 -> #REF! | G29: =SUM(B29:F29) -> #REF! | H29: =+#REF!+#REF! -> #REF! | I29: =+#REF!+#REF! -> #REF!
A30: 42409 | B30: =+#REF!+#REF!+#REF!+#REF!+'GDO-FM-020'!C43 -> #REF! | C30: =+#REF!+#REF!+#REF!+#REF!+'GDO-FM-020'!D43 -> #REF! | D30: =+#REF!+#REF!+#REF!+#REF!+'GDO-FM-020'!E43 -> #REF! | E30: =+#REF!+#REF!+#REF!+#REF!+'GDO-FM-020'!H43 -> #REF! | F30: =+#REF!+#REF!+#REF!+#REF!+'GDO-FM-020'!I43 -> #REF! | G30: =SUM(B30:F30) -> #REF! | H30: =+#REF!+#REF! -> #REF! | I30: =+#REF!+#REF! -> #REF!
A31: 42410 | B31: =+#REF!+#REF!+#REF!+#REF!+'GDO-FM-020'!C44 -> #REF! | C31: =+#REF!+#REF!+#REF!+#REF!+'GDO-FM-020'!D44 -> #REF! | D31: =+#REF!+#REF!+#REF!+#REF!+'GDO-FM-020'!E44 -> #REF! | E31: =+#REF!+#REF!+#REF!+#REF!+'GDO-FM-020'!H44 -> #REF! | F31: =+#REF!+#REF!+#REF!+#REF!+'GDO-FM-020'!I44 -> #REF! | G31: =SUM(B31:F31) -> #REF! | H31: =+#REF!+#REF! -> #REF! | I31: =+#REF!+#REF! -> #REF!
A32: 42411 | B32: =+#REF!+#REF!+#REF!+#REF!+'GDO-FM-020'!C45 -> #REF! | C32: =+#REF!+#REF!+#REF!+#REF!+'GDO-FM-020'!D45 -> #REF! | D32: =+#REF!+#REF!+#REF!+#REF!+'GDO-FM-020'!E45 -> #REF! | E32: =+#REF!+#REF!+#REF!+#REF!+'GDO-FM-020'!H45 -> #REF! | F32: =+#REF!+#REF!+#REF!+#REF!+'GDO-FM-020'!I45 -> #REF! | G32: =SUM(B32:F32) -> #REF! | H32: =+#REF!+#REF! -> #REF! | I32: =+#REF!+#REF! -> #REF!
A33: 42412 | B33: =+#REF!+#REF!+#REF!+#REF!+'GDO-FM-020'!C46 -> #REF! | C33: =+#REF!+#REF!+#REF!+#REF!+'GDO-FM-020'!D46 -> #REF! | D33: =+#REF!+#REF!+#REF!+#REF!+'GDO-FM-020'!E46 -> #REF! | E33: =+#REF!+#REF!+#REF!+#REF!+'GDO-FM-020'!H46 -> #REF! | F33: =+#REF!+#REF!+#REF!+#REF!+'GDO-FM-020'!I46 -> #REF! | G33: =SUM(B33:F33) -> #REF! | H33: =+#REF!+#REF! -> #REF! | I33: =+#REF!+#REF! -> #REF!
A34: 42415 | B34: =+#REF!+#REF!+#REF!+#REF!+'GDO-FM-020'!C47 -> #REF! | C34: =+#REF!+#REF!+#REF!+#REF!+'GDO-FM-020'!D47 -> #REF! | D34: =+#REF!+#REF!+#REF!+#REF!+'GDO-FM-020'!E47 -> #REF! | E34: =+#REF!+#REF!+#REF!+#REF!+'GDO-FM-020'!H47 -> #REF! | F34: =+#REF!+#REF!+#REF!+#REF!+'GDO-FM-020'!I47 -> #REF! | G34: =SUM(B34:F34) -> #REF! | H34: =+#REF!+#REF! -> #REF! | I34: =+#REF!+#REF! -> #REF!
A35: 42416 | B35: =+#REF!+#REF!+#REF!+#REF!+'GDO-FM-020'!C48 -> #REF! | C35: =+#REF!+#REF!+#REF!+#REF!+'GDO-FM-020'!D48 -> #REF! | D35: =+#REF!+#REF!+#REF!+#REF!+'GDO-FM-020'!E48 -> #REF! | E35: =+#REF!+#REF!+#REF!+#REF!+'GDO-FM-020'!H48 -> #REF! | F35: =+#REF!+#REF!+#REF!+#REF!+'GDO-FM-020'!I48 -> #REF! | G35: =SUM(B35:F35) -> #REF! | H35: =+#REF!+#REF! -> #REF! | I35: =+#REF!+#REF! -> #REF!
... A44: 42429 | B44: =+#REF!+#REF!+#REF!+#REF!+'GDO-FM-020'!C57 -> #REF! | C44: =+#REF!+#REF!+#REF!+#REF!+'GDO-FM-020'!D57 -> #REF! | D44: =+#REF!+#REF!+#REF!+#REF!+'GDO-FM-020'!E57 -> #REF! | E44: =+#REF!+#REF!+#REF!+#REF!+'GDO-FM-020'!H57 -> #REF! | F44: =+#REF!+#REF!+#REF!+#REF!+'GDO-FM-020'!I57 -> #REF! | G44: =SUM(B44:F44) -> #REF! | H44: =+#REF!+#REF! -> #REF! | I44: =+#REF!+#REF! -> #REF!
A45: TOTAL FEB. | B45: =SUM(B24:B44) -> #REF! | C45: =SUM(C24:C44) -> #REF! | D45: =SUM(D24:D44) -> #REF! | E45: =SUM(E24:E44) -> #REF! | F45: =SUM(F24:F44) -> #REF! | G45: =SUM(G24:G44) -> #REF! | H45: =SUM(H24:H44) -> #REF! | I45: =SUM(I24:I44) -> #REF!
A46: 42430 | B46: =+#REF!+#REF!+#REF!+#REF!+'GDO-FM-020'!C59 -> #REF! | C46: =+#REF!+#REF!+#REF!+#REF!+'GDO-FM-020'!D59 -> #REF! | D46: =+#REF!+#REF!+#REF!+#REF!+'GDO-FM-020'!E59 -> #REF! | E46: =+#REF!+#REF!+#REF!+#REF!+'GDO-FM-020'!H59 -> #REF! | F46: =+#REF!+#REF!+#REF!+#REF!+'GDO-FM-020'!I59 -> #REF! | G46: =SUM(B46:F46) -> #REF! | H46: =+#REF!+#REF! -> #REF! | I46: =+#REF!+#REF! -> #REF!
A47: 42431 | B47: =+#REF!+#REF!+#REF!+#REF!+'GDO-FM-020'!C60 -> #REF! | C47: =+#REF!+#REF!+#REF!+#REF!+'GDO-FM-020'!D60 -> #REF! | D47: =+#REF!+#REF!+#REF!+#REF!+'GDO-FM-020'!E60 -> #REF! | E47: =+#REF!+#REF!+#REF!+#REF!+'GDO-FM-020'!H60 -> #REF! | F47: =+#REF!+#REF!+#REF!+#REF!+'GDO-FM-020'!I60 -> #REF! | G47: =SUM(B47:F47) -> #REF! | H47: =+#REF!+#REF! -> #REF! | I47: =+#REF!+#REF! -> #REF!
A48: 42432 | B48: =+#REF!+#REF!+#REF!+#REF!+'GDO-FM-020'!C61 -> #REF! | C48: =+#REF!+#REF!+#REF!+#REF!+'GDO-FM-020'!D61 -> #REF! | D48: =+#REF!+#REF!+#REF!+#REF!+'GDO-FM-020'!E61 -> #REF! | E48: =+#REF!+#REF!+#REF!+#REF!+'GDO-FM-020'!H61 -> #REF! | F48: =+#REF!+#REF!+#REF!+#REF!+'GDO-FM-020'!I61 -> #REF! | G48: =SUM(B48:F48) -> #REF! | H48: =+#REF!+#REF! -> #REF! | I48: =+#REF!+#REF! -> #REF!
...

Sheet GDO-FM-020
C2: PROCESO: GESTIÓN DOCUMENTAL | O2: Código | P2: GDO-FM-020
O3: Versión | P3: 002
C4: FORMATO: SEGUIMIENTO RADICACIÓN Y DIGITALIZACIÓN | O4: Fecha | P4: 45748
O5: Clasificación de la información | P5: Clasificada
B7: FUNCIONARIO RESPONSABLE:
B8: FECHA | C8: RADICACIÓN | K8: DIGITALIZACIÓN
C9: VENTANILLA | D9: CORREO | E9: INTERNO | F9: SALIDA | G9: WEB MASTER | H9: PORTAL WEB | I9: REASIGNACION (ROL ENRUTADOR) | J9: TOTAL | K9: # RADICACIONES | L9: # FOLIOS | M9: TOTAL | N9: # PRESTAMOS | O9: # FOLIOS | P9: TOTAL
B36: TOTAL ENE. | C36: =+SUM(C10:C35) -> 0 | D36: =+SUM(D10:D35) -> 0 | E36: =+SUM(E10:E35) -> 0 | F36: =+SUM(F10:F35) -> 0 | G36: =+SUM(G10:G35) -> 0 | H36: =+SUM(H10:H35) -> 0 | I36: =+SUM(I10:I35) -> 0 | J36: =SUM(C36:I36) -> 0 | K36: =+SUM(K10:K35) -> 0 | L36: =+SUM(L10:L35) -> 0 | M36: =+SUM(M10:M35) -> 0 | N36: =+SUM(N10:N35) -> 0 | O36: =+SUM(O10:O35) -> 0 | P36: =+SUM(P10:P35) -> 0
B58: TOTAL FEB. | C58: =+SUM(C37:C57) -> 0 | D58: =+SUM(D37:D57) -> 0 | E58: =+SUM(E37:E57) -> 0 | F58: =+SUM(F37:F57) -> 0 | G58: =+SUM(G37:G57) -> 0 | H58: =+SUM(H37:H57) -> 0 | I58: =+SUM(I37:I57) -> 0 | J58: =SUM(C58:I58) -> 0 | K58: =+SUM(K37:K57) -> 0 | L58: =+SUM(L37:L57) -> 0 | M58: =+SUM(M37:M57) -> 0 | N58: =+SUM(N37:N57) -> 0 | O58: =+SUM(O37:O57) -> 0 | P58: =+SUM(P37:P57) -> 0
B79: TOTAL MAR. | C79: =+SUM(C59:C78) -> 0 | D79: =+SUM(D59:D78) -> 0 | E79: =+SUM(E59:E78) -> 0 | F79: =+SUM(F59:F78) -> 0 | G79: =+SUM(G59:G78) -> 0 | H79: =+SUM(H59:H78) -> 0 | I79: =+SUM(I59:I78) -> 0 | J79: =SUM(C79:I79) -> 0 | K79: =+SUM(K59:K78) -> 0 | L79: =+SUM(L59:L78) -> 0 | M79: =+SUM(M59:M78) -> 0 | N79: =+SUM(N59:N78) -> 0 | O79: =+SUM(O59:O78) -> 0 | P79: =+SUM(P59:P78) -> 0
B101: TOTAL ABR. | C101: =+SUM(C80:C100) -> 0 | D101: =+SUM(D80:D100) -> 0 | E101: =+SUM(E80:E100) -> 0 | F101: =+SUM(F80:F100) -> 0 | G101: =+SUM(G80:G100) -> 0 | H101: =+SUM(H80:H100) -> 0 | I101: =+SUM(I80:I100) -> 0 | J101: =SUM(C101:I101) -> 0 | K101: =+SUM(K80:K100) -> 0 | L101: =+SUM(L80:L100) -> 0 | M101: =+SUM(M80:M100) -> 0 | N101: =+SUM(N80:N100) -> 0 | O101: =+SUM(O80:O100) -> 0 | P101: =+SUM(P80:P100) -> 0
B122: TOTAL MAY. | C122: =+SUM(C102:C121) -> 0 | D122: =+SUM(D102:D121) -> 0 | E122: =+SUM(E102:E121) -> 0 | F122: =+SUM(F102:F121) -> 0 | G122: =+SUM(G102:G121) -> 0 | H122: =+SUM(H102:H121) -> 0 | I122: =+SUM(I102:I121) -> 0 | J122: =SUM(C122:I122) -> 0 | K122: =+SUM(K102:K121) -> 0 | L122: =+SUM(L102:L121) -> 0 | M122: =+SUM(M102:M121) -> 0 | N122: =+SUM(N102:N121) -> 0 | O122: =+SUM(O102:O121) -> 0 | P122: =+SUM(P102:P121) -> 0
B144: TOTAL JUN. | C144: =+SUM(C123:C143) -> 0 | D144: =+SUM(D123:D143) -> 0 | E144: =+SUM(E123:E143) -> 0 | F144: =+SUM(F123:F143) -> 0 | G144: =+SUM(G123:G143) -> 0 | H144: =+SUM(H123:H143) -> 0 | I144: =+SUM(I123:I143) -> 0 | J144: =SUM(C144:I144) -> 0 | K144: =+SUM(K123:K143) -> 0 | L144: =+SUM(L123:L143) -> 0 | M144: =+SUM(M123:M143) -> 0 | N144: =+SUM(N123:N143) -> 0 | O144: =+SUM(O123:O143) -> 0 | P144: =+SUM(P123:P143) -> 0
B175: TOTAL JUL. | C175: =+SUM(C145:C174) -> 0 | D175: =+SUM(D145:D174) -> 0 | E175: =+SUM(E145:E174) -> 0 | F175: =+SUM(F145:F174) -> 0 | G175: =+SUM(G145:G174) -> 0 | H175: =+SUM(H145:H174) -> 0 | I175: =+SUM(I145:I174) -> 0 | J175: =SUM(C175:I175) -> 0 | K175: =+SUM(K145:K174) -> 0 | L175: =+SUM(L145:L174) -> 0 | M175: =+SUM(M145:M174) -> 0 | N175: =+SUM(N145:N174) -> 0 | O175: =+SUM(O145:O174) -> 0 | P175: =+SUM(P145:P174) -> 0
B207: TOTAL AGO. | C207: =+SUM(C176:C206) -> 0 | D207: =+SUM(D176:D206) -> 0 | E207: =+SUM(E176:E206) -> 0 | F207: =+SUM(F176:F206) -> 0 | G207: =+SUM(G176:G206) -> 0 | H207: =+SUM(H176:H206) -> 0 | I207: =+SUM(I176:I206) -> 0 | J207: =SUM(C207:I207) -> 0 | K207: =+SUM(K176:K206) -> 0 | L207: =+SUM(L176:L206) -> 0 | M207: =+SUM(M176:M206) -> 0 | N207: =+SUM(N176:N206) -> 0 | O207: =+SUM(O176:O206) -> 0 | P207: =+SUM(P176:P206) -> 0
B238: TOTAL SEP. | C238: =+SUM(C207:C237) -> 0 | D238: =+SUM(D207:D237) -> 0 | E238: =+SUM(E207:E237) -> 0 | F238: =+SUM(F207:F237) -> 0 | G238: =+SUM(G207:G237) -> 0 | H238: =+SUM(H207:H237) -> 0 | I238: =+SUM(I207:I237) -> 0 | J238: =SUM(C238:I238) -> 0 | K238: =+SUM(K207:K237) -> 0 | L238: =+SUM(L207:L237) -> 0 | M238: =+SUM(M207:M237) -> 0 | N238: =+SUM(N207:N237) -> 0 | O238: =+SUM(O207:O237) -> 0 | P238: =+SUM(P207:P237) -> 0
B270: TOTAL OCT. | C270: =+SUM(C239:C269) -> 0 | D270: =+SUM(D239:D269) -> 0 | E270: =+SUM(E239:E269) -> 0 | F270: =+SUM(F239:F269) -> 0 | G270: =+SUM(G239:G269) -> 0 | H270: =+SUM(H239:H269) -> 0 | I270: =+SUM(I239:I269) -> 0 | J270: =SUM(C270:I270) -> 0 | K270: =+SUM(K239:K269) -> 0 | L270: =+SUM(L239:L269) -> 0 | M270: =+SUM(M239:M269) -> 0 | N270: =+SUM(N239:N269) -> 0 | O270: =+SUM(O239:O269) -> 0 | P270: =+SUM(P239:P269) -> 0
B301: TOTAL NOV. | C301: =+SUM(C270:C300) -> 0 | D301: =+SUM(D270:D300) -> 0 | E301: =+SUM(E270:E300) -> 0 | F301: =+SUM(F270:F300) -> 0 | G301: =+SUM(G270:G300) -> 0 | H301: =+SUM(H270:H300) -> 0 | I301: =+SUM(I270:I300) -> 0 | J301: =SUM(C301:I301) -> 0 | K301: =+SUM(K270:K300) -> 0 | L301: =+SUM(L270:L300) -> 0 | M301: =+SUM(M270:M300) -> 0 | N301: =+SUM(N270:N300) -> 0 | O301: =+SUM(O270:O300) -> 0 | P301: =+SUM(P270:P300) -> 0
B333: TOTAL DIC. | C333: =+SUM(C302:C332) -> 0 | D333: =+SUM(D302:D332) -> 0 | E333: =+SUM(E302:E332) -> 0 | F333: =+SUM(F302:F332) -> 0 | G333: =+SUM(G302:G332) -> 0 | H333: =+SUM(H302:H332) -> 0 | I333: =+SUM(I302:I332) -> 0 | J333: =SUM(C333:I333) -> 0 | K333: =+SUM(K302:K332) -> 0 | L333: =+SUM(L302:L332) -> 0 | M333: =+SUM(M302:M332) -> 0 | N333: =+SUM(N302:N332) -> 0 | O333: =+SUM(O302:O332) -> 0 | P333: =+SUM(P302:P332) -> 0

Sheet CONTROL DE CAMBIOS
A1: Versión | B1: Fecha | C1: Descripción
A2: 002 | B2: 45737 | C2: Se registra la palabra Clasificada en el campo de Clasificación de la información. Se incluye la columna Interno. Se incluye la columna Salida. Se suprime la columna Fax. Se incluye la columna Asignación (Rol Enrutador). Se incluye columna Número de Préstamos. Se incluye columna Total. Se modificó la codificación, encabezado y control de cambios según la guía GIN-GU-003 Guía: Elaboración de los documentos del SGI.
