Workbook

Sheet Resumen
A1: MES | B1: (Todas)
A2: FECHA | B2: (Todas)
A4: Etiquetas de fila | B4: VENTANILLA | C4: PORTAL WEB | D4: CORREO | E4: WEB MASTER | F4: FAX | G4: RADICACIONES | H4: FOLIOS
A5: ADRIANA ROJAS | B5: 12159 | C5: 8030 | D5: 10425 | E5: 10365 | F5: 110
A6: ADRIANA SIACHOQUE | B6: 14987 | C6: 10036 | D6: 10297 | E6: 10892 | F6: 95
A7: GINNA ROJAS | B7: 10197 | C7: 10487 | D7: 10288 | E7: 10972 | F7: 74
A8: HELLEN BRAVO | B8: 11283 | C8: 7614 | D8: 9906 | E8: 11235 | F8: 81
A9: HUGO MORA | G9: 367027 | H9: 2257717
A10: MARTHA BERNAL | G10: 242603 | H10: 4111928
A11: XIMENA RUBIO | B11: 9987 | C11: 10036 | D11: 10297 | E11: 10892 | F11: 95
A12: Total general | B12: 58613 | C12: 46203 | D12: 51213 | E12: 54356 | F12: 455 | G12: 609630 | H12: 6369645

Sheet TOTALES B
D1: RADICACION | I1: DIGITALIZACION
A2: NOMBRE | B2: MES | C2: FECHA | D2: R. VENTANILLA | E2: R. CORREO | F2: R. WEB MASTER | G2: R. PORTAL WEB | H2: R. FAX | I2: # RADICACIONES | J2: # FOLIOS | K2: TOTAL
A3: =#REF! -> #REF! | B3: Enero de 2016 | C3: 42373 | D3: =#REF! -> #REF! | E3: =#REF! -> #REF! | F3: =#REF! -> #REF! | G3: =#REF! -> #REF! | H3: =#REF! -> #REF! | K3: =SUM(D3:J3) -> #REF!
A4: =A3 -> #REF! | B4: Enero de 2016 | C4: 42374 | D4: =#REF! -> #REF! | E4: =#REF! -> #REF! | F4: =#REF! -> #REF! | G4: =#REF! -> #REF! | H4: =#REF! -> #REF! | K4: =SUM(D4:J4) -> #REF!
A5: =A4 -> #REF! | B5: Enero de 2016 | C5: 42375 | D5: =#REF! -> #REF! | E5: =#REF! -> #REF! | F5: =#REF! -> #REF! | G5: =#REF! -> #REF! | H5: =#REF! -> #REF! | K5: =SUM(D5:J5) -> #REF!
A6: =A5 -> #REF! | B6: Enero de 2016 | C6: 42376 | D6: =#REF! -> #REF! | E6: =#REF! -> #REF! | F6: =#REF! -> #REF! | G6: =#REF! -> #REF! | H6: =#REF! -> #REF! | K6: =SUM(D6:J6) -> #REF!
A7: =A6 -> #REF! | B7: Enero de 2016 | C7: 42377 | D7: =#REF! -> #REF! | E7: =#REF! -> #REF! | F7: =#REF! -> #REF! | G7: =#REF! -> #REF! | H7: =#REF! -> #REF! | K7: =SUM(D7:J7) -> #REF!
A8: =A7 -> #REF! | B8: Enero de 2016 | C8: 42381 | D8: =#REF! -> #REF! | E8: =#REF! -> #REF! | F8: =#REF! -> #REF! | G8: =#REF! -> #REF! | H8: =#REF! -> #REF! | K8: =SUM(D8:J8) -> #REF!
A9: =A8 -> #REF! | B9: Enero de 2016 | C9: 42382 | D9: =#REF! -> #REF! | E9: =#REF! -> #REF! | F9: =#REF! -> #REF! | G9: =#REF! -> #REF! | H9: =#REF! -> #REF! | K9: =SUM(D9:J9) -> #REF!
A10: =A9 -> #REF! | B10: Enero de 2016 | C10: 42383 | D10: =#REF! -> #REF! | E10: =#REF! -> #REF! | F10: =#REF! -> #REF! | G10: =#REF! -> #REF! | H10: =#REF! -> #REF! | K10: =SUM(D10:J10) -> #REF!
A11: =A10 -> #REF! | B11: Enero de 2016 | C11: 42384 | D11: =#REF! -> #REF! | E11: =#REF! -> #REF! | F11: =#REF! -> #REF! | G11: =#REF! -> #REF! | H11: =#REF! -> #REF! | K11: =SUM(D11:J11) -> #REF!
A12: =A11 -> #REF! | B12: Enero de 2016 | C12: 42387 | D12: =#REF! -> #REF! | E12: =#REF! -> #REF! | F12: =#REF! -> #REF! | G12: =#REF! -> #REF! | H12: =#REF! -> #REF! | K12: =SUM(D12:J12) -> #REF!
A13: =A12 -> #REF! | B13: Enero de 2016 | C13: 42388 | D13: =#REF! -> #REF! | E13: =#REF! -> #REF! | F13: =#REF! -> #REF! | G13: =#REF! -> #REF! | H13: =#REF! -> #REF! | K13: =SUM(D13:J13) -> #REF!
A14: =A13 -> #REF! | B14: Enero de 2016 | C14: 42389 | D14: =#REF! -> #REF! | E14: =#REF! -> #REF! | F14: =#REF! -> #REF! | G14: =#REF! -> #REF! | H14: =#REF! -> #REF! | K14: =SUM(D14:J14) -> #REF!
A15: =A14 -> #REF! | B15: Enero de 2016 | C15: 42390 | D15: =#REF! -> #REF! | E15: =#REF! -> #REF! | F15: =#REF! -> #REF! | G15: =#REF! -> #REF! | H15: =#REF! -> #REF! | K15: =SUM(D15:J15) -> #REF!
... A307: =A306 -> #REF! | B307: Diciembre de 2016 | C307: 42734 | D307: =#REF! -> #REF! | E307: =#REF! -> #REF! | F307: =#REF! -> #REF! | G307: =#REF! -> #REF! | H307: =#REF! -> #REF! | K307: =SUM(D307:J307) -> #REF!
A308: =A307 -> #REF! | B308: Diciembre de 2016 | C308: 42735 | D308: =#REF! -> #REF! | E308: =#REF! -> #REF! | F308: =#REF! -> #REF! | G308: =#REF! -> #REF! | H308: =#REF! -> #REF! | I308: =#REF! -> #REF! | J308: =#REF! -> #REF! | K308: =SUM(D308:J308) -> #REF!
A309: =#REF! -> #REF! | B309: Enero de 2016 | C309: 42373 | D309: =#REF! -> #REF! | E309: =#REF! -> #REF! | F309: =#REF! -> #REF! | G309: =#REF! -> #REF! | H309: =#REF! -> #REF! | K309: =SUM(D309:J309) -> #REF!
A310: =A309 -> #REF! | B310: Enero de 2016 | C310: 42374 | D310: =#REF! -> #REF! | E310: =#REF! -> #REF! | F310: =#REF! -> #REF! | G310: =#REF! -> #REF! | H310: =#REF! -> #REF! | K310: =SUM(D310:J310) -> #REF!
A311: =A310 -> #REF! | B311: Enero de 2016 | C311: 42375 | D311: =#REF! -> #REF! | E311: =#REF! -> #REF! | F311: =#REF! -> #REF! | G311: =#REF! -> #REF! | H311: =#REF! -> #REF! | K311: =SUM(D311:J311) -> #REF!
A312: =A311 -> #REF! | B312: Enero de 2016 | C312: 42376 | D312: =#REF! -> #REF! | E312: =#REF! -> #REF! | F312: =#REF! -> #REF! | G312: =#REF! -> #REF! | H312: =#REF! -> #REF! | K312: =SUM(D312:J312) -> #REF!
A313: =A312 -> #REF! | B313: Enero de 2016 | C313: 42377 | D313: =#REF! -> #REF! | E313: =#REF! -> #REF! | F313: =#REF! -> #REF! | G313: =#REF! -> #REF! | H313: =#REF! -> #REF! | K313: =SUM(D313:J313) -> #REF!
A314: =A313 -> #REF! | B314: Enero de 2016 | C314: 42381 | D314: =#REF! -> #REF! | E314: =#REF! -> #REF! | F314: =#REF! -> #REF! | G314: =#REF! -> #REF! | H314: =#REF! -> #REF! | K314: =SUM(D314:J314) -> #REF!
A315: =A314 -> #REF! | B315: Enero de 2016 | C315: 42382 | D315: =#REF! -> #REF! | E315: =#REF! -> #REF! | F315: =#REF! -> #REF! | G315: =#REF! -> #REF! | H315: =#REF! -> #REF! | K315: =SUM(D315:J315) -> #REF!
A316: =A315 -> #REF! | B316: Enero de 2016 | C316: 42383 | D316: =#REF! -> #REF! | E316: =#REF! -> #REF! | F316: =#REF! -> #REF! | G316: =#REF! -> #REF! | H316: =#REF! -> #REF! | K316: =SUM(D316:J316) -> #REF!
A317: =A316 -> #REF! | B317: Enero de 2016 | C317: 42384 | D317: =#REF! -> #REF! | E317: =#REF! -> #REF! | F317: =#REF! -> #REF! | G317: =#REF! -> #REF! | H317: =#REF! -> #REF! | K317: =SUM(D317:J317) -> #REF!
A318: =A317 -> #REF! | B318: Enero de 2016 | C318: 42387 | D318: =#REF! -> #REF! | E318: =#REF! -> #REF! | F318: =#REF! -> #REF! | G318: =#REF! -> #REF! | H318: =#REF! -> #REF! | K318: =SUM(D318:J318) -> #REF!
A319: =A318 -> #REF! | B319: Enero de 2016 | C319: 42388 | D319: =#REF! -> #REF! | E319: =#REF! -> #REF! | F319: =#REF! -> #REF! | G319: =#REF! -> #REF! | H319: =#REF! -> #REF! | K319: =SUM(D319:J319) -> #REF!
A320: =A319 -> #REF! | B320: Enero de 2016 | C320: 42389 | D320: =#REF! -> #REF! | E320: =#REF! -> #REF! | F320: =#REF! -> #REF! | G320: =#REF! -> #REF! | H320: =#REF! -> #REF! | K320: =SUM(D320:J320) -> #REF!
A321: =A320 -> #REF! | B321: Enero de 2016 | C321: 42390 | D321: =#REF! -> #REF! | E321: =#REF! -> #REF! | F321: =#REF! -> #REF! | G321: =#REF! -> #REF! | H321: =#REF! -> #REF! | K321: =SUM(D321:J321) -> #REF!
... A615: =A614 -> #REF! | B615: Diciembre de 2016 | C615: 42735 | D615: =#REF! -> #REF! | E615: =#REF! -> #REF! | F615: =#REF! -> #REF! | G615: =#REF! -> #REF! | H615: =#REF! -> #REF! | K615: =SUM(D615:J615) -> #REF!
A616: =#REF! -> #REF! | B616: Enero de 2016 | C616: 42373 | D616: =#REF! -> #REF! | E616: =#REF! -> #REF! | F616: =#REF! -> #REF! | G616: =#REF! -> #REF! | H616: =#REF! -> #REF! | K616: =SUM(D616:J616) -> #REF!
A617: =A616 -> #REF! | B617: Enero de 2016 | C617: 42374 | D617: =#REF! -> #REF! | E617: =#REF! -> #REF! | F617: =#REF! -> #REF! | G617: =#REF! -> #REF! | H617: =#REF! -> #REF! | K617: =SUM(D617:J617) -> #REF!
A618: =A617 -> #REF! | B618: Enero de 2016 | C618: 42375 | D618: =#REF! -> #REF! | E618: =#REF! -> #REF! | F618: =#REF! -> #REF! | G618: =#REF! -> #REF! | H618: =#REF! -> #REF! | K618: =SUM(D618:J618) -> #REF!
A619: =A618 -> #REF! | B619: Enero de 2016 | C619: 42376 | D619: =#REF! -> #REF! | E619: =#REF! -> #REF! | F619: =#REF! -> #REF! | G619: =#REF! -> #REF! | H619: =#REF! -> #REF! | K619: =SUM(D619:J619) -> #REF!
A620: =A619 -> #REF! | B620: Enero de 2016 | C620: 42377 | D620: =#REF! -> #REF! | E620: =#REF! -> #REF! | F620: =#REF! -> #REF! | G620: =#REF! -> #REF! | H620: =#REF! -> #REF! | K620: =SUM(D620:J620) -> #REF!
A621: =A620 -> #REF! | B621: Enero de 2016 | C621: 42381 | D621: =#REF! -> #REF! | E621: =#REF! -> #REF! | F621: =#REF! -> #REF! | G621: =#REF! -> #REF! | H621: =#REF! -> #REF! | K621: =SUM(D621:J621) -> #REF!
A622: =A621 -> #REF! | B622: Enero de 2016 | C622: 42382 | D622: =#REF! -> #REF! | E622: =#REF! -> #REF! | F622: =#REF! -> #REF! | G622: =#REF! -> #REF! | H622: =#REF! -> #REF! | K622: =SUM(D622:J622) -> #REF!
A623: =A622 -> #REF! | B623: Enero de 2016 | C623: 42383 | D623: =#REF! -> #REF! | E623: =#REF! -> #REF! | F623: =#REF! -> #REF! | G623: =#REF! -> #REF! | H623: =#REF! -> #REF! | K623: =SUM(D623:J623) -> #REF!
A624: =A623 -> #REF! | B624: Enero de 2016 | C624: 42384 | D624: =#REF! -> #REF! | E624: =#REF! -> #REF! | F624: =#REF! -> #REF! | G624: =#REF! -> #REF! | H624: =#REF! -> #REF! | K624: =SUM(D624:J624) -> #REF!
A625: =A624 -> #REF! | B625: Enero de 2016 | C625: 42387 | D625: =#REF! -> #REF! | E625: =#REF! -> #REF! | F625: =#REF! -> #REF! | G625: =#REF! -> #REF! | H625: =#REF! -> #REF! | K625: =SUM(D625:J625) -> #REF!
A626: =A625 -> #REF! | B626: Enero de 2016 | C626: 42388 | D626: =#REF! -> #REF! | E626: =#REF! -> #REF! | F626: =#REF! -> #REF! | G626: =#REF! -> #REF! | H626: =#REF! -> #REF! | K626: =SUM(D626:J626) -> #REF!
A627: =A626 -> #REF! | B627: Enero de 2016 | C627: 42389 | D627: =#REF! -> #REF! | E627: =#REF! -> #REF! | F627: =#REF! -> #REF! | G627: =#REF! -> #REF! | H627: =#REF! -> #REF! | K627: =SUM(D627:J627) -> #REF!
A628: =A627 -> #REF! | B628: Enero de 2016 | C628: 42390 | D628: =#REF! -> #REF! | E628: =#REF! -> #REF! | F628: =#REF! -> #REF! | G628: =#REF! -> #REF! | H628: =#REF! -> #REF! | K628: =SUM(D628:J628) -> #REF!
... A921: =A920 -> #REF! | B921: Diciembre de 2016 | C921: 42735 | D921: =#REF! -> #REF! | E921: =#REF! -> #REF! | F921: =#REF! -> #REF! | G921: =#REF! -> #REF! | H921: =#REF! -> #REF! | K921: =SUM(D921:J921) -> #REF!
A922: =#REF! -> #REF! | B922: Enero de 2016 | C922: 42373 | D922: =#REF! -> #REF! | E922: =#REF! -> #REF! | F922: =#REF! -> #REF! | G922: =#REF! -> #REF! | H922: =#REF! -> #REF! | K922: =SUM(D922:J922) -> #REF!
A923: =A922 -> #REF! | B923: Enero de 2016 | C923: 42374 | D923: =#REF! -> #REF! | E923: =#REF! -> #REF! | F923: =#REF! -> #REF! | G923: =#REF! -> #REF! | H923: =#REF! -> #REF! | K923: =SUM(D923:J923) -> #REF!
A924: =A923 -> #REF! | B924: Enero de 2016 | C924: 42375 | D924: =#REF! -> #REF! | E924: =#REF! -> #REF! | F924: =#REF! -> #REF! | G924: =#REF! -> #REF! | H924: =#REF! -> #REF! | K924: =SUM(D924:J924) -> #REF!
A925: =A924 -> #REF! | B925: Enero de 2016 | C925: 42376 | D925: =#REF! -> #REF! | E925: =#REF! -> #REF! | F925: =#REF! -> #REF! | G925: =#REF! -> #REF! | H925: =#REF! -> #REF! | K925: =SUM(D925:J925) -> #REF!
A926: =A925 -> #REF! | B926: Enero de 2016 | C926: 42377 | D926: =#REF! -> #REF! | E926: =#REF! -> #REF! | F926: =#REF! -> #REF! | G926: =#REF! -> #REF! | H926: =#REF! -> #REF! | K926: =SUM(D926:J926) -> #REF!
A927: =A926 -> #REF! | B927: Enero de 2016 | C927: 42381 | D927: =#REF! -> #REF! | E927: =#REF! -> #REF! | F927: =#REF! -> #REF! | G927: =#REF! -> #REF! | H927: =#REF! -> #REF! | K927: =SUM(D927:J927) -> #REF!
A928: =A927 -> #REF! | B928: Enero de 2016 | C928: 42382 | D928: =#REF! -> #REF! | E928: =#REF! -> #REF! | F928: =#REF! -> #REF! | G928: =#REF! -> #REF! | H928: =#REF! -> #REF! | K928: =SUM(D928:J928) -> #REF!
A929: =A928 -> #REF! | B929: Enero de 2016 | C929: 42383 | D929: =#REF! -> #REF! | E929: =#REF! -> #REF! | F929: =#REF! -> #REF! | G929: =#REF! -> #REF! | H929: =#REF! -> #REF! | K929: =SUM(D929:J929) -> #REF!
A930: =A929 -> #REF! | B930: Enero de 2016 | C930: 42384 | D930: =#REF! -> #REF! | E930: =#REF! -> #REF! | F930: =#REF! -> #REF! | G930: =#REF! -> #REF! | H930: =#REF! -> #REF! | K930: =SUM(D930:J930) -> #REF!
A931: =A930 -> #REF! | B931: Enero de 2016 | C931: 42387 | D931: =#REF! -> #REF! | E931: =#REF! -> #REF! | F931: =#REF! -> #REF! | G931: =#REF! -> #REF! | H931: =#REF! -> #REF! | K931: =SUM(D931:J931) -> #REF!
A932: =A931 -> #REF! | B932: Enero de 2016 | C932: 42388 | D932: =#REF! -> #REF! | E932: =#REF! -> #REF! | F932: =#REF! -> #REF! | G932: =#REF! -> #REF! | H932: =#REF! -> #REF! | K932: =SUM(D932:J932) -> #REF!
A933: =A932 -> #REF! | B933: Enero de 2016 | C933: 42389 | D933: =#REF! -> #REF! | E933: =#REF! -> #REF! | F933: =#REF! -> #REF! | G933: =#REF! -> #REF! | H933: =#REF! -> #REF! | K933: =SUM(D933:J933) -> #REF!
A934: =A933 -> #REF! | B934: Enero de 2016 | C934: 42390 | D934: =#REF! -> #REF! | E934: =#REF! -> #REF! | F934: =#REF! -> #REF! | G934: =#REF! -> #REF! | H934: =#REF! -> #REF! | K934: =SUM(D934:J934) -> #REF!
... A1227: =A1226 -> #REF! | B1227: Diciembre de 2016 | C1227: 42735 | D1227: =#REF! -> #REF! | E1227: =#REF! -> #REF! | F1227: =#REF! -> #REF! | G1227: =#REF! -> #REF! | H1227: =#REF! -> #REF! | K1227: =SUM(D1227:J1227) -> #REF!
A1228: ='GDO-FM-020'!#REF! -> #REF! | B1228: Enero de 2016 | C1228: 42373 | D1228: ='GDO-FM-020'!C10 -> 0 | E1228: ='GDO-FM-020'!D10 -> 0 | F1228: ='GDO-FM-020'!E10 -> 0 | G1228: ='GDO-FM-020'!H10 -> 0 | H1228: ='GDO-FM-020'!I10 -> 0 | K1228: =SUM(D1228:J1228) -> 0
A1229: =A1228 -> #REF! | B1229: Enero de 2016 | C1229: 42374 | D1229: ='GDO-FM-020'!C11 -> 0 | E1229: ='GDO-FM-020'!D11 -> 0 | F1229: ='GDO-FM-020'!E11 -> 0 | G1229: ='GDO-FM-020'!H11 -> 0 | H1229: ='GDO-FM-020'!I11 -> 0 | K1229: =SUM(D1229:J1229) -> 0
A1230: =A1229 -> #REF! | B1230: Enero de 2016 | C1230: 42375 | D1230: ='GDO-FM-020'!C12 -> 0 | E1230: ='GDO-FM-020'!D12 -> 0 | F1230: ='GDO-FM-020'!E12 -> 0 | G1230: ='GDO-FM-020'!H12 -> 0 | H1230: ='GDO-FM-020'!I12 -> 0 | K1230: =SUM(D1230:J1230) -> 0
A1231: =A1230 -> #REF! | B1231: Enero de 2016 | C1231: 42376 | D1231: ='GDO-FM-020'!C13 -> 0 | E1231: ='GDO-FM-020'!D13 -> 0 | F1231: ='GDO-FM-020'!E13 -> 0 | G1231: ='GDO-FM-020'!H13 -> 0 | H1231: ='GDO-FM-020'!I13 -> 0 | K1231: =SUM(D1231:J1231) -> 0
A1232: =A1231 -> #REF! | B1232: Enero de 2016 | C1232: 42377 | D1232: ='GDO-FM-020'!C14 -> 0 | E1232: ='GDO-FM-020'!D14 -> 0 | F1232: ='GDO-FM-020'!E14 -> 0 | G1232: ='GDO-FM-020'!H14 -> 0 | H1232: ='GDO-FM-020'!I14 -> 0 | K1232: =SUM(D1232:J1232) -> 0
A1233: =A1232 -> #REF! | B1233: Enero de 2016 | C1233: 42381 | D1233: ='GDO-FM-020'!C15 -> 0 | E1233: ='GDO-FM-020'!D15 -> 0 | F1233: ='GDO-FM-020'!E15 -> 0 | G1233: ='GDO-FM-020'!H15 -> 0 | H1233: ='GDO-FM-020'!I15 -> 0 | K1233: =SUM(D1233:J1233) -> 0
A1234: =A1233 -> #REF! | B1234: Enero de 2016 | C1234: 42382 | D1234: ='GDO-FM-020'!C16 -> 0 | E1234: ='GDO-FM-020'!D16 -> 0 | F1234: ='GDO-FM-020'!E16 -> 0 | G1234: ='GDO-FM-020'!H16 -> 0 | H1234: ='GDO-FM-020'!I16 -> 0 | K1234: =SUM(D1234:J1234) -> 0
A1235: =A1234 -> #REF! | B1235: Enero de 2016 | C1235: 42383 | D1235: ='GDO-FM-020'!C17 -> 0 | E1235: ='GDO-FM-020'!D17 -> 0 | F1235: ='GDO-FM-020'!E17 -> 0 | G1235: ='GDO-FM-020'!H17 -> 0 | H1235: ='GDO-FM-020'!I17 -> 0 | K1235: =SUM(D1235:J1235) -> 0
A1236: =A1235 -> #REF! | B1236: Enero de 2016 | C1236: 42384 | D1236: ='GDO-FM-020'!C18 -> 0 | E1236: ='GDO-FM-020'!D18 -> 0 | F1236: ='GDO-FM-020'!E18 -> 0 | G1236: ='GDO-FM-020'!H18 -> 0 | H1236: ='GDO-FM-020'!I18 -> 0 | K1236: =SUM(D1236:J1236) -> 0
A1237: =A1236 -> #REF! | B1237: Enero de 2016 | C1237: 42387 | D1237: ='GDO-FM-020'!C19 -> 0 | E1237: ='GDO-FM-020'!D19 -> 0 | F1237: ='GDO-FM-020'!E19 -> 0 | G1237: ='GDO-FM-020'!H19 -> 0 | H1237: ='GDO-FM-020'!I19 -> 0 | K1237: =SUM(D1237:J1237) -> 0
A1238: =A1237 -> #REF! | B1238: Enero de 2016 | C1238: 42388 | D1238: ='GDO-FM-020'!C20 -> 0 | E1238: ='GDO-FM-020'!D20 -> 0 | F1238: ='GDO-FM-020'!E20 -> 0 | G1238: ='GDO-FM-020'!H20 -> 0 | H1238: ='GDO-FM-020'!I20 -> 0 | K1238: =SUM(D1238:J1238) -> 0
A1239: =A1238 -> #REF! | B1239: Enero de 2016 | C1239: 42389 | D1239: ='GDO-FM-020'!C21 -> 0 | E1239: ='GDO-FM-020'!D21 -> 0 | F1239: ='GDO-FM-020'!E21 -> 0 | G1239: ='GDO-FM-020'!H21 -> 0 | H1239: ='GDO-FM-020'!I21 -> 0 | K1239: =SUM(D1239:J1239) -> 0
A1240: =A1239 -> #REF! | B1240: Enero de 2016 | C1240: 42390 | D1240: ='GDO-FM-020'!C29 -> 0 | E1240: ='GDO-FM-020'!D29 -> 0 | F1240: ='GDO-FM-020'!E29 -> 0 | G1240: ='GDO-FM-020'!H29 -> 0 | H1240: ='GDO-FM-020'!I29 -> 0 | K1240: =SUM(D1240:J1240) -> 0
A1241: =A1240 -> #REF! | B1241: Enero de 2016 | C1241: 42391 | D1241: ='GDO-FM-020'!C30 -> 0 | E1241: ='GDO-FM-020'!D30 -> 0 | F1241: ='GDO-FM-020'!E30 -> 0 | G1241: ='GDO-FM-020'!H30 -> 0 | H1241: ='GDO-FM-020'!I30 -> 0 | K1241: =SUM(D1241:J1241) -> 0
A1242: =A1241 -> #REF! | B1242: Enero de 2016 | C1242: 42394 | D1242: ='GDO-FM-020'!C31 -> 0 | E1242: ='GDO-FM-020'!D31 -> 0 | F1242: ='GDO-FM-020'!E31 -> 0 | G1242: ='GDO-FM-020'!H31 -> 0 | H1242: ='GDO-FM-020'!I31 -> 0 | K1242: =SUM(D1242:J1242) -> 0
A1243: =A1242 -> #REF! | B1243: Enero de 2016 | C1243: 42395 | D1243: ='GDO-FM-020'!C32 -> 0 | E1243: ='GDO-FM-020'!D32 -> 0 | F1243: ='GDO-FM-020'!E32 -> 0 | G1243: ='GDO-FM-020'!H32 -> 0 | H1243: ='GDO-FM-020'!I32 -> 0 | K1243: =SUM(D1243:J1243) -> 0
A1244: =A1243 -> #REF! | B1244: Enero de 2016 | C1244: 42396 | D1244: ='GDO-FM-020'!C33 -> 0 | E1244: ='GDO-FM-020'!D33 -> 0 | F1244: ='GDO-FM-020'!E33 -> 0 | G1244: ='GDO-FM-020'!H33 -> 0 | H1244: ='GDO-FM-020'!I33 -> 0 | K1244: =SUM(D1244:J1244) -> 0
A1245: =A1244 -> #REF! | B1245: Enero de 2016 | C1245: 42397 | D1245: ='GDO-FM-020'!C34 -> 0 | E1245: ='GDO-FM-020'!D34 -> 0 | F1245: ='GDO-FM-020'!E34 -> 0 | G1245: ='GDO-FM-020'!H34 -> 0 | H1245: ='GDO-FM-020'!I34 -> 0 | K1245: =SUM(D1245:J1245) -> 0
A1246: =A1245 -> #REF! | B1246: Enero de 2016 | C1246: 42398 | D1246: ='GDO-FM-020'!C35 -> 0 | E1246: ='GDO-FM-020'!D35 -> 0 | F1246: ='GDO-FM-020'!E35 -> 0 | G1246: ='GDO-FM-020'!H35 -> 0 | H1246: ='GDO-FM-020'!I35 -> 0 | K1246: =SUM(D1246:J1246) -> 0
A1247: =A1246 -> #REF! | B1247: Febrero de 2016 | C1247: 42401 | D1247: ='GDO-FM-020'!C37 -> 0 | E1247: ='GDO-FM-020'!D37 -> 0 | F1247: ='GDO-FM-020'!E37 -> 0 | G1247: ='GDO-FM-020'!H37 -> 0 | H1247: ='GDO-FM-020'!I37 -> 0 | K1247: =SUM(D1247:J1247) -> 0
A1248: =A1247 -> #REF! | B1248: Febrero de 2016 | C1248: 42402 | D1248: ='GDO-FM-020'!C38 -> 0 | E1248: ='GDO-FM-020'!D38 -> 0 | F1248: ='GDO-FM-020'!E38 -> 0 | G1248: ='GDO-FM-020'!H38 -> 0 | H1248: ='GDO-FM-020'!I38 -> 0 | K1248: =SUM(D1248:J1248) -> 0
A1249: =A1248 -> #REF! | B1249: Febrero de 2016 | C1249: 42403 | D1249: ='GDO-FM-020'!C39 -> 0 | E1249: ='GDO-FM-020'!D39 -> 0 | F1249: ='GDO-FM-020'!E39 -> 0 | G1249: ='GDO-FM-020'!H39 -> 0 | H1249: ='GDO-FM-020'!I39 -> 0 | K1249: =SUM(D1249:J1249) -> 0
A1250: =A1249 -> #REF! | B1250: Febrero de 2016 | C1250: 42404 | D1250: ='GDO-FM-020'!C40 -> 0 | E1250: ='GDO-FM-020'!D40 -> 0 | F1250: ='GDO-FM-020'!E40 -> 0 | G1250: ='GDO-FM-020'!H40 -> 0 | H1250: ='GDO-FM-020'!I40 -> 0 | K1250: =SUM(D1250:J1250) -> 0
A1251: =A1250 -> #REF! | B1251: Febrero de 2016 | C1251: 42405 | D1251: ='GDO-FM-020'!C41 -> 0 | E1251: ='GDO-FM-020'!D41 -> 0 | F1251: ='GDO-FM-020'!E41 -> 0 | G1251: ='GDO-FM-020'!H41 -> 0 | H1251: ='GDO-FM-020'!I41 -> 0 | K1251: =SUM(D1251:J1251) -> 0
A1252: =A1251 -> #REF! | B1252: Febrero de 2016 | C1252: 42408 | D1252: ='GDO-FM-020'!C42 -> 0 | E1252: ='GDO-FM-020'!D42 -> 0 | F1252: ='GDO-FM-020'!E42 -> 0 | G1252: ='GDO-FM-020'!H42 -> 0 | H1252: ='GDO-FM-020'!I42 -> 0 | K1252: =SUM(D1252:J1252) -> 0
A1253: =A1252 -> #REF! | B1253: Febrero de 2016 | C1253: 42409 | D1253: ='GDO-FM-020'!C43 -> 0 | E1253: ='GDO-FM-020'!D43 -> 0 | F1253: ='GDO-FM-020'!E43 -> 0 | G1253: ='GDO-FM-020'!H43 -> 0 | H1253: ='GDO-FM-020'!I43 -> 0 | K1253: =SUM(D1253:J1253) -> 0
A1254: =A1253 -> #REF! | B1254: Febrero de 2016 | C1254: 42410 | D1254: ='GDO-FM-020'!C44 -> 0 | E1254: ='GDO-FM-020'!D44 -> 0 | F1254: ='GDO-FM-020'!E44 -> 0 | G1254: ='GDO-FM-020'!H44 -> 0 | H1254: ='GDO-FM-020'!I44 -> 0 | K1254: =SUM(D1254:J1254) -> 0
A1255: =A1254 -> #REF! | B1255: Febrero de 2016 | C1255: 42411 | D1255: ='GDO-FM-020'!C45 -> 0 | E1255: ='GDO-FM-020'!D45 -> 0 | F1255: ='GDO-FM-020'!E45 -> 0 | G1255: ='GDO-FM-020'!H45 -> 0 | H1255: ='GDO-FM-020'!I45 -> 0 | K1255: =SUM(D1255:J1255) -> 0
A1256: =A1255 -> #REF! | B1256: Febrero de 2016 | C1256: 42412 | D1256: ='GDO-FM-020'!C46 -> 0 | E1256: ='GDO-FM-020'!D46 -> 0 | F1256: ='GDO-FM-020'!E46 -> 0 | G1256: ='GDO-FM-020'!H46 -> 0 | H1256: ='GDO-FM-020'!I46 -> 0 | K1256: =SUM(D1256:J1256) -> 0
A1257: =A1256 -> #REF! | B1257: Febrero de 2016 | C1257: 42415 | D1257: ='GDO-FM-020'!C47 -> 0 | E1257: ='GDO-FM-020'!D47 -> 0 | F1257: ='GDO-FM-020'!E47 -> 0 | G1257: ='GDO-FM-020'!H47 -> 0 | H1257: ='GDO-FM-020'!I47 -> 0 | K1257: =SUM(D1257:J1257) -> 0
A1258: =A1257 -> #REF! | B1258: Febrero de 2016 | C1258: 42416 | D1258: ='GDO-FM-020'!C48 -> 0 | E1258: ='GDO-FM-020'!D48 -> 0 | F1258: ='GDO-FM-020'!E48 -> 0 | G1258: ='GDO-FM-020'!H48 -> 0 | H1258: ='GDO-FM-020'!I48 -> 0 | K1258: =SUM(D1258:J1258) -> 0
... A1267: =A1266 -> #REF! | B1267: Febrero de 2016 | C1267: 42429 | D1267: ='GDO-FM-020'!C57 -> 0 | E1267: ='GDO-FM-020'!D57 -> 0 | F1267: ='GDO-FM-020'!E57 -> 0 | G1267: ='GDO-FM-020'!H57 -> 0 | H1267: ='GDO-FM-020'!I57 -> 0 | K1267: =SUM(D1267:J1267) -> 0
A1268: =A1267 -> #REF! | B1268: Marzo de 2016 | C1268: 42430 | D1268: ='GDO-FM-020'!C59 -> 0 | E1268: ='GDO-FM-020'!D59 -> 0 | F1268: ='GDO-FM-020'!E59 -> 0 | G1268: ='GDO-FM-020'!H59 -> 0 | H1268: ='GDO-FM-020'!I59 -> 0 | K1268: =SUM(D1268:J1268) -> 0
A1269: =A1268 -> #REF! | B1269: Marzo de 2016 | C1269: 42431 | D1269: ='GDO-FM-020'!C60 -> 0 | E1269: ='GDO-FM-020'!D60 -> 0 | F1269: ='GDO-FM-020'!E60 -> 0 | G1269: ='GDO-FM-020'!H60 -> 0 | H1269: ='GDO-FM-020'!I60 -> 0 | K1269: =SUM(D1269:J1269) -> 0
A1270: =A1269 -> #REF! | B1270: Marzo de 2016 | C1270: 42432 | D1270: ='GDO-FM-020'!C61 -> 0 | E1270: ='GDO-FM-020'!D61 -> 0 | F1270: ='GDO-FM-020'!E61 -> 0 | G1270: ='GDO-FM-020'!H61 -> 0 | H1270: ='GDO-FM-020'!I61 -> 0 | K1270: =SUM(D1270:J1270) -> 0
A1271: =A1270 -> #REF! | B1271: Marzo de 2016 | C1271: 42433 | D1271: ='GDO-FM-020'!C62 -> 0 | E1271: ='GDO-FM-020'!D62 -> 0 | F1271: ='GDO-FM-020'!E62 -> 0 | G1271: ='GDO-FM-020'!H62 -> 0 | H1271: ='GDO-FM-020'!I62 -> 0 | K1271: =SUM(D1271:J1271) -> 0
A1272: =A1271 -> #REF! | B1272: Marzo de 2016 | C1272: 42436 | D1272: ='GDO-FM-020'!C63 -> 0 | E1272: ='GDO-FM-020'!D63 -> 0 | F1272: ='GDO-FM-020'!E63 -> 0 | G1272: ='GDO-FM-020'!H63 -> 0 | H1272: ='GDO-FM-020'!I63 -> 0 | K1272: =SUM(D1272:J1272) -> 0
A1273: =A1272 -> #REF! | B1273: Marzo de 2016 | C1273: 42437 | D1273: ='GDO-FM-020'!C64 -> 0 | E1273: ='GDO-FM-020'!D64 -> 0 | F1273: ='GDO-FM-020'!E64 -> 0 | G1273: ='GDO-FM-020'!H64 -> 0 | H1273: ='GDO-FM-020'!I64 -> 0 | K1273: =SUM(D1273:J1273) -> 0
A1274: =A1273 -> #REF! | B1274: Marzo de 2016 | C1274: 42438 | D1274: ='GDO-FM-020'!C65 -> 0 | E1274: ='GDO-FM-020'!D65 -> 0 | F1274: ='GDO-FM-020'!E65 -> 0 | G1274: ='GDO-FM-020'!H65 -> 0 | H1274: ='GDO-FM-020'!I65 -> 0 | K1274: =SUM(D1274:J1274) -> 0
A1275: =A1274 -> #REF! | B1275: Marzo de 2016 | C1275: 42439 | D1275: ='GDO-FM-020'!C66 -> 0 | E1275: ='GDO-FM-020'!D66 -> 0 | F1275: ='GDO-FM-020'!E66 -> 0 | G1275: ='GDO-FM-020'!H66 -> 0 | H1275: ='GDO-FM-020'!I66 -> 0 | K1275: =SUM(D1275:J1275) -> 0
A1276: =A1275 -> #REF! | B1276: Marzo de 2016 | C1276: 42440 | D1276: ='GDO-FM-020'!C67 -> 0 | E1276: ='GDO-FM-020'!D67 -> 0 | F1276: ='GDO-FM-020'!E67 -> 0 | G1276: ='GDO-FM-020'!H67 -> 0 | H1276: ='GDO-FM-020'!I67 -> 0 | K1276: =SUM(D1276:J1276) -> 0
...

Sheet TOTALES
A1: TOTAL RADICACIÓN Y REPARTO
B2: RADICACIÓN | H2: DIGITALIZACIÓN
A3: FECHA | B3: VENTANILLA | C3: CORREO | D3: WEB MASTER | E3: PORTAL WEB | F3: FAX | G3: TOTAL | H3: # RADICACIONES | I3: # FOLIOS
A4: 42373 | B4: =+#REF!+#REF!+#REF!+#REF!+'GDO-FM-020'!C10 -> #REF! | C4: =+#REF!+#REF!+#REF!+#REF!+'GDO-FM-020'!D10 -> #REF! | D4: =+#REF!+#REF!+#REF!+#REF!+'GDO-FM-020'!E10 -> #REF! | E4: =+#REF!+#REF!+#REF!+#REF!+'GDO-FM-020'!H10 -> #REF! | F4: =+#REF!+#REF!+#REF!+#REF!+'GDO-FM-020'!I10 -> #REF! | G4: =+SUM(B4:F4) -> #REF! | H4: =+#REF!+#REF! -> #REF! | I4: =+#REF!+#REF! -> #REF!
A5: 42374 | B5: =+#REF!+#REF!+#REF!+#REF!+'GDO-FM-020'!C11 -> #REF! | C5: =+#REF!+#REF!+#REF!+#REF!+'GDO-FM-020'!D11 -> #REF! | D5: =+#REF!+#REF!+#REF!+#REF!+'GDO-FM-020'!E11 -> #REF! | E5: =+#REF!+#REF!+#REF!+#REF!+'GDO-FM-020'!H11 -> #REF! | F5: =+#REF!+#REF!+#REF!+#REF!+'GDO-FM-020'!I11 -> #REF! | G5: =+SUM(B5:F5) -> #REF! | H5: =+#REF!+#REF! -> #REF! | I5: =+#REF!+#REF! -> #REF!
A6: 42375 | B6: =+#REF!+#REF!+#REF!+#REF!+'GDO-FM-020'!C12 -> #REF! | C6: =+#REF!+#REF!+#REF!+#REF!+'GDO-FM-020'!D12 -> #REF! | D6: =+#REF!+#REF!+#REF!+#REF!+'GDO-FM-020'!E12 -> #REF! | E6: =+#REF!+#REF!+#REF!+#REF!+'GDO-FM-020'!H12 -> #REF! | F6: =+#REF!+#REF!+#REF!+#REF!+'GDO-FM-020'!I12 -> #REF! | G6: =+SUM(B6:F6) -> #REF! | H6: =+#REF!+#REF! -> #REF! | I6: =+#REF!+#REF! -> #REF!
A7: 42376 | B7: =+#REF!+#REF!+#REF!+#REF!+'GDO-FM-020'!C13 -> #REF! | C7: =+#REF!+#REF!+#REF!+#REF!+'GDO-FM-020'!D13 -> #REF! | D7: =+#REF!+#REF!+#REF!+#REF!+'GDO-FM-020'!E13 -> #REF! | E7: =+#REF!+#REF!+#REF!+#REF!+'GDO-FM-020'!H13 -> #REF! | F7: =+#REF!+#REF!+#REF!+#REF!+'GDO-FM-020'!I13 -> #REF! | G7: =+SUM(B7:F7) -> #REF! | H7: =+#REF!+#REF! -> #REF! | I7: =+#REF!+#REF! -> #REF!
A8: 42377 | B8: =+#REF!+#REF!+#REF!+#REF!+'GDO-FM-020'!C14 -> #REF! | C8: =+#REF!+#REF!+#REF!+#REF!+'GDO-FM-020'!D14 -> #REF! | D8: =+#REF!+#REF!+#REF!+#REF!+'GDO-FM-020'!E14 -> #REF! | E8: =+#REF!+#REF!+#REF!+#REF!+'GDO-FM-020'!H14 -> #REF! | F8: =+#REF!+#REF!+#REF!+#REF!+'GDO-FM-020'!I14 -> #REF! | G8: =+SUM(B8:F8) -> #REF! | H8: =+#REF!+#REF! -> #REF! | I8: =+#REF!+#REF! -> #REF!
A9: 42381 | B9: =+#REF!+#REF!+#REF!+#REF!+'GDO-FM-020'!C15 -> #REF! | C9: =+#REF!+#REF!+#REF!+#REF!+'GDO-FM-020'!D15 -> #REF! | D9: =+#REF!+#REF!+#REF!+#REF!+'GDO-FM-020'!E15 -> #REF! | E9: =+#REF!+#REF!+#REF!+#REF!+'GDO-FM-020'!H15 -> #REF! | F9: =+#REF!+#REF!+#REF!+#REF!+'GDO-FM-020'!I15 -> #REF! | G9: =+SUM(B9:F9) -> #REF! | H9: =+#REF!+#REF! -> #REF! | I9: =+#REF!+#REF! -> #REF!
A10: 42382 | B10: =+#REF!+#REF!+#REF!+#REF!+'GDO-FM-020'!C16 -> #REF! | C10: =+#REF!+#REF!+#REF!+#REF!+'GDO-FM-020'!D16 -> #REF! | D10: =+#REF!+#REF!+#REF!+#REF!+'GDO-FM-020'!E16 -> #REF! | E10: =+#REF!+#REF!+#REF!+#REF!+'GDO-FM-020'!H16 -> #REF! | F10: =+#REF!+#REF!+#REF!+#REF!+'GDO-FM-020'!I16 -> #REF! | G10: =+SUM(B10:F10) -> #REF! | H10: =+#REF!+#REF! -> #REF! | I10: =+#REF!+#REF! -> #REF!
A11: 42383 | B11: =+#REF!+#REF!+#REF!+#REF!+'GDO-FM-020'!C17 -> #REF! | C11: =+#REF!+#REF!+#REF!+#REF!+'GDO-FM-020'!D17 -> #REF! | D11: =+#REF!+#REF!+#REF!+#REF!+'GDO-FM-020'!E17 -> #REF! | E11: =+#REF!+#REF!+#REF!+#REF!+'GDO-FM-020'!H17 -> #REF! | F11: =+#REF!+#REF!+#REF!+#REF!+'GDO-FM-020'!I17 -> #REF! | G11: =+SUM(B11:F11) -> #REF! | H11: =+#REF!+#REF! -> #REF! | I11: =+#REF!+#REF! -> #REF!
A12: 42384 | B12: =+#REF!+#REF!+#REF!+#REF!+'GDO-FM-020'!C18 -> #REF! | C12: =+#REF!+#REF!+#REF!+#REF!+'GDO-FM-020'!D18 -> #REF! | D12: =+#REF!+#REF!+#REF!+#REF!+'GDO-FM-020'!E18 -> #REF! | E12: =+#REF!+#REF!+#REF!+#REF!+'GDO-FM-020'!H18 -> #REF! | F12: =+#REF!+#REF!+#REF!+#REF!+'GDO-FM-020'!I18 -> #REF! | G12: =+SUM(B12:F12) -> #REF! | H12: =+#REF!+#REF! -> #REF! | I12: =+#REF!+#REF! -> #REF!
A13: 42387 | B13: =+#REF!+#REF!+#REF!+#REF!+'GDO-FM-020'!C19 -> #REF! | C13: =+#REF!+#REF!+#REF!+#REF!+'GDO-FM-020'!D19 -> #REF! | D13: =+#REF!+#REF!+#REF!+#REF!+'GDO-FM-020'!E19 -> #REF! | E13: =+#REF!+#REF!+#REF!+#REF!+'GDO-FM-020'!H19 -> #REF! | F13: =+#REF!+#REF!+#REF!+#REF!+'GDO-FM-020'!I19 -> #REF! | G13: =+SUM(B13:F13) -> #REF! | H13: =+#REF!+#REF! -> #REF! | I13: =+#REF!+#REF! -> #REF!
A14: 42388 | B14: =+#REF!+#REF!+#REF!+#REF!+'GDO-FM-020'!C20 -> #REF! | C14: =+#REF!+#REF!+#REF!+#REF!+'GDO-FM-020'!D20 -> #REF! | D14: =+#REF!+#REF!+#REF!+#REF!+'GDO-FM-020'!E20 -> #REF! | E14: =+#REF!+#REF!+#REF!+#REF!+'GDO-FM-020'!H20 -> #REF! | F14: =+#REF!+#REF!+#REF!+#REF!+'GDO-FM-020'!I20 -> #REF! | G14: =+SUM(B14:F14) -> #REF! | H14: =+#REF!+#REF! -> #REF! | I14: =+#REF!+#REF! -> #REF!
A15: 42389 | B15: =+#REF!+#REF!+#REF!+#REF!+'GDO-FM-020'!C21 -> #REF! | C15: =+#REF!+#REF!+#REF!+#REF!+'GDO-FM-020'!D21 -> #REF! | D15: =+#REF!+#REF!+#REF!+#REF!+'GDO-FM-020'!E21 -> #REF! | E15: =+#REF!+#REF!+#REF!+#REF!+'GDO-FM-020'!H21 -> #REF! | F15: =+#REF!+#REF!+#REF!+#REF!+'GDO-FM-020'!I21 -> #REF! | G15: =+SUM(B15:F15) -> #REF! | H15: =+#REF!+#REF! -> #REF! | I15: =+#REF!+#REF! -> #REF!
A16: 42390 | B16: =+#REF!+#REF!+#REF!+#REF!+'GDO-FM-020'!C29 -> #REF! | C16: =+#REF!+#REF!+#REF!+#REF!+'GDO-FM-020'!D29 -> #REF! | D16: =+#REF!+#REF!+#REF!+#REF!+'GDO-FM-020'!E29 -> #REF! | E16: =+#REF!+#REF!+#REF!+#REF!+'GDO-FM-020'!H29 -> #REF! | F16: =+#REF!+#REF!+#REF!+#REF!+'GDO-FM-020'!I29 -> #REF! | G16: =+SUM(B16:F16) -> #REF! | H16: =+#REF!+#REF! -> #REF! | I16: =+#REF!+#REF! -> #REF!
A17: 42391 | B17: =+#REF!+#REF!+#REF!+#REF!+'GDO-FM-020'!C30 -> #REF! | C17: =+#REF!+#REF!+#REF!+#REF!+'GDO-FM-020'!D30 -> #REF! | D17: =+#REF!+#REF!+#REF!+#REF!+'GDO-FM-020'!E30 -> #REF! | E17: =+#REF!+#REF!+#REF!+#REF!+'GDO-FM-020'!H30 -> #REF! | F17: =+#REF!+#REF!+#REF!+#REF!+'GDO-FM-020'!I30 -> #REF! | G17: =+SUM(B17:F17) -> #REF! | H17: =+#REF!+#REF! -> #REF! | I17: =+#REF!+#REF! -> #REF!
A18: 42394 | B18: =+#REF!+#REF!+#REF!+#REF!+'GDO-FM-020'!C31 -> #REF! | C18: =+#REF!+#REF!+#REF!+#REF!+'GDO-FM-020'!D31 -> #REF! | D18: =+#REF!+#REF!+#REF!+#REF!+'GDO-FM-020'!E31 -> #REF! | E18: =+#REF!+#REF!+#REF!+#REF!+'GDO-FM-020'!H31 -> #REF! | F18: =+#REF!+#REF!+#REF!+#REF!+'GDO-FM-020'!I31 -> #REF! | G18: =+SUM(B18:F18) -> #REF! | H18: =+#REF!+#REF! -> #REF! | I18: =+#REF!+#REF! -> #REF!
A19: 42395 | B19: =+#REF!+#REF!+#REF!+#REF!+'GDO-FM-020'!C32 -> #REF! | C19: =+#REF!+#REF!+#REF!+#REF!+'GDO-FM-020'!D32 -> #REF! | D19: =+#REF!+#REF!+#REF!+#REF!+'GDO-FM-020'!E32 -> #REF! | E19: =+#REF!+#REF!+#REF!+#REF!+'GDO-FM-020'!H32 -> #REF! | F19: =+#REF!+#REF!+#REF!+#REF!+'GDO-FM-020'!I32 -> #REF! | G19: =+SUM(B19:F19) -> #REF! | H19: =+#REF!+#REF! -> #REF! | I19: =+#REF!+#REF! -> #REF!
A20: 42396 | B20: =+#REF!+#REF!+#REF!+#REF!+'GDO-FM-020'!C33 -> #REF! | C20: =+#REF!+#REF!+#REF!+#REF!+'GDO-FM-020'!D33 -> #REF! | D20: =+#REF!+#REF!+#REF!+#REF!+'GDO-FM-020'!E33 -> #REF! | E20: =+#REF!+#REF!+#REF!+#REF!+'GDO-FM-020'!H33 -> #REF! | F20: =+#REF!+#REF!+#REF!+#REF!+'GDO-FM-020'!I33 -> #REF! | G20: =+SUM(B20:F20) -> #REF! | H20: =+#REF!+#REF! -> #REF! | I20: =+#REF!+#REF! -> #REF!
A21: 42397 | B21: =+#REF!+#REF!+#REF!+#REF!+'GDO-FM-020'!C34 -> #REF! | C21: =+#REF!+#REF!+#REF!+#REF!+'GDO-FM-020'!D34 -> #REF! | D21: =+#REF!+#REF!+#REF!+#REF!+'GDO-FM-020'!E34 -> #REF! | E21: =+#REF!+#REF!+#REF!+#REF!+'GDO-FM-020'!H34 -> #REF! | F21: =+#REF!+#REF!+#REF!+#REF!+'GDO-FM-020'!I34 -> #REF! | G21: =+SUM(B21:F21) -> #REF! | H21: =+#REF!+#REF! -> #REF! | I21: =+#REF!+#REF! -> #REF!
A22: 42398 | B22: =+#REF!+#REF!+#REF!+#REF!+'GDO-FM-020'!C35 -> #REF! | C22: =+#REF!+#REF!+#REF!+#REF!+'GDO-FM-020'!D35 -> #REF! | D22: =+#REF!+#REF!+#REF!+#REF!+'GDO-FM-020'!E35 -> #REF! | E22: =+#REF!+#REF!+#REF!+#REF!+'GDO-FM-020'!H35 -> #REF! | F22: =+#REF!+#REF!+#REF!+#REF!+'GDO-FM-020'!I35 -> #REF! | G22: =+SUM(B22:F22) -> #REF! | H22: =+#REF!+#REF! -> #REF! | I22: =+#REF!+#REF! -> #REF!
A23: TOTAL ENE. | B23: =+SUM(B4:B22) -> #REF! | C23: =+SUM(C4:C22) -> #REF! | D23: =+SUM(D4:D22) -> #REF! | E23: =+SUM(E4:E22) -> #REF! | F23: =+SUM(F4:F22) -> #REF! | G23: =+SUM(G4:G22) -> #REF! | H23: =SUM(H4:H22) -> #REF! | I23: =SUM(I4:I22) -> #REF!
A24: 42401 | B24: =+#REF!+#REF!+#REF!+#REF!+'GDO-FM-020'!C37 -> #REF! | C24: =+#REF!+#REF!+#REF!+#REF!+'GDO-FM-020'!D37 -> #REF! | D24: =+#REF!+#REF!+#REF!+#REF!+'GDO-FM-020'!E37 -> #REF! | E24: =+#REF!+#REF!+#REF!+#REF!+'GDO-FM-020'!H37 -> #REF! | F24: =+#REF!+#REF!+#REF!+#REF!+'GDO-FM-020'!I37 -> #REF! | G24: =SUM(B24:F24) -> #REF! | H24: =+#REF!+#REF! -> #REF! | I24: =+#REF!+#REF! -> #REF!
A25: 42402 | B25: =+#REF!+#REF!+#REF!+#REF!+'GDO-FM-020'!C38 -> #REF! | C25: =+#REF!+#REF!+#REF!+#REF!+'GDO-FM-020'!D38 -> #REF! | D25: =+#REF!+#REF!+#REF!+#REF!+'GDO-FM-020'!E38 -> #REF! | E25: =+#REF!+#REF!+#REF!+#REF!+'GDO-FM-020'!H38 -> #REF! | F25: =+#REF!+#REF!+#REF!+#REF!+'GDO-FM-020'!I38 -> #REF! | G25: =SUM(B25:F25) -> #REF! | H25: =+#REF!+#REF! -> #REF! | I25: =+#REF!+#REF! -> #REF!
A26: 42403 | B26: =+#REF!+#REF!+#REF!+#REF!+'GDO-FM-020'!C39 -> #REF! | C26: =+#REF!+#REF!+#REF!+#REF!+'GDO-FM-020'!D39 -> #REF! | D26: =+#REF!+#REF!+#REF!+#REF!+'GDO-FM-020'!E39 -> #REF! | E26: =+#REF!+#REF!+#REF!+#REF!+'GDO-FM-020'!H39 -> #REF! | F26: =+#REF!+#REF!+#REF!+#REF!+'GDO-FM-020'!I39 -> #REF! | G26: =SUM(B26:F26) -> #REF! | H26: =+#REF!+#REF! -> #REF! | I26: =+#REF!+#REF! -> #REF!
A27: 42404 | B27: =+#REF!+#REF!+#REF!+#REF!+'GDO-FM-020'!C40 -> #REF! | C27: =+#REF!+#REF!+#REF!+#REF!+'GDO-FM-020'!D40 -> #REF! | D27: =+#REF!+#REF!+#REF!+#REF!+'GDO-FM-020'!E40 -> #REF! | E27: =+#REF!+#REF!+#REF!+#REF!+'GDO-FM-020'!H40 -> #REF! | F27: =+#REF!+#REF!+#REF!+#REF!+'GDO-FM-020'!I40 -> #REF! | G27: =SUM(B27:F27) -> #REF! | H27: =+#REF!+#REF! -> #REF! | I27: =+#REF!+#REF! -> #REF!
A28: 42405 | B28: =+#REF!+#REF!+#REF!+#REF!+'GDO-FM-020'!C41 -> #REF! | C28: =+#REF!+#REF!+#REF!+#REF!+'GDO-FM-020'!D41 -> #REF! | D28: =+#REF!+#REF!+#REF!+#REF!+'GDO-FM-020'!E41 -> #REF! | E28: =+#REF!+#REF!+#REF!+#REF!+'GDO-FM-020'!H41 -> #REF! | F28: =+#REF!+#REF!+#REF!+#REF!+'GDO-FM-020'!I41 -> #REF! | G28: =SUM(B28:F28) -> #REF! | H28: =+#REF!+#REF! -> #REF! | I28: =+#REF!+#REF! -> #REF!
A29: 42408 | B29: =+#REF!+#REF!+#REF!+#REF!+'GDO-FM-020'!C42 -> #REF! | C29: =+#REF!+#REF!+#REF!+#REF!+'GDO-FM-020'!D42 -> #REF! | D29: =+#REF!+#REF!+#REF!+#REF!+'GDO-FM-020'!E42 -> #REF! | E29: =+#REF!+#REF!+#REF!+#REF!+'GDO-FM-020'!H42 -> #REF! | F29: =+#REF!+#REF!+#REF!+#REF!+'GDO-FM-020'!I42 -> #REF! | G29: =SUM(B29:F29) -> #REF! | H29: =+#REF!+#REF! -> #REF! | I29: =+#REF!+#REF! -> #REF!
A30: 42409 | B30: =+#REF!+#REF!+#REF!+#REF!+'GDO-FM-020'!C43 -> #REF! | C30: =+#REF!+#REF!+#REF!+#REF!+'GDO-FM-020'!D43 -> #REF! | D30: =+#REF!+#REF!+#REF!+#REF!+'GDO-FM-020'!E43 -> #REF! | E30: =+#REF!+#REF!+#REF!+#REF!+'GDO-FM-020'!H43 -> #REF! | F30: =+#REF!+#REF!+#REF!+#REF!+'GDO-FM-020'!I43 -> #REF! | G30: =SUM(B30:F30) -> #REF! | H30: =+#REF!+#REF! -> #REF! | I30: =+#REF!+#REF! -> #REF!
A31: 42410 | B31: =+#REF!+#REF!+#REF!+#REF!+'GDO-FM-020'!C44 -> #REF! | C31: =+#REF!+#REF!+#REF!+#REF!+'GDO-FM-020'!D44 -> #REF! | D31: =+#REF!+#REF!+#REF!+#REF!+'GDO-FM-020'!E44 -> #REF! | E31: =+#REF!+#REF!+#REF!+#REF!+'GDO-FM-020'!H44 -> #REF! | F31: =+#REF!+#REF!+#REF!+#REF!+'GDO-FM-020'!I44 -> #REF! | G31: =SUM(B31:F31) -> #REF! | H31: =+#REF!+#REF! -> #REF! | I31: =+#REF!+#REF! -> #REF!
A32: 42411 | B32: =+#REF!+#REF!+#REF!+#REF!+'GDO-FM-020'!C45 -> #REF! | C32: =+#REF!+#REF!+#REF!+#REF!+'GDO-FM-020'!D45 -> #REF! | D32: =+#REF!+#REF!+#REF!+#REF!+'GDO-FM-020'!E45 -> #REF! | E32: =+#REF!+#REF!+#REF!+#REF!+'GDO-FM-020'!H45 -> #REF! | F32: =+#REF!+#REF!+#REF!+#REF!+'GDO-FM-020'!I45 -> #REF! | G32: =SUM(B32:F32) -> #REF! | H32: =+#REF!+#REF! -> #REF! | I32: =+#REF!+#REF! -> #REF!
A33: 42412 | B33: =+#REF!+#REF!+#REF!+#REF!+'GDO-FM-020'!C46 -> #REF! | C33: =+#REF!+#REF!+#REF!+#REF!+'GDO-FM-020'!D46 -> #REF! | D33: =+#REF!+#REF!+#REF!+#REF!+'GDO-FM-020'!E46 -> #REF! | E33: =+#REF!+#REF!+#REF!+#REF!+'GDO-FM-020'!H46 -> #REF! | F33: =+#REF!+#REF!+#REF!+#REF!+'GDO-FM-020'!I46 -> #REF! | G33: =SUM(B33:F33) -> #REF! | H33: =+#REF!+#REF! -> #REF! | I33: =+#REF!+#REF! -> #REF!
A34: 42415 | B34: =+#REF!+#REF!+#REF!+#REF!+'GDO-FM-020'!C47 -> #REF! | C34: =+#REF!+#REF!+#REF!+#REF!+'GDO-FM-020'!D47 -> #REF! | D34: =+#REF!+#REF!+#REF!+#REF!+'GDO-FM-020'!E47 -> #REF! | E34: =+#REF!+#REF!+#REF!+#REF!+'GDO-FM-020'!H47 -> #REF! | F34: =+#REF!+#REF!+#REF!+#REF!+'GDO-FM-020'!I47 -> #REF! | G34: =SUM(B34:F34) -> #REF! | H34: =+#REF!+#REF! -> #REF! | I34: =+#REF!+#REF! -> #REF!
A35: 42416 | B35: =+#REF!+#REF!+#REF!+#REF!+'GDO-FM-020'!C48 -> #REF! | C35: =+#REF!+#REF!+#REF!+#REF!+'GDO-FM-020'!D48 -> #REF! | D35: =+#REF!+#REF!+#REF!+#REF!+'GDO-FM-020'!E48 -> #REF! | E35: =+#REF!+#REF!+#REF!+#REF!+'GDO-FM-020'!H48 -> #REF! | F35: =+#REF!+#REF!+#REF!+#REF!+'GDO-FM-020'!I48 -> #REF! | G35: =SUM(B35:F35) -> #REF! | H35: =+#REF!+#REF! -> #REF! | I35: =+#REF!+#REF! -> #REF!
... A44: 42429 | B44: =+#REF!+#REF!+#REF!+#REF!+'GDO-FM-020'!C57 -> #REF! | C44: =+#REF!+#REF!+#REF!+#REF!+'GDO-FM-020'!D57 -> #REF! | D44: =+#REF!+#REF!+#REF!+#REF!+'GDO-FM-020'!E57 -> #REF! | E44: =+#REF!+#REF!+#REF!+#REF!+'GDO-FM-020'!H57 -> #REF! | F44: =+#REF!+#REF!+#REF!+#REF!+'GDO-FM-020'!I57 -> #REF! | G44: =SUM(B44:F44) -> #REF! | H44: =+#REF!+#REF! -> #REF! | I44: =+#REF!+#REF! -> #REF!
A45: TOTAL FEB. | B45: =SUM(B24:B44) -> #REF! | C45: =SUM(C24:C44) -> #REF! | D45: =SUM(D24:D44) -> #REF! | E45: =SUM(E24:E44) -> #REF! | F45: =SUM(F24:F44) -> #REF! | G45: =SUM(G24:G44) -> #REF! | H45: =SUM(H24:H44) -> #REF! | I45: =SUM(I24:I44) -> #REF!
A46: 42430 | B46: =+#REF!+#REF!+#REF!+#REF!+'GDO-FM-020'!C59 -> #REF! | C46: =+#REF!+#REF!+#REF!+#REF!+'GDO-FM-020'!D59 -> #REF! | D46: =+#REF!+#REF!+#REF!+#REF!+'GDO-FM-020'!E59 -> #REF! | E46: =+#REF!+#REF!+#REF!+#REF!+'GDO-FM-020'!H59 -> #REF! | F46: =+#REF!+#REF!+#REF!+#REF!+'GDO-FM-020'!I59 -> #REF! | G46: =SUM(B46:F46) -> #REF! | H46: =+#REF!+#REF! -> #REF! | I46: =+#REF!+#REF! -> #REF!
A47: 42431 | B47: =+#REF!+#REF!+#REF!+#REF!+'GDO-FM-020'!C60 -> #REF! | C47: =+#REF!+#REF!+#REF!+#REF!+'GDO-FM-020'!D60 -> #REF! | D47: =+#REF!+#REF!+#REF!+#REF!+'GDO-FM-020'!E60 -> #REF! | E47: =+#REF!+#REF!+#REF!+#REF!+'GDO-FM-020'!H60 -> #REF! | F47: =+#REF!+#REF!+#REF!+#REF!+'GDO-FM-020'!I60 -> #REF! | G47: =SUM(B47:F47) -> #REF! | H47: =+#REF!+#REF! -> #REF! | I47: =+#REF!+#REF! -> #REF!
A48: 42432 | B48: =+#REF!+#REF!+#REF!+#REF!+'GDO-FM-020'!C61 -> #REF! | C48: =+#REF!+#REF!+#REF!+#REF!+'GDO-FM-020'!D61 -> #REF! | D48: =+#REF!+#REF!+#REF!+#REF!+'GDO-FM-020'!E61 -> #REF! | E48: =+#REF!+#REF!+#REF!+#REF!+'GDO-FM-020'!H61 -> #REF! | F48: =+#REF!+#REF!+#REF!+#REF!+'GDO-FM-020'!I61 -> #REF! | G48: =SUM(B48:F48) -> #REF! | H48: =+#REF!+#REF! -> #REF! | I48: =+#REF!+#REF! -> #REF!
A49: 42433 | B49: =+#REF!+#REF!+#REF!+#REF!+'GDO-FM-020'!C62 -> #REF! | C49: =+#REF!+#REF!+#REF!+#REF!+'GDO-FM-020'!D62 -> #REF! | D49: =+#REF!+#REF!+#REF!+#REF!+'GDO-FM-020'!E62 -> #REF! | E49: =+#REF!+#REF!+#REF!+#REF!+'GDO-FM-020'!H62 -> #REF! | F49: =+#REF!+#REF!+#REF!+#REF!+'GDO-FM-020'!I62 -> #REF! | G49: =SUM(B49:F49) -> #REF! | H49: =+#REF!+#REF! -> #REF! | I49: =+#REF!+#REF! -> #REF!
A50: 42436 | B50: =+#REF!+#REF!+#REF!+#REF!+'GDO-FM-020'!C63 -> #REF! | C50: =+#REF!+#REF!+#REF!+#REF!+'GDO-FM-020'!D63 -> #REF! | D50: =+#REF!+#REF!+#REF!+#REF!+'GDO-FM-020'!E63 -> #REF! | E50: =+#REF!+#REF!+#REF!+#REF!+'GDO-FM-020'!H63 -> #REF! | F50: =+#REF!+#REF!+#REF!+#REF!+'GDO-FM-020'!I63 -> #REF! | G50: =SUM(B50:F50) -> #REF! | H50: =+#REF!+#REF! -> #REF! | I50: =+#REF!+#REF! -> #REF!
A51: 42437 | B51: =+#REF!+#REF!+#REF!+#REF!+'GDO-FM-020'!C64 -> #REF! | C51: =+#REF!+#REF!+#REF!+#REF!+'GDO-FM-020'!D64 -> #REF! | D51: =+#REF!+#REF!+#REF!+#REF!+'GDO-FM-020'!E64 -> #REF! | E51: =+#REF!+#REF!+#REF!+#REF!+'GDO-FM-020'!H64 -> #REF! | F51: =+#REF!+#REF!+#REF!+#REF!+'GDO-FM-020'!I64 -> #REF! | G51: =SUM(B51:F51) -> #REF! | H51: =+#REF!+#REF! -> #REF! | I51: =+#REF!+#REF! -> #REF!
A52: 42438 | B52: =+#REF!+#REF!+#REF!+#REF!+'GDO-FM-020'!C65 -> #REF! | C52: =+#REF!+#REF!+#REF!+#REF!+'GDO-FM-020'!D65 -> #REF! | D52: =+#REF!+#REF!+#REF!+#REF!+'GDO-FM-020'!E65 -> #REF! | E52: =+#REF!+#REF!+#REF!+#REF!+'GDO-FM-020'!H65 -> #REF! | F52: =+#REF!+#REF!+#REF!+#REF!+'GDO-FM-020'!I65 -> #REF! | G52: =SUM(B52:F52) -> #REF! | H52: =+#REF!+#REF! -> #REF! | I52: =+#REF!+#REF! -> #REF!
A53: 42439 | B53: =+#REF!+#REF!+#REF!+#REF!+'GDO-FM-020'!C66 -> #REF! | C53: =+#REF!+#REF!+#REF!+#REF!+'GDO-FM-020'!D66 -> #REF! | D53: =+#REF!+#REF!+#REF!+#REF!+'GDO-FM-020'!E66 -> #REF! | E53: =+#REF!+#REF!+#REF!+#REF!+'GDO-FM-020'!H66 -> #REF! | F53: =+#REF!+#REF!+#REF!+#REF!+'GDO-FM-020'!I66 -> #REF! | G53: =SUM(B53:F53) -> #REF! | H53: =+#REF!+#REF! -> #REF! | I53: =+#REF!+#REF! -> #REF!
A54: 42440 | B54: =+#REF!+#REF!+#REF!+#REF!+'GDO-FM-020'!C67 -> #REF! | C54: =+#REF!+#REF!+#REF!+#REF!+'GDO-FM-020'!D67 -> #REF! | D54: =+#REF!+#REF!+#REF!+#REF!+'GDO-FM-020'!E67 -> #REF! | E54: =+#REF!+#REF!+#REF!+#REF!+'GDO-FM-020'!H67 -> #REF! | F54: =+#REF!+#REF!+#REF!+#REF!+'GDO-FM-020'!I67 -> #REF! | G54: =SUM(B54:F54) -> #REF! | H54: =+#REF!+#REF! -> #REF! | I54: =+#REF!+#REF! -> #REF!
A55: 42443 | B55: =+#REF!+#REF!+#REF!+#REF!+'GDO-FM-020'!C68 -> #REF! | C55: =+#REF!+#REF!+#REF!+#REF!+'GDO-FM-020'!D68 -> #REF! | D55: =+#REF!+#REF!+#REF!+#REF!+'GDO-FM-020'!E68 -> #REF! | E55: =+#REF!+#REF!+#REF!+#REF!+'GDO-FM-020'!H68 -> #REF! | F55: =+#REF!+#REF!+#REF!+#REF!+'GDO-FM-020'!I68 -> #REF! | G55: =SUM(B55:F55) -> #REF! | H55: =+#REF!+#REF! -> #REF! | I55: =+#REF!+#REF! -> #REF!
A56: 42444 | B56: =+#REF!+#REF!+#REF!+#REF!+'GDO-FM-020'!C69 -> #REF! | C56: =+#REF!+#REF!+#REF!+#REF!+'GDO-FM-020'!D69 -> #REF! | D56: =+#REF!+#REF!+#REF!+#REF!+'GDO-FM-020'!E69 -> #REF! | E56: =+#REF!+#REF!+#REF!+#REF!+'GDO-FM-020'!H69 -> #REF! | F56: =+#REF!+#REF!+#REF!+#REF!+'GDO-FM-020'!I69 -> #REF! | G56: =SUM(B56:F56) -> #REF! | H56: =+#REF!+#REF! -> #REF! | I56: =+#REF!+#REF! -> #REF!
A57: 42445 | B57: =+#REF!+#REF!+#REF!+#REF!+'GDO-FM-020'!C70 -> #REF! | C57: =+#REF!+#REF!+#REF!+#REF!+'GDO-FM-020'!D70 -> #REF! | D57: =+#REF!+#REF!+#REF!+#REF!+'GDO-FM-020'!E70 -> #REF! | E57: =+#REF!+#REF!+#REF!+#REF!+'GDO-FM-020'!H70 -> #REF! | F57: =+#REF!+#REF!+#REF!+#REF!+'GDO-FM-020'!I70 -> #REF! | G57: =SUM(B57:F57) -> #REF! | H57: =+#REF!+#REF! -> #REF! | I57: =+#REF!+#REF! -> #REF!
... A65: 42460 | B65: =+#REF!+#REF!+#REF!+#REF!+'GDO-FM-020'!C78 -> #REF! | C65: =+#REF!+#REF!+#REF!+#REF!+'GDO-FM-020'!D78 -> #REF! | D65: =+#REF!+#REF!+#REF!+#REF!+'GDO-FM-020'!E78 -> #REF! | E65: =+#REF!+#REF!+#REF!+#REF!+'GDO-FM-020'!H78 -> #REF! | F65: =+#REF!+#REF!+#REF!+#REF!+'GDO-FM-020'!I78 -> #REF! | G65: =SUM(B65:F65) -> #REF! | H65: =+#REF!+#REF! -> #REF! | I65: =+#REF!+#REF! -> #REF!
A66: TOTAL MAR. | B66: =SUM(B46:B65) -> #REF! | C66: =SUM(C46:C65) -> #REF! | D66: =SUM(D46:D65) -> #REF! | E66: =SUM(E46:E65) -> #REF! | F66: =SUM(F46:F65) -> #REF! | G66: =SUM(G46:G65) -> #REF! | H66: =SUM(H46:H65) -> #REF! | I66: =SUM(I46:I65) -> #REF!
A67: 42461 | B67: =+#REF!+#REF!+#REF!+#REF!+'GDO-FM-020'!C80 -> #REF! | C67: =+#REF!+#REF!+#REF!+#REF!+'GDO-FM-020'!D80 -> #REF! | D67: =+#REF!+#REF!+#REF!+#REF!+'GDO-FM-020'!E80 -> #REF! | E67: =+#REF!+#REF!+#REF!+#REF!+'GDO-FM-020'!H80 -> #REF! | F67: =+#REF!+#REF!+#REF!+#REF!+'GDO-FM-020'!I80 -> #REF! | G67: =SUM(B67:F67) -> #REF! | H67: =+#REF!+#REF! -> #REF! | I67: =+#REF!+#REF! -> #REF!
A68: 42464 | B68: =+#REF!+#REF!+#REF!+#REF!+'GDO-FM-020'!C81 -> #REF! | C68: =+#REF!+#REF!+#REF!+#REF!+'GDO-FM-020'!D81 -> #REF! | D68: =+#REF!+#REF!+#REF!+#REF!+'GDO-FM-020'!E81 -> #REF! | E68: =+#REF!+#REF!+#REF!+#REF!+'GDO-FM-020'!H81 -> #REF! | F68: =+#REF!+#REF!+#REF!+#REF!+'GDO-FM-020'!I81 -> #REF! | G68: =SUM(B68:F68) -> #REF! | H68: =+#REF!+#REF! -> #REF! | I68: =+#REF!+#REF! -> #REF!
A69: 42465 | B69: =+#REF!+#REF!+#REF!+#REF!+'GDO-FM-020'!C82 -> #REF! | C69: =+#REF!+#REF!+#REF!+#REF!+'GDO-FM-020'!D82 -> #REF! | D69: =+#REF!+#REF!+#REF!+#REF!+'GDO-FM-020'!E82 -> #REF! | E69: =+#REF!+#REF!+#REF!+#REF!+'GDO-FM-020'!H82 -> #REF! | F69: =+#REF!+#REF!+#REF!+#REF!+'GDO-FM-020'!I82 -> #REF! | G69: =SUM(B69:F69) -> #REF! | H69: =+#REF!+#REF! -> #REF! | I69: =+#REF!+#REF! -> #REF!
A70: 42466 | B70: =+#REF!+#REF!+#REF!+#REF!+'GDO-FM-020'!C83 -> #REF! | C70: =+#REF!+#REF!+#REF!+#REF!+'GDO-FM-020'!D83 -> #REF! | D70: =+#REF!+#REF!+#REF!+#REF!+'GDO-FM-020'!E83 -> #REF! | E70: =+#REF!+#REF!+#REF!+#REF!+'GDO-FM-020'!H83 -> #REF! | F70: =+#REF!+#REF!+#REF!+#REF!+'GDO-FM-020'!I83 -> #REF! | G70: =SUM(B70:F70) -> #REF! | H70: =+#REF!+#REF! -> #REF! | I70: =+#REF!+#REF! -> #REF!
A71: 42467 | B71: =+#REF!+#REF!+#REF!+#REF!+'GDO-FM-020'!C84 -> #REF! | C71: =+#REF!+#REF!+#REF!+#REF!+'GDO-FM-020'!D84 -> #REF! | D71: =+#REF!+#REF!+#REF!+#REF!+'GDO-FM-020'!E84 -> #REF! | E71: =+#REF!+#REF!+#REF!+#REF!+'GDO-FM-020'!H84 -> #REF! | F71: =+#REF!+#REF!+#REF!+#REF!+'GDO-FM-020'!I84 -> #REF! | G71: =SUM(B71:F71) -> #REF! | H71: =+#REF!+#REF! -> #REF! | I71: =+#REF!+#REF! -> #REF!
A72: 42468 | B72: =+#REF!+#REF!+#REF!+#REF!+'GDO-FM-020'!C85 -> #REF! | C72: =+#REF!+#REF!+#REF!+#REF!+'GDO-FM-020'!D85 -> #REF! | D72: =+#REF!+#REF!+#REF!+#REF!+'GDO-FM-020'!E85 -> #REF! | E72: =+#REF!+#REF!+#REF!+#REF!+'GDO-FM-020'!H85 -> #REF! | F72: =+#REF!+#REF!+#REF!+#REF!+'GDO-FM-020'!I85 -> #REF! | G72: =SUM(B72:F72) -> #REF! | H72: =+#REF!+#REF! -> #REF! | I72: =+#REF!+#REF! -> #REF!
A73: 42471 | B73: =+#REF!+#REF!+#REF!+#REF!+'GDO-FM-020'!C86 -> #REF! | C73: =+#REF!+#REF!+#REF!+#REF!+'GDO-FM-020'!D86 -> #REF! | D73: =+#REF!+#REF!+#REF!+#REF!+'GDO-FM-020'!E86 -> #REF! | E73: =+#REF!+#REF!+#REF!+#REF!+'GDO-FM-020'!H86 -> #REF! | F73: =+#REF!+#REF!+#REF!+#REF!+'GDO-FM-020'!I86 -> #REF! | G73: =SUM(B73:F73) -> #REF! | H73: =+#REF!+#REF! -> #REF! | I73: =+#REF!+#REF! -> #REF!
A74: 42472 | B74: =+#REF!+#REF!+#REF!+#REF!+'GDO-FM-020'!C87 -> #REF! | C74: =+#REF!+#REF!+#REF!+#REF!+'GDO-FM-020'!D87 -> #REF! | D74: =+#REF!+#REF!+#REF!+#REF!+'GDO-FM-020'!E87 -> #REF! | E74: =+#REF!+#REF!+#REF!+#REF!+'GDO-FM-020'!H87 -> #REF! | F74: =+#REF!+#REF!+#REF!+#REF!+'GDO-FM-020'!I87 -> #REF! | G74: =SUM(B74:F74) -> #REF! | H74: =+#REF!+#REF! -> #REF! | I74: =+#REF!+#REF! -> #REF!
A75: 42473 | B75: =+#REF!+#REF!+#REF!+#REF!+'GDO-FM-020'!C88 -> #REF! | C75: =+#REF!+#REF!+#REF!+#REF!+'GDO-FM-020'!D88 -> #REF! | D75: =+#REF!+#REF!+#REF!+#REF!+'GDO-FM-020'!E88 -> #REF! | E75: =+#REF!+#REF!+#REF!+#REF!+'GDO-FM-020'!H88 -> #REF! | F75: =+#REF!+#REF!+#REF!+#REF!+'GDO-FM-020'!I88 -> #REF! | G75: =SUM(B75:F75) -> #REF! | H75: =+#REF!+#REF! -> #REF! | I75: =+#REF!+#REF! -> #REF!
A76: 42474 | B76: =+#REF!+#REF!+#REF!+#REF!+'GDO-FM-020'!C89 -> #REF! | C76: =+#REF!+#REF!+#REF!+#REF!+'GDO-FM-020'!D89 -> #REF! | D76: =+#REF!+#REF!+#REF!+#REF!+'GDO-FM-020'!E89 -> #REF! | E76: =+#REF!+#REF!+#REF!+#REF!+'GDO-FM-020'!H89 -> #REF! | F76: =+#REF!+#REF!+#REF!+#REF!+'GDO-FM-020'!I89 -> #REF! | G76: =SUM(B76:F76) -> #REF! | H76: =+#REF!+#REF! -> #REF! | I76: =+#REF!+#REF! -> #REF!
A77: 42475 | B77: =+#REF!+#REF!+#REF!+#REF!+'GDO-FM-020'!C90 -> #REF! | C77: =+#REF!+#REF!+#REF!+#REF!+'GDO-FM-020'!D90 -> #REF! | D77: =+#REF!+#REF!+#REF!+#REF!+'GDO-FM-020'!E90 -> #REF! | E77: =+#REF!+#REF!+#REF!+#REF!+'GDO-FM-020'!H90 -> #REF! | F77: =+#REF!+#REF!+#REF!+#REF!+'GDO-FM-020'!I90 -> #REF! | G77: =SUM(B77:F77) -> #REF! | H77: =+#REF!+#REF! -> #REF! | I77: =+#REF!+#REF! -> #REF!
A78: 42478 | B78: =+#REF!+#REF!+#REF!+#REF!+'GDO-FM-020'!C91 -> #REF! | C78: =+#REF!+#REF!+#REF!+#REF!+'GDO-FM-020'!D91 -> #REF! | D78: =+#REF!+#REF!+#REF!+#REF!+'GDO-FM-020'!E91 -> #REF! | E78: =+#REF!+#REF!+#REF!+#REF!+'GDO-FM-020'!H91 -> #REF! | F78: =+#REF!+#REF!+#REF!+#REF!+'GDO-FM-020'!I91 -> #REF! | G78: =SUM(B78:F78) -> #REF! | H78: =+#REF!+#REF! -> #REF! | I78: =+#REF!+#REF! -> #REF!
... A87: 42489 | B87: =+#REF!+#REF!+#REF!+#REF!+'GDO-FM-020'!C100 -> #REF! | C87: =+#REF!+#REF!+#REF!+#REF!+'GDO-FM-020'!D100 -> #REF! | D87: =+#REF!+#REF!+#REF!+#REF!+'GDO-FM-020'!E100 -> #REF! | E87: =+#REF!+#REF!+#REF!+#REF!+'GDO-FM-020'!H100 -> #REF! | F87: =+#REF!+#REF!+#REF!+#REF!+'GDO-FM-020'!I100 -> #REF! | G87: =SUM(B87:F87) -> #REF! | H87: =+#REF!+#REF! -> #REF! | I87: =+#REF!+#REF! -> #REF!
A88: TOTAL ABR. | B88: =SUM(B67:B87) -> #REF! | C88: =SUM(C67:C87) -> #REF! | D88: =SUM(D67:D87) -> #REF! | E88: =SUM(E67:E87) -> #REF! | F88: =SUM(F67:F87) -> #REF! | G88: =SUM(G67:G87) -> #REF! | H88: =SUM(H67:H87) -> #REF! | I88: =SUM(I67:I87) -> #REF!
A89: 42492 | B89: =+#REF!+#REF!+#REF!+#REF!+'GDO-FM-020'!C102 -> #REF! | C89: =+#REF!+#REF!+#REF!+#REF!+'GDO-FM-020'!D102 -> #REF! | D89: =+#REF!+#REF!+#REF!+#REF!+'GDO-FM-020'!E102 -> #REF! | E89: =+#REF!+#REF!+#REF!+#REF!+'GDO-FM-020'!H102 -> #REF! | F89: =+#REF!+#REF!+#REF!+#REF!+'GDO-FM-020'!I102 -> #REF! | G89: =SUM(B89:F89) -> #REF! | H89: =+#REF!+#REF! -> #REF! | I89: =+#REF!+#REF! -> #REF!
A90: 42493 | B90: =+#REF!+#REF!+#REF!+#REF!+'GDO-FM-020'!C103 -> #REF! | C90: =+#REF!+#REF!+#REF!+#REF!+'GDO-FM-020'!D103 -> #REF! | D90: =+#REF!+#REF!+#REF!+#REF!+'GDO-FM-020'!E103 -> #REF! | E90: =+#REF!+#REF!+#REF!+#REF!+'GDO-FM-020'!H103 -> #REF! | F90: =+#REF!+#REF!+#REF!+#REF!+'GDO-FM-020'!I103 -> #REF! | G90: =SUM(B90:F90) -> #REF! | H90: =+#REF!+#REF! -> #REF! | I90: =+#REF!+#REF! -> #REF!
A91: 42494 | B91: =+#REF!+#REF!+#REF!+#REF!+'GDO-FM-020'!C104 -> #REF! | C91: =+#REF!+#REF!+#REF!+#REF!+'GDO-FM-020'!D104 -> #REF! | D91: =+#REF!+#REF!+#REF!+#REF!+'GDO-FM-020'!E104 -> #REF! | E91: =+#REF!+#REF!+#REF!+#REF!+'GDO-FM-020'!H104 -> #REF! | F91: =+#REF!+#REF!+#REF!+#REF!+'GDO-FM-020'!I104 -> #REF! | G91: =SUM(B91:F91) -> #REF! | H91: =+#REF!+#REF! -> #REF! | I91: =+#REF!+#REF! -> #REF!
A92: 42495 | B92: =+#REF!+#REF!+#REF!+#REF!+'GDO-FM-020'!C105 -> #REF! | C92: =+#REF!+#REF!+#REF!+#REF!+'GDO-FM-020'!D105 -> #REF! | D92: =+#REF!+#REF!+#REF!+#REF!+'GDO-FM-020'!E105 -> #REF! | E92: =+#REF!+#REF!+#REF!+#REF!+'GDO-FM-020'!H105 -> #REF! | F92: =+#REF!+#REF!+#REF!+#REF!+'GDO-FM-020'!I105 -> #REF! | G92: =SUM(B92:F92) -> #REF! | H92: =+#REF!+#REF! -> #REF! | I92: =+#REF!+#REF! -> #REF!
A93: 42496 | B93: =+#REF!+#REF!+#REF!+#REF!+'GDO-FM-020'!C106 -> #REF! | C93: =+#REF!+#REF!+#REF!+#REF!+'GDO-FM-020'!D106 -> #REF! | D93: =+#REF!+#REF!+#REF!+#REF!+'GDO-FM-020'!E106 -> #REF! | E93: =+#REF!+#REF!+#REF!+#REF!+'GDO-FM-020'!H106 -> #REF! | F93: =+#REF!+#REF!+#REF!+#REF!+'GDO-FM-020'!I106 -> #REF! | G93: =SUM(B93:F93) -> #REF! | H93: =+#REF!+#REF! -> #REF! | I93: =+#REF!+#REF! -> #REF!
A94: 42500 | B94: =+#REF!+#REF!+#REF!+#REF!+'GDO-FM-020'!C107 -> #REF! | C94: =+#REF!+#REF!+#REF!+#REF!+'GDO-FM-020'!D107 -> #REF! | D94: =+#REF!+#REF!+#REF!+#REF!+'GDO-FM-020'!E107 -> #REF! | E94: =+#REF!+#REF!+#REF!+#REF!+'GDO-FM-020'!H107 -> #REF! | F94: =+#REF!+#REF!+#REF!+#REF!+'GDO-FM-020'!I107 -> #REF! | G94: =SUM(B94:F94) -> #REF! | H94: =+#REF!+#REF! -> #REF! | I94: =+#REF!+#REF! -> #REF!
A95: 42501 | B95: =+#REF!+#REF!+#REF!+#REF!+'GDO-FM-020'!C108 -> #REF! | C95: =+#REF!+#REF!+#REF!+#REF!+'GDO-FM-020'!D108 -> #REF! | D95: =+#REF!+#REF!+#REF!+#REF!+'GDO-FM-020'!E108 -> #REF! | E95: =+#REF!+#REF!+#REF!+#REF!+'GDO-FM-020'!H108 -> #REF! | F95: =+#REF!+#REF!+#REF!+#REF!+'GDO-FM-020'!I108 -> #REF! | G95: =SUM(B95:F95) -> #REF! | H95: =+#REF!+#REF! -> #REF! | I95: =+#REF!+#REF! -> #REF!
A96: 42502 | B96: =+#REF!+#REF!+#REF!+#REF!+'GDO-FM-020'!C109 -> #REF! | C96: =+#REF!+#REF!+#REF!+#REF!+'GDO-FM-020'!D109 -> #REF! | D96: =+#REF!+#REF!+#REF!+#REF!+'GDO-FM-020'!E109 -> #REF! | E96: =+#REF!+#REF!+#REF!+#REF!+'GDO-FM-020'!H109 -> #REF! | F96: =+#REF!+#REF!+#REF!+#REF!+'GDO-FM-020'!I109 -> #REF! | G96: =SUM(B96:F96) -> #REF! | H96: =+#REF!+#REF! -> #REF! | I96: =+#REF!+#REF! -> #REF!
A97: 42503 | B97: =+#REF!+#REF!+#REF!+#REF!+'GDO-FM-020'!C110 -> #REF! | C97: =+#REF!+#REF!+#REF!+#REF!+'GDO-FM-020'!D110 -> #REF! | D97: =+#REF!+#REF!+#REF!+#REF!+'GDO-FM-020'!E110 -> #REF! | E97: =+#REF!+#REF!+#REF!+#REF!+'GDO-FM-020'!H110 -> #REF! | F97: =+#REF!+#REF!+#REF!+#REF!+'GDO-FM-020'!I110 -> #REF! | G97: =SUM(B97:F97) -> #REF! | H97: =+#REF!+#REF! -> #REF! | I97: =+#REF!+#REF! -> #REF!
A98: 42506 | B98: =+#REF!+#REF!+#REF!+#REF!+'GDO-FM-020'!C111 -> #REF! | C98: =+#REF!+#REF!+#REF!+#REF!+'GDO-FM-020'!D111 -> #REF! | D98: =+#REF!+#REF!+#REF!+#REF!+'GDO-FM-020'!E111 -> #REF! | E98: =+#REF!+#REF!+#REF!+#REF!+'GDO-FM-020'!H111 -> #REF! | F98: =+#REF!+#REF!+#REF!+#REF!+'GDO-FM-020'!I111 -> #REF! | G98: =SUM(B98:F98) -> #REF! | H98: =+#REF!+#REF! -> #REF! | I98: =+#REF!+#REF! -> #REF!
A99: 42507 | B99: =+#REF!+#REF!+#REF!+#REF!+'GDO-FM-020'!C112 -> #REF! | C99: =+#REF!+#REF!+#REF!+#REF!+'GDO-FM-020'!D112 -> #REF! | D99: =+#REF!+#REF!+#REF!+#REF!+'GDO-FM-020'!E112 -> #REF! | E99: =+#REF!+#REF!+#REF!+#REF!+'GDO-FM-020'!H112 -> #REF! | F99: =+#REF!+#REF!+#REF!+#REF!+'GDO-FM-020'!I112 -> #REF! | G99: =SUM(B99:F99) -> #REF! | H99: =+#REF!+#REF! -> #REF! | I99: =+#REF!+#REF! -> #REF!
A100: 42508 | B100: =+#REF!+#REF!+#REF!+#REF!+'GDO-FM-020'!C113 -> #REF! | C100: =+#REF!+#REF!+#REF!+#REF!+'GDO-FM-020'!D113 -> #REF! | D100: =+#REF!+#REF!+#REF!+#REF!+'GDO-FM-020'!E113 -> #REF! | E100: =+#REF!+#REF!+#REF!+#REF!+'GDO-FM-020'!H113 -> #REF! | F100: =+#REF!+#REF!+#REF!+#REF!+'GDO-FM-020'!I113 -> #REF! | G100: =SUM(B100:F100) -> #REF! | H100: =+#REF!+#REF! -> #REF! | I100: =+#REF!+#REF! -> #REF!
... A108: 42521 | B108: =+#REF!+#REF!+#REF!+#REF!+'GDO-FM-020'!C121 -> #REF! | C108: =+#REF!+#REF!+#REF!+#REF!+'GDO-FM-020'!D121 -> #REF! | D108: =+#REF!+#REF!+#REF!+#REF!+'GDO-FM-020'!E121 -> #REF! | E108: =+#REF!+#REF!+#REF!+#REF!+'GDO-FM-020'!H121 -> #REF! | F108: =+#REF!+#REF!+#REF!+#REF!+'GDO-FM-020'!I121 -> #REF! | G108: =SUM(B108:F108) -> #REF! | H108: =+#REF!+#REF! -> #REF! | I108: =+#REF!+#REF! -> #REF!
A109: TOTAL MAY. | B109: =SUM(B89:B108) -> #REF! | C109: =SUM(C89:C108) -> #REF! | D109: =SUM(D89:D108) -> #REF! | E109: =SUM(E89:E108) -> #REF! | F109: =SUM(F89:F108) -> #REF! | G109: =SUM(G89:G108) -> #REF! | H109: =SUM(H89:H108) -> #REF! | I109: =SUM(I89:I108) -> #REF!
A110: 42522 | B110: =+#REF!+#REF!+#REF!+#REF!+'GDO-FM-020'!C123 -> #REF! | C110: =+#REF!+#REF!+#REF!+#REF!+'GDO-FM-020'!D123 -> #REF! | D110: =+#REF!+#REF!+#REF!+#REF!+'GDO-FM-020'!E123 -> #REF! | E110: =+#REF!+#REF!+#REF!+#REF!+'GDO-FM-020'!H123 -> #REF! | F110: =+#REF!+#REF!+#REF!+#REF!+'GDO-FM-020'!I123 -> #REF! | G110: =SUM(B110:F110) -> #REF! | H110: =+#REF!+#REF! -> #REF! | I110: =+#REF!+#REF! -> #REF!
A111: 42523 | B111: =+#REF!+#REF!+#REF!+#REF!+'GDO-FM-020'!C124 -> #REF! | C111: =+#REF!+#REF!+#REF!+#REF!+'GDO-FM-020'!D124 -> #REF! | D111: =+#REF!+#REF!+#REF!+#REF!+'GDO-FM-020'!E124 -> #REF! | E111: =+#REF!+#REF!+#REF!+#REF!+'GDO-FM-020'!H124 -> #REF! | F111: =+#REF!+#REF!+#REF!+#REF!+'GDO-FM-020'!I124 -> #REF! | G111: =SUM(B111:F111) -> #REF! | H111: =+#REF!+#REF! -> #REF! | I111: =+#REF!+#REF! -> #REF!
A112: 42524 | B112: =+#REF!+#REF!+#REF!+#REF!+'GDO-FM-020'!C125 -> #REF! | C112: =+#REF!+#REF!+#REF!+#REF!+'GDO-FM-020'!D125 -> #REF! | D112: =+#REF!+#REF!+#REF!+#REF!+'GDO-FM-020'!E125 -> #REF! | E112: =+#REF!+#REF!+#REF!+#REF!+'GDO-FM-020'!H125 -> #REF! | F112: =+#REF!+#REF!+#REF!+#REF!+'GDO-FM-020'!I125 -> #REF! | G112: =SUM(B112:F112) -> #REF! | H112: =+#REF!+#REF! -> #REF! | I112: =+#REF!+#REF! -> #REF!
A113: 42528 | B113: =+#REF!+#REF!+#REF!+#REF!+'GDO-FM-020'!C126 -> #REF! | C113: =+#REF!+#REF!+#REF!+#REF!+'GDO-FM-020'!D126 -> #REF! | D113: =+#REF!+#REF!+#REF!+#REF!+'GDO-FM-020'!E126 -> #REF! | E113: =+#REF!+#REF!+#REF!+#REF!+'GDO-FM-020'!H126 -> #REF! | F113: =+#REF!+#REF!+#REF!+#REF!+'GDO-FM-020'!I126 -> #REF! | G113: =SUM(B113:F113) -> #REF! | H113: =+#REF!+#REF! -> #REF! | I113: =+#REF!+#REF! -> #REF!
A114: 42529 | B114: =+#REF!+#REF!+#REF!+#REF!+'GDO-FM-020'!C127 -> #REF! | C114: =+#REF!+#REF!+#REF!+#REF!+'GDO-FM-020'!D127 -> #REF! | D114: =+#REF!+#REF!+#REF!+#REF!+'GDO-FM-020'!E127 -> #REF! | E114: =+#REF!+#REF!+#REF!+#REF!+'GDO-FM-020'!H127 -> #REF! | F114: =+#REF!+#REF!+#REF!+#REF!+'GDO-FM-020'!I127 -> #REF! | G114: =SUM(B114:F114) -> #REF! | H114: =+#REF!+#REF! -> #REF! | I114: =+#REF!+#REF! -> #REF!
A115: 42530 | B115: =+#REF!+#REF!+#REF!+#REF!+'GDO-FM-020'!C128 -> #REF! | C115: =+#REF!+#REF!+#REF!+#REF!+'GDO-FM-020'!D128 -> #REF! | D115: =+#REF!+#REF!+#REF!+#REF!+'GDO-FM-020'!E128 -> #REF! | E115: =+#REF!+#REF!+#REF!+#REF!+'GDO-FM-020'!H128 -> #REF! | F115: =+#REF!+#REF!+#REF!+#REF!+'GDO-FM-020'!I128 -> #REF! | G115: =SUM(B115:F115) -> #REF! | H115: =+#REF!+#REF! -> #REF! | I115: =+#REF!+#REF! -> #REF!
A116: 42531 | B116: =+#REF!+#REF!+#REF!+#REF!+'GDO-FM-020'!C129 -> #REF! | C116: =+#REF!+#REF!+#REF!+#REF!+'GDO-FM-020'!D129 -> #REF! | D116: =+#REF!+#REF!+#REF!+#REF!+'GDO-FM-020'!E129 -> #REF! | E116: =+#REF!+#REF!+#REF!+#REF!+'GDO-FM-020'!H129 -> #REF! | F116: =+#REF!+#REF!+#REF!+#REF!+'GDO-FM-020'!I129 -> #REF! | G116: =SUM(B116:F116) -> #REF! | H116: =+#REF!+#REF! -> #REF! | I116: =+#REF!+#REF! -> #REF!
A117: 42534 | B117: =+#REF!+#REF!+#REF!+#REF!+'GDO-FM-020'!C130 -> #REF! | C117: =+#REF!+#REF!+#REF!+#REF!+'GDO-FM-020'!D130 -> #REF! | D117: =+#REF!+#REF!+#REF!+#REF!+'GDO-FM-020'!E130 -> #REF! | E117: =+#REF!+#REF!+#REF!+#REF!+'GDO-FM-020'!H130 -> #REF! | F117: =+#REF!+#REF!+#REF!+#REF!+'GDO-FM-020'!I130 -> #REF! | G117: =SUM(B117:F117) -> #REF! | H117: =+#REF!+#REF! -> #REF! | I117: =+#REF!+#REF! -> #REF!
A118: 42535 | B118: =+#REF!+#REF!+#REF!+#REF!+'GDO-FM-020'!C131 -> #REF! | C118: =+#REF!+#REF!+#REF!+#REF!+'GDO-FM-020'!D131 -> #REF! | D118: =+#REF!+#REF!+#REF!+#REF!+'GDO-FM-020'!E131 -> #REF! | E118: =+#REF!+#REF!+#REF!+#REF!+'GDO-FM-020'!H131 -> #REF! | F118: =+#REF!+#REF!+#REF!+#REF!+'GDO-FM-020'!I131 -> #REF! | G118: =SUM(B118:F118) -> #REF! | H118: =+#REF!+#REF! -> #REF! | I118: =+#REF!+#REF! -> #REF!
A119: 42536 | B119: =+#REF!+#REF!+#REF!+#REF!+'GDO-FM-020'!C132 -> #REF! | C119: =+#REF!+#REF!+#REF!+#REF!+'GDO-FM-020'!D132 -> #REF! | D119: =+#REF!+#REF!+#REF!+#REF!+'GDO-FM-020'!E132 -> #REF! | E119: =+#REF!+#REF!+#REF!+#REF!+'GDO-FM-020'!H132 -> #REF! | F119: =+#REF!+#REF!+#REF!+#REF!+'GDO-FM-020'!I132 -> #REF! | G119: =SUM(B119:F119) -> #REF! | H119: =+#REF!+#REF! -> #REF! | I119: =+#REF!+#REF! -> #REF!
A120: 42537 | B120: =+#REF!+#REF!+#REF!+#REF!+'GDO-FM-020'!C133 -> #REF! | C120: =+#REF!+#REF!+#REF!+#REF!+'GDO-FM-020'!D133 -> #REF! | D120: =+#REF!+#REF!+#REF!+#REF!+'GDO-FM-020'!E133 -> #REF! | E120: =+#REF!+#REF!+#REF!+#REF!+'GDO-FM-020'!H133 -> #REF! | F120: =+#REF!+#REF!+#REF!+#REF!+'GDO-FM-020'!I133 -> #REF! | G120: =SUM(B120:F120) -> #REF! | H120: =+#REF!+#REF! -> #REF! | I120: =+#REF!+#REF! -> #REF!
A121: 42538 | B121: =+#REF!+#REF!+#REF!+#REF!+'GDO-FM-020'!C134 -> #REF! | C121: =+#REF!+#REF!+#REF!+#REF!+'GDO-FM-020'!D134 -> #REF! | D121: =+#REF!+#REF!+#REF!+#REF!+'GDO-FM-020'!E134 -> #REF! | E121: =+#REF!+#REF!+#REF!+#REF!+'GDO-FM-020'!H134 -> #REF! | F121: =+#REF!+#REF!+#REF!+#REF!+'GDO-FM-020'!I134 -> #REF! | G121: =SUM(B121:F121) -> #REF! | H121: =+#REF!+#REF! -> #REF! | I121: =+#REF!+#REF! -> #REF!
... A130: 42551 | B130: =+#REF!+#REF!+#REF!+#REF!+'GDO-FM-020'!C143 -> #REF! | C130: =+#REF!+#REF!+#REF!+#REF!+'GDO-FM-020'!D143 -> #REF! | D130: =+#REF!+#REF!+#REF!+#REF!+'GDO-FM-020'!E143 -> #REF! | E130: =+#REF!+#REF!+#REF!+#REF!+'GDO-FM-020'!H143 -> #REF! | F130: =+#REF!+#REF!+#REF!+#REF!+'GDO-FM-020'!I143 -> #REF! | G130: =SUM(B130:F130) -> #REF! | H130: =+#REF!+#REF! -> #REF! | I130: =+#REF!+#REF! -> #REF!
A131: TOTAL JUN. | B131: =SUM(B110:B130) -> #REF! | C131: =SUM(C110:C130) -> #REF! | D131: =SUM(D110:D130) -> #REF! | E131: =SUM(E110:E130) -> #REF! | F131: =SUM(F110:F130) -> #REF! | G131: =SUM(G110:G130) -> #REF! | H131: =SUM(H110:H130) -> #REF! | I131: =SUM(I110:I130) -> #REF!

Sheet GDO-FM-020
C2: PROCESO: GESTIÓN DOCUMENTAL | O2: Código | P2: GDO-FM-020
O3: Versión | P3: 002
C4: FORMATO: SEGUIMIENTO RADICACIÓN Y DIGITALIZACIÓN | O4: Fecha | P4: 45748
O5: Clasificación de la información | P5: Clasificada
B7: FUNCIONARIO RESPONSABLE:
B8: FECHA | C8: RADICACIÓN | K8: DIGITALIZACIÓN
C9: VENTANILLA | D9: CORREO | E9: INTERNO | F9: SALIDA | G9: WEB MASTER | H9: PORTAL WEB | I9: REASIGNACION (ROL ENRUTADOR) | J9: TOTAL | K9: # RADICACIONES | L9: # FOLIOS | M9: TOTAL | N9: # PRESTAMOS | O9: # FOLIOS | P9: TOTAL
B36: TOTAL ENE. | C36: =+SUM(C10:C35) -> 0 | D36: =+SUM(D10:D35) -> 0 | E36: =+SUM(E10:E35) -> 0 | F36: =+SUM(F10:F35) -> 0 | G36: =+SUM(G10:G35) -> 0 | H36: =+SUM(H10:H35) -> 0 | I36: =+SUM(I10:I35) -> 0 | J36: =SUM(C36:I36) -> 0 | K36: =+SUM(K10:K35) -> 0 | L36: =+SUM(L10:L35) -> 0 | M36: =+SUM(M10:M35) -> 0 | N36: =+SUM(N10:N35) -> 0 | O36: =+SUM(O10:O35) -> 0 | P36: =+SUM(P10:P35) -> 0
B58: TOTAL FEB. | C58: =+SUM(C37:C57) -> 0 | D58: =+SUM(D37:D57) -> 0 | E58: =+SUM(E37:E57) -> 0 | F58: =+SUM(F37:F57) -> 0 | G58: =+SUM(G37:G57) -> 0 | H58: =+SUM(H37:H57) -> 0 | I58: =+SUM(I37:I57) -> 0 | J58: =SUM(C58:I58) -> 0 | K58: =+SUM(K37:K57) -> 0 | L58: =+SUM(L37:L57) -> 0 | M58: =+SUM(M37:M57) -> 0 | N58: =+SUM(N37:N57) -> 0 | O58: =+SUM(O37:O57) -> 0 | P58: =+SUM(P37:P57) -> 0
B79: TOTAL MAR. | C79: =+SUM(C59:C78) -> 0 | D79: =+SUM(D59:D78) -> 0 | E79: =+SUM(E59:E78) -> 0 | F79: =+SUM(F59:F78) -> 0 | G79: =+SUM(G59:G78) -> 0 | H79: =+SUM(H59:H78) -> 0 | I79: =+SUM(I59:I78) -> 0 | J79: =SUM(C79:I79) -> 0 | K79: =+SUM(K59:K78) -> 0 | L79: =+SUM(L59:L78) -> 0 | M79: =+SUM(M59:M78) -> 0 | N79: =+SUM(N59:N78) -> 0 | O79: =+SUM(O59:O78) -> 0 | P79: =+SUM(P59:P78) -> 0
B101: TOTAL ABR. | C101: =+SUM(C80:C100) -> 0 | D101: =+SUM(D80:D100) -> 0 | E101: =+SUM(E80:E100) -> 0 | F101: =+SUM(F80:F100) -> 0 | G101: =+SUM(G80:G100) -> 0 | H101: =+SUM(H80:H100) -> 0 | I101: =+SUM(I80:I100) -> 0 | J101: =SUM(C101:I101) -> 0 | K101: =+SUM(K80:K100) -> 0 | L101: =+SUM(L80:L100) -> 0 | M101: =+SUM(M80:M100) -> 0 | N101: =+SUM(N80:N100) -> 0 | O101: =+SUM(O80:O100) -> 0 | P101: =+SUM(P80:P100) -> 0
B122: TOTAL MAY. | C122: =+SUM(C102:C121) -> 0 | D122: =+SUM(D102:D121) -> 0 | E122: =+SUM(E102:E121) -> 0 | F122: =+SUM(F102:F121) -> 0 | G122: =+SUM(G102:G121) -> 0 | H122: =+SUM(H102:H121) -> 0 | I122: =+SUM(I102:I121) -> 0 | J122: =SUM(C122:I122) -> 0 | K122: =+SUM(K102:K121) -> 0 | L122: =+SUM(L102:L121) -> 0 | M122: =+SUM(M102:M121) -> 0 | N122: =+SUM(N102:N121) -> 0 | O122: =+SUM(O102:O121) -> 0 | P122: =+SUM(P102:P121) -> 0
B144: TOTAL JUN. | C144: =+SUM(C123:C143) -> 0 | D144: =+SUM(D123:D143) -> 0 | E144: =+SUM(E123:E143) -> 0 | F144: =+SUM(F123:F143) -> 0 | G144: =+SUM(G123:G143) -> 0 | H144: =+SUM(H123:H143) -> 0 | I144: =+SUM(I123:I143) -> 0 | J144: =SUM(C144:I144) -> 0 | K144: =+SUM(K123:K143) -> 0 | L144: =+SUM(L123:L143) -> 0 | M144: =+SUM(M123:M143) -> 0 | N144: =+SUM(N123:N143) -> 0 | O144: =+SUM(O123:O143) -> 0 | P144: =+SUM(P123:P143) -> 0
B175: TOTAL JUL. | C175: =+SUM(C145:C174) -> 0 | D175: =+SUM(D145:D174) -> 0 | E175: =+SUM(E145:E174) -> 0 | F175: =+SUM(F145:F174) -> 0 | G175: =+SUM(G145:G174) -> 0 | H175: =+SUM(H145:H174) -> 0 | I175: =+SUM(I145:I174) -> 0 | J175: =SUM(C175:I175) -> 0 | K175: =+SUM(K145:K174) -> 0 | L175: =+SUM(L145:L174) -> 0 | M175: =+SUM(M145:M174) -> 0 | N175: =+SUM(N145:N174) -> 0 | O175: =+SUM(O145:O174) -> 0 | P175: =+SUM(P145:P174) -> 0
B207: TOTAL AGO. | C207: =+SUM(C176:C206) -> 0 | D207: =+SUM(D176:D206) -> 0 | E207: =+SUM(E176:E206) -> 0 | F207: =+SUM(F176:F206) -> 0 | G207: =+SUM(G176:G206) -> 0 | H207: =+SUM(H176:H206) -> 0 | I207: =+SUM(I176:I206) -> 0 | J207: =SUM(C207:I207) -> 0 | K207: =+SUM(K176:K206) -> 0 | L207: =+SUM(L176:L206) -> 0 | M207: =+SUM(M176:M206) -> 0 | N207: =+SUM(N176:N206) -> 0 | O207: =+SUM(O176:O206) -> 0 | P207: =+SUM(P176:P206) -> 0
B238: TOTAL SEP. | C238: =+SUM(C207:C237) -> 0 | D238: =+SUM(D207:D237) -> 0 | E238: =+SUM(E207:E237) -> 0 | F238: =+SUM(F207:F237) -> 0 | G238: =+SUM(G207:G237) -> 0 | H238: =+SUM(H207:H237) -> 0 | I238: =+SUM(I207:I237) -> 0 | J238: =SUM(C238:I238) -> 0 | K238: =+SUM(K207:K237) -> 0 | L238: =+SUM(L207:L237) -> 0 | M238: =+SUM(M207:M237) -> 0 | N238: =+SUM(N207:N237) -> 0 | O238: =+SUM(O207:O237) -> 0 | P238: =+SUM(P207:P237) -> 0
B270: TOTAL OCT. | C270: =+SUM(C239:C269) -> 0 | D270: =+SUM(D239:D269) -> 0 | E270: =+SUM(E239:E269) -> 0 | F270: =+SUM(F239:F269) -> 0 | G270: =+SUM(G239:G269) -> 0 | H270: =+SUM(H239:H269) -> 0 | I270: =+SUM(I239:I269) -> 0 | J270: =SUM(C270:I270) -> 0 | K270: =+SUM(K239:K269) -> 0 | L270: =+SUM(L239:L269) -> 0 | M270: =+SUM(M239:M269) -> 0 | N270: =+SUM(N239:N269) -> 0 | O270: =+SUM(O239:O269) -> 0 | P270: =+SUM(P239:P269) -> 0
B301: TOTAL NOV. | C301: =+SUM(C270:C300) -> 0 | D301: =+SUM(D270:D300) -> 0 | E301: =+SUM(E270:E300) -> 0 | F301: =+SUM(F270:F300) -> 0 | G301: =+SUM(G270:G300) -> 0 | H301: =+SUM(H270:H300) -> 0 | I301: =+SUM(I270:I300) -> 0 | J301: =SUM(C301:I301) -> 0 | K301: =+SUM(K270:K300) -> 0 | L301: =+SUM(L270:L300) -> 0 | M301: =+SUM(M270:M300) -> 0 | N301: =+SUM(N270:N300) -> 0 | O301: =+SUM(O270:O300) -> 0 | P301: =+SUM(P270:P300) -> 0
B333: TOTAL DIC. | C333: =+SUM(C302:C332) -> 0 | D333: =+SUM(D302:D332) -> 0 | E333: =+SUM(E302:E332) -> 0 | F333: =+SUM(F302:F332) -> 0 | G333: =+SUM(G302:G332) -> 0 | H333: =+SUM(H302:H332) -> 0 | I333: =+SUM(I302:I332) -> 0 | J333: =SUM(C333:I333) -> 0 | K333: =+SUM(K302:K332) -> 0 | L333: =+SUM(L302:L332) -> 0 | M333: =+SUM(M302:M332) -> 0 | N333: =+SUM(N302:N332) -> 0 | O333: =+SUM(O302:O332) -> 0 | P333: =+SUM(P302:P332) -> 0

Sheet CONTROL DE CAMBIOS
A1: Versión | B1: Fecha | C1: Descripción
A2: 002 | B2: 45737 | C2: Se registra la palabra Clasificada en el campo de Clasificación de la información. Se incluye la columna Interno. Se incluye la columna Salida. Se suprime la columna Fax. Se incluye la columna Asignación (Rol Enrutador). Se incluye columna Número de Préstamos. Se incluye columna Total. Se modificó la codificación, encabezado y control de cambios según la guía GIN-GU-003 Guía: Elaboración de los documentos del SGI.
