Workbook
Name Activos: #REF!
Name Activos: #REF!
Name Activos: #REF!
Name Activos: #REF!
Name Activos: #REF!
Name Activos: #REF!
Name Activos: #REF!
Name Activos: #REF!
Name Activos: #REF!
Name Activos: #REF!
Name ActivosP1: #REF!
Name ActivosP1: #REF!
Name ActivosP1: #REF!
Name ActivosP1: #REF!
Name ActivosP1: #REF!
Name ActivosP1: #REF!
Name ActivosP1: #REF!
Name ActivosP1: #REF!
Name ActivosP1: #REF!
Name ActivosP1: #REF!
Name ActivosP10: #REF!
Name ActivosP10: #REF!
Name ActivosP10: #REF!
Name ActivosP10: #REF!
Name ActivosP10: #REF!
Name ActivosP10: #REF!
Name ActivosP10: #REF!
Name ActivosP10: #REF!
Name ActivosP10: #REF!
Name ActivosP10: #REF!
Name ActivosP11: #REF!
Name ActivosP11: #REF!
Name ActivosP11: #REF!
Name ActivosP11: #REF!
Name ActivosP11: #REF!
Name ActivosP11: #REF!
Name ActivosP11: #REF!
Name ActivosP11: #REF!
Name ActivosP11: #REF!
Name ActivosP11: #REF!
Name Activosp11000: #REF!
Name Activosp11000: #REF!
Name Activosp11000: #REF!
Name Activosp11000: #REF!
Name Activosp11000: #REF!
Name Activosp11000: #REF!
Name Activosp11000: #REF!
Name Activosp11000: #REF!
Name Activosp11000: #REF!
Name Activosp11000: #REF!
Name ActivosP12: #REF!
Name ActivosP12: #REF!
Name ActivosP12: #REF!
Name ActivosP12: #REF!
Name ActivosP12: #REF!
Name ActivosP12: #REF!
Name ActivosP12: #REF!
Name ActivosP12: #REF!
Name ActivosP12: #REF!
Name ActivosP12: #REF!

Sheet Proyecto
D2: SUPERINTENDENCIA DE SOCIEDADES | K2: Codigo: GC-F-015
D3: SISTEMA DE GESTION INTEGRADO | K3: Fecha: 17 de septiembre de 2014
D4: PROCESO: GESTION INTEGRAL | K4: Version 001
D5: FORMATO: PLANEACION DE PROYECTOS | K5: Pagina 1 de 1
C7: NOMBRE DEL PROYECTO | E7: Tablero de control
C11: JUSTIFICACIÓN - OBJETIVO | E11: INDICADORES | G11: RECURSOS HUMANOS | I11: COMUNICACIONES INTERNAS | K11: RECURSOS FINANCIEROS
C13: INTERESADOS | E13: REQUERIMIENTOS | G13: ALCANCE | I13: EDT-ACTIVIDADES | K13: PLAN DE COMUNICACIONES
G15: RIESGOS - CRONOGRAMA

Sheet Justificación - Objetivo
D2: SUPERINTENDENCIA DE SOCIEDADES | K2: Codigo: GC-F-015 | M2: =Proyecto!K2 -> Codigo: GC-F-015
D3: SISTEMA DE GESTION INTEGRADO | K3: Fecha: 17 de septiembre de 2014 | M3: =Proyecto!K3 -> Fecha: 17 de septiembre de 2014
D4: PROCESO: GESTION INTEGRAL | K4: Version 001 | M4: =Proyecto!K4 -> Version 001
D5: FORMATO: PLANEACION DE PROYECTOS | K5: Pagina 1 de 1 | M5: Pagina 1 de 1
B7: NOMBRE DEL PROYECTO | D7: =Proyecto!$E$7 -> Tablero de control
B9: OBJETIVO ESTRATÉGICO | D9: Agilizar los procesos, para cuyo efecto se utilizarán las tecnologías de la información que sean necesarias para facilitar la gestión de la entidad
B11: ESTRATEGIA | D11: Generar modelos de información para escenarios de análisis y toma efectiva de decisiones
B13: OBJETIVOS DEL PROYECTO (Generales y específicos) | D13: TIPO | E13: Construir una herramienta que permita centralizar la información relevante y estratégica de la Entidad
D14: ESPECIFICO
B16: OBJETIVOS DEL PROYECTO (Generales y específicos) | D16: TIPO | E16: Visualizar la información de manera oportuna y confiable
D17: ESPECIFICO

Sheet Indicadores
D2: SUPERINTENDENCIA DE SOCIEDADES | I2: =Proyecto!K2 -> Codigo: GC-F-015
D3: SISTEMA DE GESTION INTEGRADO | I3: =Proyecto!K3 -> Fecha: 17 de septiembre de 2014
D4: PROCESO: GESTION INTEGRAL | I4: =Proyecto!K4 -> Version 001
D5: FORMATO: PLANEACION DE PROYECTOS | I5: Pagina 1 de 1
B7: NOMBRE DEL PROYECTO | D7: =Proyecto!$E$7 -> Tablero de control
B9: INDICADOR
B10: DESCRIPCIÓN | D10: Diseño de tablero de control que permitan tener estadisticas y reportes del estado de los procesos
B11: TIPO | D11: UNIDAD DE MEDIDA | F11: META | G11: FRECUENCIA DE MEDIDA | H11: TENDENCIA | I11: FÓRMULA DEL INDICADOR
B12: Efectividad | D12: Tblero de control | F12: 1 | G12: Mensual | H12: Ascendente | I12: Numero de tableros diseñados
B13: RESPONSABLE DE LA MEDICION | D13: Despacho

Sheet Recursos Humanos
C2: SUPERINTENDENCIA DE SOCIEDADES | G2: =Proyecto!K2 -> Codigo: GC-F-015
C3: SISTEMA DE GESTION INTEGRADO | G3: =Proyecto!K3 -> Fecha: 17 de septiembre de 2014
C4: PROCESO: GESTION INTEGRAL | G4: =Proyecto!K4 -> Version 001
C5: FORMATO: PLANEACION DE PROYECTOS | G5: Pagina 1 de 1
B7: NOMBRE DEL PROYECTO | C7: =Proyecto!$E$7 -> Tablero de control
B9: RECURSOS HUMANOS
B11: ROL | C11: NOMBRE | D11: RESPONSABILIDADES | E11: INT.-EXT. | F11: CAPACIDADES
B12: Patrocinador | C12: Jefe Oficina Asesora de Planeación | D12: Responsable por el desarrollo exitoso del proyecto Toma decisiones claves en el proyecto Realizar gestión y ayuda en la solución imprevistos con las partes interesadas y el equipo del proyecto | E12: Interno | F12: NA
B13: Gerente | C13: Coordinador grupo de arquitectura de negocio y del SGI | D13: Definir los Objetivos del Proyecto Define Plan de Trabajo Realiza seguimiento al plan de trabajo Coordina equipo de proyecto Realizar gestión sobre los recursos del proyecto Punto de contacto con el implementador externo y fabrica de Software Gestiona los riesgos del proyecto Elabora los estudios previos Cuando Aplique Liderar la gestión del cambio del proyecto | E13: Interno | F13: NA
B14: Lider funcional | C14: Profesional oficina asesora de planeación | D14: Especifica las necesidades técnicas de la solución Participa en el diseño de la solución Participa en las pruebas de la solución Verifica que la dependencia usuaria aprueba la solución | E14: Interno | F14: NA

Sheet Comunicaciones internas
C2: SUPERINTENDENCIA DE SOCIEDADES | G2: =Proyecto!K2 -> Codigo: GC-F-015
C3: SISTEMA DE GESTION INTEGRADO | G3: =Proyecto!K3 -> Fecha: 17 de septiembre de 2014
C4: PROCESO: GESTION INTEGRAL | G4: =Proyecto!K4 -> Version 001
C5: FORMATO: PLANEACION DE PROYECTOS | G5: Pagina 1 de 1
B7: Gestión de las comunicaciones entre los equipos de trabajo
B8: Toda comunicación con los interesados (incluido patrocinador y proveedor) se canalizara a través del gerente del proyecto y las instrucciones al líder funcional, las dara directamente el gerente del proyecto
B11: EQUIPO DE PROYECTO DE LA SUPERINTENDENCIA | E11: EQUIPO DE PROYECTO DEL PROVEEDOR
B13: NOMBRE | C13: ROL | E13: NOMBRE | F13: ROL | G13: mail | H13: telefono
B14: Ligia Rodriguez | C14: Patrocinador | E14: por definir | F14: Gerente proyecto fábrica de Software | G14: por deinir | H14: por definir
B15: Hoslander Sáenz | C15: Gerente del proyecto | E15: por definir | F15: Arquitecto de aplicaciones fábrica de software | G15: por deinir | H15: por definir
B16: Nelson Navarrete | C16: Líder funcional | E16: por definir | F16: Analista de negocio | G16: por deinir | H16: por definir

Sheet Recursos Financieros
C2: SUPERINTENDENCIA DE SOCIEDADES | G2: =Proyecto!K2 -> Codigo: GC-F-015
C3: SISTEMA DE GESTION INTEGRADO | G3: =Proyecto!K3 -> Fecha: 17 de septiembre de 2014
C4: PROCESO: GESTION INTEGRAL | G4: =Proyecto!K4 -> Version 001
C5: FORMATO: PLANEACION DE PROYECTOS | G5: Pagina 1 de 1
A6: =Proyecto!$E$7 -> Tablero de control
B7: NOMBRE DEL PROYECTO | C7: =Proyecto!$E$7 -> Tablero de control
B10: NO APLICA - PRESUPUESTO DE INVERSIÓN | C10: PRESUPUESTO DE INVERSIÓN
B12: NUMERO DE CDP | C12: N/A
B14: NÚMERO DE OBLIGACIÓN | C14: N/A
B16: APROPIACION INICIAL | C16: 0
B18: VALOR COMPROMETIDO | C18: 0
B20: VALOR OBLIGADO | C20: 0

Sheet Interesados
D2: SUPERINTENDENCIA DE SOCIEDADES | H2: =Proyecto!K2 -> Codigo: GC-F-015
D3: SISTEMA DE GESTION INTEGRADO | H3: =Proyecto!K3 -> Fecha: 17 de septiembre de 2014
D4: PROCESO: GESTION INTEGRAL | H4: =Proyecto!K4 -> Version 001
D5: FORMATO: PLANEACION DE PROYECTOS | H5: Pagina 1 de 1
B7: NOMBRE DEL PROYECTO | D7: =Proyecto!$E$7 -> Tablero de control
B9: INTERESADOS
B11: NOMBRE | D11: CARGO | E11: TELEFONO | F11: CORREO ELECTRONICO | G11: INTERNO - EXTERNO | H11: POSICION FRENTE AL PROYECTO
B12: Dr. Francisco Reyes | D12: Superintendente de Sociedades | E12: 2201000 | F12: NA | G12: Interno | H12: A favor
B13: Dra. Ligia Rodriguez | D13: Secretaria General | E13: 2201000 | F13: NA | G13: Interno | H13: A favor
B14: Dr. José Miguel Mendoza | D14: Delegado Procedimiento Mercantiles | E14: 220100 | F14: NA | G14: Interno | H14: A favor
B15: Dr. Juan Antonio Duque | D15: Delegado de Asuntos Economicos y Contables | E15: 2201000 | F15: NA | G15: Interno | H15: A favor
B16: Dr. Juan Camilo Herrera | D16: Delegado Procedimiento de Insolvencia | E16: 2201000 | F16: NA | G16: Interno | H16: Neutral
B17: Dra. Maria Isabel Cañon | D17: Delegado Inspección Vigilancia y Control | E17: 2201000 | F17: NA | G17: Interno | H17: Neutral
B18: Dra. Ligia Rodriguez (e ) | D18: Jefe Oficina Asesora de Planeación | E18: 2201000 | F18: NA | G18: Interno | H18: A favor
B19: por definir | D19: Supervisor de la entidad para el contrato de fábrica de software | E19: 2201000 | F19: NA | G19: Interno | H19: A favor

Sheet Plan de comunicaciones
C2: SUPERINTENDENCIA DE SOCIEDADES | G2: =Proyecto!K2 -> Codigo: GC-F-015
C3: SISTEMA DE GESTION INTEGRADO | G3: =Proyecto!K3 -> Fecha: 17 de septiembre de 2014
C4: PROCESO: GESTION INTEGRAL | G4: =Proyecto!K4 -> Version 001
C5: FORMATO: PLANEACION DE PROYECTOS | G5: Pagina 1 de 1
B7: NOMBRE DEL PROYECTO | C7: =Proyecto!$E$7 -> Tablero de control
B10: PLAN DE COMUNICACIÓN
B12: NOMBRE DE INTERESADO | C12: TIPO DE COMUNICACIÓN | D12: OBJETIVO | E12: RESPONSABLE | F12: FRECUENCIA | G12: ENTREGABLE
B13: Dr. Francisco Reyes | C13: Reunión | D13: Presentar tableros de control donde se pueda visualizar la información de manera oportuna y confiable | E13: Gerente del Proyecto | F13: Mensual | G13: Tableros de control
B14: Dra. Ligia Rodriguez | C14: Reunión | D14: Presentar tableros de control donde se pueda visualizar la información de manera oportuna y confiable | E14: Gerente del Proyecto | F14: Mensual | G14: Tableros de control
B15: Dr. José Miguel Mendoza | C15: Reunión | D15: Presentar tableros de control donde se pueda visualizar la información de manera oportuna y confiable | E15: Gerente del Proyecto | F15: Mensual | G15: Tableros de control
B16: Dr. Juan Antonio Duque | C16: Reunión | D16: Presentar tableros de control donde se pueda visualizar la información de manera oportuna y confiable | E16: Gerente del Proyecto | F16: Mensual | G16: Tableros de control
B17: Dr. Juan Camilo Herrera | C17: Reunión | D17: Presentar tableros de control donde se pueda visualizar la información de manera oportuna y confiable | E17: Gerente del Proyecto | F17: Mensual | G17: Tableros de control
B18: Dra. Maria Isabel Cañon | C18: Reunión | D18: Presentar tableros de control donde se pueda visualizar la información de manera oportuna y confiable | E18: Gerente del Proyecto | F18: Mensual | G18: Tableros de control
B19: Por definir | C19: Mail | D19: Presentar avance del proyecto y ejecución presupuestal | E19: Gerente del Proyecto - Fabrica de software | F19: Quincenal | G19: Reporte de avance del proyecto
B20: Patrocinador | C20: Mail | D20: Presentar reporte de avance del proyecto en el que se validara el estado del proyecto y se buscaran acciones a posibles contingencias que pudieran presentarse | E20: Gerente del Proyecto | F20: Semanal | G20: Reporte de avance del proyecto

Sheet Requerimientos
C2: SUPERINTENDENCIA DE SOCIEDADES | G2: =Proyecto!K2 -> Codigo: GC-F-015
C3: SISTEMA DE GESTION INTEGRADO | G3: =Proyecto!K3 -> Fecha: 17 de septiembre de 2014
C4: PROCESO: GESTION INTEGRAL | G4: =Proyecto!K4 -> Version 001
C5: FORMATO: PLANEACION DE PROYECTOS | G5: Pagina 1 de 1
B7: NOMBRE DEL PROYECTO | C7: =Proyecto!$E$7 -> Tablero de control
B9: REQUERIMIENTOS DEL PROYECTO
B11: DESCRIPCIÓN DEL REQUERIMIENTO | D11: CÓDIGO REQUERIMIENTO | E11: NOMBRE DEL SOLICITANTE | F11: ALCANCE DEL PROYECTO / ENTREGABLE AFECTADO | G11: FECHA DE CUMPLIMIENTO | H11: CRITERIO DE ACEPTACIÓN
B12: Definir tramites que permitan obtener estadisticas | E12: Ligia Rodriguez | F12: Totalidad del proyecto | G12: 42335 | H12: Tramites claros y que permitan realizar seguimiento tanto de entradas y salidas del proceso asi como estadisticas de gestión

Sheet Alcance
D2: SUPERINTENDENCIA DE SOCIEDADES | M2: =Proyecto!K2 -> Codigo: GC-F-015
D3: SISTEMA DE GESTION INTEGRADO | M3: =Proyecto!K3 -> Fecha: 17 de septiembre de 2014
D4: PROCESO: GESTION INTEGRAL | M4: =Proyecto!K4 -> Version 001
D5: FORMATO: PLANEACION DE PROYECTOS | M5: Pagina 1 de 1
B7: NOMBRE DEL PROYECTO | D7: =Proyecto!$E$7 -> Tablero de control
B10: DESCRIPCIÓN DEL ALCANCE | D10: Desde el levantamiento de la información hasta el diseño de casos de uso, diseño de prototipos y construcción de los reportes
B12: EXCLUSIONES DEL PROYECTO | D12: El proyecto no incluye la definición de indicadores procesos de apoyo, ni procesos no automatizados en el año 2015
B14: RESTRICCIONES DEL PROYECTO | D14: Recursos economicos para ejecutar el portafolio de arqutiectura empresarial año 2015 Dependencia del resultado del proyecto calidad de datos misionales
B16: SUPUESTOS DEL PROYECTO | D16: Fabrica de Software
B18: ENTREGABLES DEL PROYECTO | D18: Tableros de control diseñado con casos de uso y prototipos
B20: CRITERIOS DE ACEPTACIÓN DEL PRODUCTO | D20: Tablero diseñado para visualizar estado y comportamiento de las Delegaturas y de la Entidad a traves de tableros de control y cuadros de mando Alertas para tomar acciones preventivas

Sheet EDT- Actividades
C2: SUPERINTENDENCIA DE SOCIEDADES | K2: =Proyecto!K2 -> Codigo: GC-F-015
C3: SISTEMA DE GESTION INTEGRADO | K3: =Proyecto!K3 -> Fecha: 17 de septiembre de 2014
C4: PROCESO: GESTION INTEGRAL | K4: =Proyecto!K4 -> Version 001
C5: FORMATO: PLANEACION DE PROYECTOS | K5: Pagina 1 de 1
B7: NOMBRE DEL PROYECTO | D7: =Proyecto!$E$7 -> Tablero de control
B9: ACTIVIDADES | C9: ENTREGABLES | D9: METAS | E9: PESO DE LA ACTIVIDAD | F9: RESPONSABLES | G9: FECHA PROGRAMADA DE INICIO | H9: FECHA PROGRAMADA DE FINALIZACIÓN | I9: DURACIÓN DE LA ACTIVIDAD (Semanas) | J9: EVIDENCIA Ó AVANCES DE LOS ENTREGABLES | K9: FECHA CIERRE | L9: PORCENTAJE DE CUMPLIMIENTO
B10: Inicio | C10: Definición del equipo del proyecto Project Charter | D10: 1 | E10: 0.1 | F10: Gerente de proyecto - Líder funcional | G10: 42128 | H10: 42152 | I10: =(H10-G10)/7 -> 3.4285714 | J10: Aprobación final del plan del proyecto | K10: 42144 | L10: 0.1
B11: Planeación | C11: Formato planeación de proyectos | D11: 1 | E11: 0.15 | F11: Líder funcional | G11: 42135 | H11: 42153 | I11: =(H11-G11)/7 -> 2.5714286 | J11: Se diligencio el formato definido para la planeación del proyecto | K11: 42144 | L11: 0.15
B12: Ejecución | C12: Documento casos de uso Diseño prototipo. | D12: 1 Tablero con max 5 indicadores e Informes | E12: 0.5 | F12: Fábrica de software - Líder funcional - Líder de pruebas | G12: 42142 | H12: 42367 | I12: =(H12-G12)/7 -> 32.142857 | J12: Se realizo levantamiento de los indicadores de la delegatura de IVC, Procedimientos Mercantiles y se revisaron los de insolvencia, Se entrego a fábrica de software casos de uso para el tablero de control de expediente digital. Se definieron los casos de uso de los indicadores y/o reportes para los procesos automatizados en el año 2015 | K12: 42354 | L12: 0.5
B13: Seguimiento y Control | C13: Reuniones de trabajo | D13: 1 | E13: 0.15 | F13: Gerente del Proyecto | G13: 42128 | H13: 42368 | I13: =(H13-G13)/7 -> 34.285714 | J13: Se realizaron reuniones con el analista funcional para el diseño de los casos de uso y prototipos | K13: 42368 | L13: 0.15
B14: Cierre | C14: Mail de envío de documento a la fábrica de software | D14: 1 | E14: 0.1 | F14: Gerente del Proyecto - Líder funcional | G14: 42339 | H14: 42368 | I14: =(H14-G14)/7 -> 4.1428571 | J14: Se envío correo el 16 de diciembre con los casos de uso para consturcción de prototipos tablero de control interno y externo | K14: 42354 | L14: 0.1
L15: =SUM(L10:L14) -> 1

Sheet Riesgos-Cronograma
D2: SUPERINTENDENCIA DE SOCIEDADES | M2: =Proyecto!K2 -> Codigo: GC-F-015
D3: SISTEMA DE GESTION INTEGRADO | M3: =Proyecto!K3 -> Fecha: 17 de septiembre de 2014
D4: PROCESO: GESTION INTEGRAL | M4: =Proyecto!K4 -> Version 001
D5: FORMATO: PLANEACION DE PROYECTOS | M5: Pagina 1 de 1
B7: NOMBRE DEL PROYECTO | D7: Tableros de control
B10: GESTION DE RIESGOS DEL PROYECTO
B11: * Se adopta la metodologia establecida por la entidad - el reporte de riesgos se podra consultar en la herramienta ERA KAIROS.
B13: CRONOGRAMA DE ACTIVIDADES
B14: * El cronograma se realizara en MS Project y sera remitido junto con el presente formato a la Oficina Asesora de Planeacion.

Sheet No tocar
A4: Tipo de objetivo | C4: Tipos de indicadores | E4: Tendencia de indicador | G4: Roles | I4: interno - externo | K4: Posicion en el proyecto | O4: Tipo de comunicación | Q4: FRECUENCIA DE MEDIDA
A5: GENERAL | C5: Eficacia | E5: Ascendente | G5: Patrocinador | I5: Interno | K5: A favor | M5: NO APLICA | O5: Mail | Q5: Diario
A6: ESPECIFICO | C6: Eficiencia | E6: Descendente | G6: Gerente | I6: Externo | K6: Neutral | M6: PRESUPUESTO DE INVERSIÓN | O6: Oficio | Q6: Semanal
C7: Efectividad | G7: Lider funcional | K7: En contra | O7: Memorando | Q7: Quincenal
O8: Reunión | Q8: Mensual
O9: Telefónica | Q9: Bimensual
O10: Electrónica | Q10: Trimestral
O11: Acto administrativo | Q11: Semestral
Q12: Anual
Q14: FRECUENCIA DE COMUNICACIÓN
Q15: Diario
Q16: Semanal
Q17: Quincenal
Q18: Mensual
Q19: Bimensual
Q20: Trimestral
Q21: Semestral
Q22: Anual
Q23: Según requerimiento
