Workbook
Name Activos: #REF!
Name Activos: #REF!
Name Activos: #REF!
Name Activos: #REF!
Name Activos: #REF!
Name Activos: #REF!
Name Activos: #REF!
Name Activos: #REF!
Name Activos: #REF!
Name Activos: #REF!
Name ActivosP1: #REF!
Name ActivosP1: #REF!
Name ActivosP1: #REF!
Name ActivosP1: #REF!
Name ActivosP1: #REF!
Name ActivosP1: #REF!
Name ActivosP1: #REF!
Name ActivosP1: #REF!
Name ActivosP1: #REF!
Name ActivosP1: #REF!
Name ActivosP10: #REF!
Name ActivosP10: #REF!
Name ActivosP10: #REF!
Name ActivosP10: #REF!
Name ActivosP10: #REF!
Name ActivosP10: #REF!
Name ActivosP10: #REF!
Name ActivosP10: #REF!
Name ActivosP10: #REF!
Name ActivosP10: #REF!
Name ActivosP11: #REF!
Name ActivosP11: #REF!
Name ActivosP11: #REF!
Name ActivosP11: #REF!
Name ActivosP11: #REF!
Name ActivosP11: #REF!
Name ActivosP11: #REF!
Name ActivosP11: #REF!
Name ActivosP11: #REF!
Name ActivosP11: #REF!
Name Activosp11000: #REF!
Name Activosp11000: #REF!
Name Activosp11000: #REF!
Name Activosp11000: #REF!
Name Activosp11000: #REF!
Name Activosp11000: #REF!
Name Activosp11000: #REF!
Name Activosp11000: #REF!
Name Activosp11000: #REF!
Name Activosp11000: #REF!
Name ActivosP12: #REF!
Name ActivosP12: #REF!
Name ActivosP12: #REF!
Name ActivosP12: #REF!
Name ActivosP12: #REF!
Name ActivosP12: #REF!
Name ActivosP12: #REF!
Name ActivosP12: #REF!
Name ActivosP12: #REF!
Name ActivosP12: #REF!

Sheet Proyecto
D2: SUPERINTENDENCIA DE SOCIEDADES | K2: Codigo: GC-F-015
D3: SISTEMA DE GESTION INTEGRADO | K3: Fecha: 17 de septiembre de 2014
D4: PROCESO: GESTION INTEGRAL | K4: Version 001
D5: FORMATO: PLANEACION DE PROYECTOS | K5: Pagina 1 de 1
C7: NOMBRE DEL PROYECTO | E7: Revisión de requisitos para trámites societarios
C11: JUSTIFICACIÓN - OBJETIVO | E11: INDICADORES | G11: RECURSOS HUMANOS | I11: COMUNICACIONES INTERNAS | K11: RECURSOS FINANCIEROS
C13: INTERESADOS | E13: REQUERIMIENTOS | G13: ALCANCE | I13: EDT-ACTIVIDADES | K13: PLAN DE COMUNICACIONES
G15: RIESGOS - CRONOGRAMA

Sheet Justificación - Objetivo
D2: SUPERINTENDENCIA DE SOCIEDADES | K2: Codigo: GC-F-015 | M2: =Proyecto!K2 -> Codigo: GC-F-015
D3: SISTEMA DE GESTION INTEGRADO | K3: Fecha: 17 de septiembre de 2014 | M3: =Proyecto!K3 -> Fecha: 17 de septiembre de 2014
D4: PROCESO: GESTION INTEGRAL | K4: Version 001 | M4: =Proyecto!K4 -> Version 001
D5: FORMATO: PLANEACION DE PROYECTOS | K5: Pagina 1 de 1 | M5: Pagina 1 de 1
B7: NOMBRE DEL PROYECTO | D7: =Proyecto!$E$7 -> Revisión de requisitos para trámites societarios
B9: OBJETIVO ESTRATÉGICO | D9: Armonizar la doctrina con la jurisprudencia mercantil
B11: ESTRATEGIA | D11: Compilar las diferentes circulares de la superintendencia en un solo documento
B13: OBJETIVO DEL PROYECTO (Generales y específicos) | D13: TIPO | E13: Revisar los requisitos para los trámites societarios.
D14: GENERAL

Sheet Indicadores
D2: SUPERINTENDENCIA DE SOCIEDADES | I2: =Proyecto!K2 -> Codigo: GC-F-015
D3: SISTEMA DE GESTION INTEGRADO | I3: =Proyecto!K3 -> Fecha: 17 de septiembre de 2014
D4: PROCESO: GESTION INTEGRAL | I4: =Proyecto!K4 -> Version 001
D5: FORMATO: PLANEACION DE PROYECTOS | I5: Pagina 1 de 1
B7: NOMBRE DEL PROYECTO | D7: =Proyecto!$E$7 -> Revisión de requisitos para trámites societarios
B9: INDICADOR
B10: DESCRIPCIÓN | D10: Revisar los requisitos para los trámites societarios, mediante la elaboración de un proyecto para aprobación del Superintendente.
B11: TIPO | D11: UNIDAD DE MEDIDA | F11: META | G11: FRECUENCIA DE MEDIDA | H11: TENDENCIA | I11: FÓRMULA DEL INDICADOR
B12: Efectividad | D12: Proyecto presentado | F12: 1 | G12: Semestral | H12: Ascendente | I12: Entrega del proyecto circular/ resolución para la aprobación del Superintendente.
B13: RESPONSABLE DE LA MEDICION | D13: Delegado IVC

Sheet Recursos Humanos
C2: SUPERINTENDENCIA DE SOCIEDADES | G2: =Proyecto!K2 -> Codigo: GC-F-015
C3: SISTEMA DE GESTION INTEGRADO | G3: =Proyecto!K3 -> Fecha: 17 de septiembre de 2014
C4: PROCESO: GESTION INTEGRAL | G4: =Proyecto!K4 -> Version 001
C5: FORMATO: PLANEACION DE PROYECTOS | G5: Pagina 1 de 1
B7: NOMBRE DEL PROYECTO | C7: =Proyecto!$E$7 -> Revisión de requisitos para trámites societarios
B9: RECURSOS HUMANOS
B11: ROL | C11: NOMBRE | D11: RESPONSABILIDADES | E11: INT.-EXT. | F11: CAPACIDADES
B12: Patrocinador | C12: Delegado para Inspección Vigilancia y Control | D12: Responsable por el desarrollo exitoso del proyecto Toma decisiones claves en el proyecto Realizar gestión y ayuda en la solución imprevistos con las partes interesadas y el equipo del proyecto | E12: Interno | F12: Liderazgo y habilidades de comunicación
B13: Gerente | C13: Directora de Asuntos Especiales y Empresariales | D13: Definir los Objetivos del Proyecto Define Plan de Trabajo Realiza seguimiento al plan de trabajo Coordina equipo de proyecto Realizar gestión sobre los recursos del proyecto Punto de contacto con el implementador externo y fabrica de Software Gestiona los riesgos del proyecto Elabora los estudios previos Cuando Aplique Liderar la gestión del cambio del proyecto | E13: Interno | F13: Habilidades de gestión, dirección y organización
B14: Lider funcional | C14: Coordinador del Grupo de Trámites Societarios | D14: Especifica las necesidades técnicas de la solución Participa en el diseño de la solución Participa en las pruebas de la solución Verifica que la dependencia usuaria aprueba la solución | E14: Interno | F14: Seguimiento a la ejecución de las actividades del proyecto
B15: Líder técnico | C15: Coordinador del Grupo de Trámites Societarios | D15: Especifica las necesidades técnicas de la solución Construye documento funcional - casos de uso Realiza pruebas de los atributos de calidad de las aplicaciones Aclarar inquietudes técnicas de las aplicaciones que se integran con la solución a construir | E15: Interno | F15: Seguimiento a la ejecución de las actividades del proyecto

Sheet Comunicaciones internas
C2: SUPERINTENDENCIA DE SOCIEDADES | G2: =Proyecto!K2 -> Codigo: GC-F-015
C3: SISTEMA DE GESTION INTEGRADO | G3: =Proyecto!K3 -> Fecha: 17 de septiembre de 2014
C4: PROCESO: GESTION INTEGRAL | G4: =Proyecto!K4 -> Version 001
C5: FORMATO: PLANEACION DE PROYECTOS | G5: Pagina 1 de 1
B7: Gestión de las comunicaciones entre los equipos de trabajo
B11: EQUIPO DE PROYECTO DE LA SUPERINTENDENCIA | E11: EQUIPO DE PROYECTO DEL PROVEEDOR
B13: NOMBRE | C13: ROL | E13: NOMBRE | F13: ROL | G13: mail | H13: telefono
B14: Delegado para Inspección Vigilancia y Control / Doctor Andrés Alfonso Parias | C14: Patrocinador del Proyecto
B15: Directora de Asuntos Especiales y Empresariales | C15: Gerente
B16: Coordinador del Grupo de Trámites Societarios | C16: Lider Funcional

Sheet Recursos Financieros
C2: SUPERINTENDENCIA DE SOCIEDADES | G2: =Proyecto!K2 -> Codigo: GC-F-015
C3: SISTEMA DE GESTION INTEGRADO | G3: =Proyecto!K3 -> Fecha: 17 de septiembre de 2014
C4: PROCESO: GESTION INTEGRAL | G4: =Proyecto!K4 -> Version 001
C5: FORMATO: PLANEACION DE PROYECTOS | G5: Pagina 1 de 1
A6: =Proyecto!$E$7 -> Revisión de requisitos para trámites societarios
B7: NOMBRE DEL PROYECTO | C7: =Proyecto!$E$7 -> Revisión de requisitos para trámites societarios
B10: NO APLICA - PRESUPUESTO DE INVERSIÓN | C10: NO APLICA
B12: NUMERO DE CDP | C12: NO APLICA
B14: NÚMERO DE OBLIGACIÓN | C14: NO APLICA
B16: APROPIACION INICIAL | C16: 0
B18: VALOR COMPROMETIDO | C18: 0
B20: VALOR OBLIGADO | C20: 0

Sheet Interesados
D2: SUPERINTENDENCIA DE SOCIEDADES | H2: =Proyecto!K2 -> Codigo: GC-F-015
D3: SISTEMA DE GESTION INTEGRADO | H3: =Proyecto!K3 -> Fecha: 17 de septiembre de 2014
D4: PROCESO: GESTION INTEGRAL | H4: =Proyecto!K4 -> Version 001
D5: FORMATO: PLANEACION DE PROYECTOS | H5: Pagina 1 de 1
B7: NOMBRE DEL PROYECTO | D7: =Proyecto!$E$7 -> Revisión de requisitos para trámites societarios
B9: INTERESADOS
B11: NOMBRE | D11: CARGO | E11: TELEFONO | F11: CORREO ELECTRONICO | G11: INTERNO - EXTERNO | H11: POSICION FRENTE AL PROYECTO
B12: Francisco Reyes Villamizar | D12: Superintendente de Sociedades | E12: 2201000 | F12: FReyes@SUPERSOCIEDADES.GOV.CO | G12: Interno | H12: A favor
B13: Andrés Alfonso Parias Garzón | D13: Delegado para Inspección Vigilancia y Control | E13: 2201000 | F13: aparias@supersociedades.gov.co | G13: Interno | H13: A favor
B14: Maria Andrea López Casado | D14: Directora de Asuntos Especiales y Empresariales | E14: 2201000 | F14: mariaandreal@supersociedades.gov.co | G14: Interno | H14: A favor
B15: Jorge Aljuri | D15: Coordinador del Grupo de Trámites Societarios | E15: 2201000 | F15: jorgeal@supersociedades.gov.co | G15: Interno | H15: A favor

Sheet Plan de comunicaciones
C2: SUPERINTENDENCIA DE SOCIEDADES | G2: =Proyecto!K2 -> Codigo: GC-F-015
C3: SISTEMA DE GESTION INTEGRADO | G3: =Proyecto!K3 -> Fecha: 17 de septiembre de 2014
C4: PROCESO: GESTION INTEGRAL | G4: =Proyecto!K4 -> Version 001
C5: FORMATO: PLANEACION DE PROYECTOS | G5: Pagina 1 de 1
B7: NOMBRE DEL PROYECTO | C7: =Proyecto!$E$7 -> Revisión de requisitos para trámites societarios
B10: PLAN DE COMUNICACIÓN
B12: NOMBRE DE INTERESADO | C12: TIPO DE COMUNICACIÓN | D12: OBJETIVO | E12: FRECUENCIA | F12: RESPONSABLE | G12: ENTREGABLE
B13: Superintendente de Sociedades | C13: Reunión | D13: Conocer el borrador del proyecto propuesto | E13: Semestral | F13: Delegado IVC | G13: Proyecto propuesto
B14: Delegado para Inspección Vigilancia y Control | C14: Reunión | D14: Disponer del borrador del proyecto propuesto para presentación al Superintendente de Sociedades | E14: Semestral | F14: Directora de Asuntos Especiales y Empresariales/Coordinador del Grupo de Trámites Societarios | G14: Borrador del proyecto

Sheet Requerimientos
C2: SUPERINTENDENCIA DE SOCIEDADES | G2: =Proyecto!K2 -> Codigo: GC-F-015
C3: SISTEMA DE GESTION INTEGRADO | G3: =Proyecto!K3 -> Fecha: 17 de septiembre de 2014
C4: PROCESO: GESTION INTEGRAL | G4: =Proyecto!K4 -> Version 001
C5: FORMATO: PLANEACION DE PROYECTOS | G5: Pagina 1 de 1
B7: NOMBRE DEL PROYECTO | C7: =Proyecto!$E$7 -> Revisión de requisitos para trámites societarios
B9: REQUERIMIENTOS DEL PROYECTO
B11: DESCRIPCIÓN DEL REQUERIMIENTO | D11: CÓDIGO REQUERIMIENTO | E11: NOMBRE DEL SOLICITANTE | F11: ALCANCE DEL PROYECTO / ENTREGABLE AFECTADO | G11: FECHA DE CUMPLIMIENTO | H11: CRITERIO DE ACEPTACIÓN
B12: Recibir la propuesta del proyecto circular/resolución | D12: N/A | E12: Superintendente de Sociedades | F12: Propuesta aprobada por el Delegado de IVC | G12: 42258 | H12: La propuesta debe cumplir con los parametros establecidos.

Sheet Alcance
D2: SUPERINTENDENCIA DE SOCIEDADES | M2: =Proyecto!K2 -> Codigo: GC-F-015
D3: SISTEMA DE GESTION INTEGRADO | M3: =Proyecto!K3 -> Fecha: 17 de septiembre de 2014
D4: PROCESO: GESTION INTEGRAL | M4: =Proyecto!K4 -> Version 001
D5: FORMATO: PLANEACION DE PROYECTOS | M5: Pagina 1 de 1
B7: NOMBRE DEL PROYECTO | D7: =Proyecto!$E$7 -> Revisión de requisitos para trámites societarios
B10: DESCRIPCIÓN DEL ALCANCE | D10: Entregar la propuesta del proyecto circular/ resolución
B12: EXCLUSIONES DEL PROYECTO | D12: NA
B14: RESTRICCIONES DEL PROYECTO | D14: NA
B16: SUPUESTOS DEL PROYECTO | D16: NA
B18: ENTREGABLES DEL PROYECTO | D18: Propuesta del proyecto circular/ resolución
B20: CRITERIOS DE ACEPTACIÓN DEL PRODUCTO | D20: La propuesta debe cumplir con los parámetros establecidos.

Sheet EDT- Actividades
C2: SUPERINTENDENCIA DE SOCIEDADES | K2: =Proyecto!K2 -> Codigo: GC-F-015
C3: SISTEMA DE GESTION INTEGRADO | K3: =Proyecto!K3 -> Fecha: 17 de septiembre de 2014
C4: PROCESO: GESTION INTEGRAL | K4: =Proyecto!K4 -> Version 001
C5: FORMATO: PLANEACION DE PROYECTOS | K5: Pagina 1 de 1
B7: NOMBRE DEL PROYECTO | D7: =Proyecto!$E$7 -> Revisión de requisitos para trámites societarios
B9: DESCRIPCIÓN | D9: =+'Justificación - Objetivo'!E13 -> Revisar los requisitos para los trámites societarios.
B10: ACTIVIDADES | C10: ENTREGABLES | D10: METAS | E10: PESO DE LA ACTIVIDAD | F10: RESPONSABLES | G10: FECHA PROGRAMADA DE INICIO | H10: FECHA PROGRAMADA DE FINALIZACIÓN | I10: DURACIÓN DE LA ACTIVIDAD (Semanas) | J10: EVIDENCIA Ó AVANCES DE LOS ENTREGABLES | K10: FECHA CIERRE | L10: PORCENTAJE DE CUMPLIMIENTO
B11: Elaboración del borrador proyecto circular/ resolución con los requisitos para los trámites societarios. | C11: Borrador | D11: 1 | E11: 0.5 | F11: Coordinador del Grupo de Trámites Societarios | G11: 42115 | H11: 42185 | I11: =+(H11-G11)/7 -> 10 | J11: Se entrego el borrador del proyecto al Doctor Andrés Alfonso para su revisión, se están expidiendo anexos de homologación con las NIIF. | K11: 42185 | L11: 0.5
B12: Revisión y aprobación por parte del Doctor Andrés Alfonso Parias | C12: Proyecto circular / resolución | D12: 1 | E12: 0.5 | F12: Coordinador del Grupo de Trámites Societarios | G12: 42186 | H12: 42258 | I12: =+(H12-G12)/7 -> 10.285714 | J12: Circular revisada y aprobada por el Doctor Andrés Parias y firmada por el Superintendente de Sociedades | K12: 42207 | L12: 0.5

Sheet Riesgos-Cronograma
D2: SUPERINTENDENCIA DE SOCIEDADES | M2: =Proyecto!K2 -> Codigo: GC-F-015
D3: SISTEMA DE GESTION INTEGRADO | M3: =Proyecto!K3 -> Fecha: 17 de septiembre de 2014
D4: PROCESO: GESTION INTEGRAL | M4: =Proyecto!K4 -> Version 001
D5: FORMATO: PLANEACION DE PROYECTOS | M5: Pagina 1 de 1
B7: NOMBRE DEL PROYECTO | D7: =Proyecto!$E$7 -> Revisión de requisitos para trámites societarios
B10: GESTION DE RIESGOS DEL PROYECTO
B11: * Incumplimiento de las fechas programadas para entrega del proyecto circular/ resolución
B12: * Se adopta la metodologia establecida por la entidad - el reporte de riesgos se podra consultar en la herramienta ERA KAIROS.
B14: CRONOGRAMA DE ACTIVIDADES
B15: * El cronograma se realizara en MS Project y sera remitido junto con el presente formato a la Oficina Asesora de Planeacion.

Sheet No tocar
A4: Tipo de objetivo | C4: Tipos de indicadores | E4: Tendencia de indicador | G4: Roles | I4: interno - externo | K4: Posicion en el proyecto | O4: Tipo de comunicación | Q4: FRECUENCIA DE MEDIDA
A5: GENERAL | C5: Eficacia | E5: Ascendente | G5: Patrocinador | I5: Interno | K5: A favor | M5: NO APLICA | O5: Mail | Q5: Diario
A6: ESPECIFICO | C6: Eficiencia | E6: Descendente | G6: Gerente | I6: Externo | K6: Neutral | M6: PRESUPUESTO DE INVERSIÓN | O6: Oficio | Q6: Semanal
C7: Efectividad | G7: Lider funcional | K7: En contra | O7: Memorando | Q7: Quincenal
O8: Reunión | Q8: Mensual
O9: Telefónica | Q9: Bimensual
O10: Electrónica | Q10: Trimestral
O11: Acto administrativo | Q11: Semestral
Q12: Anual
Q14: FRECUENCIA DE COMUNICACIÓN
Q15: Diario
Q16: Semanal
Q17: Quincenal
Q18: Mensual
Q19: Bimensual
Q20: Trimestral
Q21: Semestral
Q22: Anual
Q23: Según requerimiento
